Workbook

Sheet PANEL DE CONTROL DISTRITAL
A1: INSTITUTO NACIONAL ELECTORAL SISTEMA DE GESTIÓN DE LA CALIDAD ESTADO DE MÉXICO
M2: Fecha de corte: 14/03/2025 | Q2: Version: 0
A4: TABLERO DE CONTROL DISTRITAL DE PROCESOS SUSTANTIVOS DEL SISTEMA DE GESTIÓN DE LA CALIDAD
A5: CAMPAÑA ANUAL INTENSA 2025
A6: Número | B6: PROCESOS SUSTANTIVOS E INDICADORES | I6: % AVANCE REGISTRADO | K6: % AVANCE REGISTRADO | M6: % AVANCE REGISTRADO | O6: % AVANCE REGISTRADO | Q6: % AVANCE REGISTRADO | S6: % AVANCE REGISTRADO | U6: % AVANCE REGISTRADO | W6: % AVANCE REGISTRADO | Y6: % AVANCE REGISTRADO | AA6: % AVANCE REGISTRADO | AC6: % AVANCE REGISTRADO | AE6: % AVANCE REGISTRADO | AG6: % AVANCE REGISTRADO | AI6: % AVANCE REGISTRADO | AK6: % AVANCE REGISTRADO | AM6: % AVANCE REGISTRADO | AO6: % AVANCE REGISTRADO | AQ6: % AVANCE REGISTRADO | AS6: % AVANCE REGISTRADO | AU6: % AVANCE REGISTRADO | AW6: % AVANCE REGISTRADO | AY6: % AVANCE REGISTRADO | BA6: % AVANCE REGISTRADO | BC6: % AVANCE REGISTRADO | BE6: % AVANCE REGISTRADO | BG6: % AVANCE REGISTRADO | BI6: % AVANCE REGISTRADO | BK6: % AVANCE REGISTRADO | BM6: % AVANCE REGISTRADO | BO6: % AVANCE REGISTRADO | BQ6: % AVANCE REGISTRADO | BS6: % AVANCE REGISTRADO | BU6: % AVANCE REGISTRADO | BW6: % AVANCE REGISTRADO | BY6: % AVANCE REGISTRADO | CA6: % AVANCE REGISTRADO | CC6: % AVANCE REGISTRADO | CE6: % AVANCE REGISTRADO | CG6: % AVANCE REGISTRADO | CI6: % AVANCE REGISTRADO | CK6: % AVANCE REGISTRADO
B7: DESCRIPCIÓN | E7: MEDICIÓN
B8: Proceso | C8: Dueño de Proceso | D8: Indicador | E8: Cálculo | F8: Periodo | G8: Estimado | H8: Nominativo | I8: Distrito 01 | K8: Distrito 02 | M8: Distrito 03 | O8: Distrito 04 | Q8: Distrito 05 | S8: Distrito 06 | U8: Distrito 07 | W8: Distrito 08 | Y8: Distrito 09 | AA8: Distrito 10 | AC8: Distrito 11 | AE8: Distrito 12 | AG8: Distrito 13 | AI8: Distrito 14 | AK8: Distrito 15 | AM8: Distrito 16 | AO8: Distrito 17 | AQ8: Distrito 18 | AS8: Distrito 19 | AU8: Distrito 20 | AW8: Distrito 21 | AY8: Distrito 22 | BA8: Distrito 23 | BC8: Distrito 24 | BE8: Distrito 25 | BG8: Distrito 26 | BI8: Distrito 27 | BK8: Distrito 28 | BM8: Distrito 29 | BO8: Distrito 30 | BQ8: Distrito 31 | BS8: Distrito 32 | BU8: Distrito 33 | BW8: Distrito 34 | BY8: Distrito 35 | CA8: Distrito 36 | CC8: Distrito 37 | CE8: Distrito 38 | CG8: Distrito 39 | CI8: Distrito 40 | CK8: Estatal
A9: 1 | B9: ENTREVISTA | C9: Auxiliar de Atención Ciudadana | D9: Fichas requisitadas correctamente= | E9: (Fichas requisitadas correctamente / Fichas revisadas en la muestra del 10%) x 100 | F9: Semanal (remesa) | G9: 0.9 | H9: Fichas requistadas correctamente | I9: =AVERAGE('150151'!AB10:AB11,'150152'!AB10:AB11,'150153'!AB10:AB11) -> 0.99779249 | K9: =AVERAGE('150251'!AB10:AB11,'150253'!AB10:AB11) -> 0.99778761 | M9: =AVERAGE('150351'!AB10:AB11,'150352'!AB10:AB11,'150353'!AB10:AB11) -> 1 | O9: =AVERAGE('150451'!AB10:AB11) -> 0.96418733 | Q9: =AVERAGE('150551'!AB10:AB11) -> 1 | S9: =AVERAGE('150651'!AB10:AB11,'150652'!AB10:AB11) -> 0.98985507 | U9: =AVERAGE('150751'!AB10:AB11) -> 1 | W9: =AVERAGE('150851'!AB10:AB11) -> 1 | Y9: =AVERAGE('150951'!AB10:AB11,'150952'!AB10:AB11,'150953'!AB10:AB11,'150954'!AB10:AB11) -> 1 | AA9: =AVERAGE('151051'!AB10:AB11) -> 1 | AC9: =AVERAGE('151151'!AB10:AB11) -> 1 | AE9: =AVERAGE('151251'!AB10:AB11,'151253'!AB10:AB11) -> 1 | AG9: =AVERAGE('151351'!AB10:AB11) -> 1 | AI9: =AVERAGE('151452'!AB10:AB11,'151453'!AB10:AB11) -> 1 | AK9: =AVERAGE('151551'!AB10:AB11) -> 1 | AM9: =AVERAGE('151651'!AB10:AB11,'151652'!AB10:AB11) -> 1 | AO9: =AVERAGE('151751'!AB10:AB11) -> 1 | AQ9: =AVERAGE('151851'!AB10:AB11,'151852'!AB10:AB11,'151853'!AB10:AB11) -> 1 | AS9: =AVERAGE('151951'!AB10:AB11,'151952'!AB10:AB11) -> 1 | AU9: =AVERAGE('152052'!AB10:AB11,'152053'!AB10:AB11,'152054'!AB10:AB11) -> 1 | AW9: =AVERAGE('152151'!AB10:AB11,'152152'!AB10:AB11) -> 0.99895616 | AY9: =AVERAGE('152251'!AB10:AB11,'152252'!AB10:AB11) -> 0.99628253 | BA9: =AVERAGE('152351'!AB10:AB11,'152352'!AB10:AB11,'152353'!AB10:AB11) -> 1 | BC9: =AVERAGE('152451'!AB10:AB11) -> 1 | BE9: =AVERAGE('152551'!AB10:AB11) -> 1 | BG9: =AVERAGE('152651'!AB10:AB11) -> 1 | BI9: =AVERAGE('152751'!AB10:AB11,'152752'!AB10:AB11,'152753'!AB10:AB11) -> 1 | BK9: =AVERAGE('152851'!AB10:AB11,'152853'!AB10:AB11) -> 1 | BM9: =AVERAGE('152951'!AB10:AB11) -> 1 | BO9: =AVERAGE('153051'!AB10:AB11,'153052'!AB10:AB11) -> 1 | BQ9: =AVERAGE('153151'!AB10:AB11) -> 0.99909502 | BS9: =AVERAGE('153251'!AB10:AB11) -> 1 | BU9: =AVERAGE('153351'!AB10:AB11) -> 1 | BW9: =AVERAGE('153451'!AB10:AB11) -> 1 | BY9: =AVERAGE('153551'!AB10:AB11,'153552'!AB10:AB11,'153553'!AB10:AB11) -> 1 | CA9: =AVERAGE('153651'!AB10:AB11,'153652'!AB10:AB11,'153653'!AB10:AB11,'153654'!AB10:AB11) -> 0.99917492 | CC9: =AVERAGE('153753'!AB10:AB11,'153752'!AB10:AB11) -> 0.9953271 | CE9: =AVERAGE('153851'!AB10:AB11,'153852'!AB10:AB11) -> 1 | CG9: =AVERAGE('153951'!AB10:AB11) -> 1 | CI9: =AVERAGE('154051'!AB10:AB11,'154052'!AB10:AB11,'154053'!AC10:AC11) -> 1 | CK9: =AVERAGE(I9,K9,M9,O9,Q9,S9,U9,W9,Y9,AA9,AC9,AE9,AG9,AI9,AK9,AM9,AO9,AQ9,AS9,AU9,AW9,AY9,BA9,BC9,BE9,BG9,BI9,BK9,BM9,BO9,BQ9,BS9,BU9,BW9,BY9,CA9,CC9,CE9,CG9,CI9) -> 0.99846146
H10: Fichas revisadas en la muestra del 10%
A12: 2 | B12: TRÁMITE | C12: Operador de Equipo Tecnológico | D12: Trámites exitosos efectivos= | E12: (Número de trámites exitosos / Número de trámites aplicados) x 100 | F12: Semanal (remesa) | G12: 0.9 | H12: Número de trámites exitosos | I12: =AVERAGE('150151'!AB13:AB14,'150152'!AB13:AB14,'150153'!AB13:AB14) -> 0.99748282 | K12: =AVERAGE('150251'!AB13:AB14,'150253'!AB13:AB14) -> 0.9977942 | M12: =AVERAGE('150351'!AB13:AB14,'150352'!AB13:AB14,'150353'!AB13:AB14) -> 0.96508677 | O12: =AVERAGE('150451'!AB13:AB14) -> 0.99713549 | Q12: =AVERAGE('150551'!AB13:AB14) -> 0.99684127 | S12: =AVERAGE('150651'!AB13:AB14,'150652'!AB13:AB14) -> 0.93352428 | U12: =AVERAGE('150751'!AB13:AB14) -> 0.98174048 | W12: =AVERAGE('150851'!AB13:AB14) -> 0.99866234 | Y12: =AVERAGE('150951'!AB13:AB14,'150952'!AB13:AB14,'150953'!AB13:AB14,'150954'!AB13:AB14) -> 0.92352543 | AA12: =AVERAGE('151051'!AB13:AB14) -> 0.99763733 | AC12: =AVERAGE('151151'!AB13:AB14) -> 0.99723909 | AE12: 1 | AG12: =AVERAGE('151351'!AB13:AB14) -> 0.99291349 | AI12: =AVERAGE('151452'!AB13:AB14,'151453'!AB13:AB14) -> 0.99636603 | AK12: =AVERAGE('151551'!AB13:AB14) -> 0.99698276 | AM12: =AVERAGE('151651'!AB13:AB14,'151652'!AB13:AB14) -> 0.99735444 | AO12: =AVERAGE('151751'!AB13:AB14) -> 0.99394256 | AQ12: =AVERAGE('151851'!AB13:AB14,'151852'!AB13:AB14,'151853'!AB13:AB14) -> 0.99765392 | AS12: =AVERAGE('151951'!AB13:AB14,'151952'!AB13:AB14) -> 0.99484955 | AU12: =AVERAGE('152052'!AB13:AB14,'152053'!AB13:AB14,'152054'!AB13:AB14) -> 0.99637178 | AW12: =AVERAGE('152151'!AB13:AB14,'152152'!AB13:AB14) -> 0.99375531 | AY12: =AVERAGE('152251'!AB13:AB14,'152252'!AB13:AB14) -> 0.99577756 | BA12: =AVERAGE('152351'!AB13:AB14,'152352'!AB13:AB14,'152353'!AB13:AB14) -> 0.99618959 | BC12: =AVERAGE('152451'!AB13:AB14) -> 1 | BE12: =AVERAGE('152551'!AB13:AB14) -> 0.99506687 | BG12: =AVERAGE('152651'!AB13:AB14) -> 0.92121582 | BI12: =AVERAGE('152751'!AB13:AB14,'152752'!AB13:AB14,'152753'!AB13:AB14) -> 0.99821304 | BK12: =AVERAGE('152851'!AB13:AB14,'152853'!AB13:AB14) -> 0.99831086 | BM12: =AVERAGE('152951'!AB13:AB14) -> 0.9999174 | BO12: =AVERAGE('153051'!AB13:AB14,'153052'!AB13:AB14) -> 0.97962298 | BQ12: =AVERAGE('153151'!AB13:AB14) -> 0.99421076 | BS12: =AVERAGE('153251'!AB13:AB14) -> 0.98949762 | BU12: =AVERAGE('153351'!AB13:AB14) -> 0.96666306 | BW12: =AVERAGE('153451'!AB13:AB14) -> 0.9955454 | BY12: =AVERAGE('153551'!AB13:AB14,'153552'!AB13:AB14,'153553'!AB13:AB14) -> 0.82469009 | CA12: =AVERAGE('153651'!AB13:AB14,'153652'!AB13:AB14,'153653'!AB13:AB14,'153654'!AB13:AB14) -> 0.99086865 | CC12: =AVERAGE('153753'!AB13:AB14,'153752'!AB13:AB14) -> 0.98900684 | CE12: =AVERAGE('153851'!AB13:AB14,'153852'!AB13:AB14) -> 0.98902073 | CG12: =AVERAGE('153951'!AB13:AB14) -> 0.99736432 | CI12: =AVERAGE('154051'!AB13:AB14,'154052'!AB13:AB14,'154053'!AC13:AC14) -> 0.99728601 | CK12: =AVERAGE(I12,K12,M12,O12,Q12,S12,U12,W12,Y12,AA12,AC12,AE12,AG12,AI12,AK12,AM12,AO12,AQ12,AS12,AU12,AW12,AY12,BA12,BC12,BE12,BG12,BI12,BK12,BM12,BO12,BQ12,BS12,BU12,BW12,BY12,CA12,CC12,CE12,CG12,CI12) -> 0.98413317
H13: Número de trámites aplicados
A15: 3 | B15: TRANSFERENCIA DE LA INFORMACIÓN | C15: Responsable de Módulo | D15: Reenvíos exitosos = | E15: (Ejecución de los scripts de reenvío de notificaciones/Solicitud de reenvíos de scripts requeridos) x100 | F15: Semanal (remesa) | G15: 1 | H15: Ejecución de los scripts de reenvío de notificaciones | I15: =AVERAGE('150151'!AB16:AB17,'150152'!AB16:AB17,'150153'!AB16:AB17) -> 1 | K15: =AVERAGE('150251'!AB16:AB17,'150253'!AB16:AB17) -> 1 | M15: =AVERAGE('150351'!AB16:AB17,'150352'!AB16:AB17,'150353'!AB16:AB17) -> 1 | O15: =AVERAGE('150451'!AB16:AB17) -> 1 | Q15: =AVERAGE('150551'!AB16:AB17) -> 1 | S15: =AVERAGE('150651'!AB16:AB17,'150652'!AB16:AB17) -> 1 | U15: =AVERAGE('150751'!AB16:AB17) -> 1 | W15: =AVERAGE('150851'!AB16:AB17) -> 1 | Y15: =AVERAGE('150951'!AB16:AB17,'150952'!AB16:AB17,'150953'!AB16:AB17,'150954'!AB16:AB17) -> 1 | AA15: =AVERAGE('151051'!AB16:AB17) -> 1 | AC15: =AVERAGE('151151'!AB16:AB17) -> 1 | AE15: 1 | AG15: =AVERAGE('151351'!AB16:AB17) -> 1 | AI15: =AVERAGE('151452'!AB16:AB17,'151453'!AB16:AB17) -> 1 | AK15: =AVERAGE('151551'!AB16:AB17) -> 1 | AM15: =AVERAGE('151651'!AB16:AB17,'151652'!AB16:AB17) -> 1 | AO15: =AVERAGE('151751'!AB16:AB17) -> 1 | AQ15: =AVERAGE('151851'!AB16:AB17,'151852'!AB16:AB17,'151853'!AB16:AB17) -> 1 | AS15: =AVERAGE('151951'!AB16:AB17,'151952'!AB16:AB17) -> 1 | AU15: =AVERAGE('152052'!AB16:AB17,'152053'!AB16:AB17,'152054'!AB16:AB17) -> 1 | AW15: =AVERAGE('152151'!AB16:AB17,'152152'!AB16:AB17) -> 1 | AY15: =AVERAGE('152251'!AB16:AB17,'152252'!AB16:AB17) -> 1 | BA15: =AVERAGE('152351'!AB16:AB17,'152352'!AB16:AB17,'152353'!AB16:AB17) -> 1 | BC15: =AVERAGE('152451'!AB16:AB17) -> 1 | BE15: =AVERAGE('152551'!AB16:AB17) -> 1 | BG15: =AVERAGE('152651'!AB16:AB17) -> 1 | BI15: =AVERAGE('152751'!AB16:AB17,'152752'!AB16:AB17,'152753'!AB16:AB17) -> 1 | BK15: =AVERAGE('152851'!AB16:AB17,'152853'!AB16:AB17) -> 1 | BM15: =AVERAGE('152951'!AB16:AB17) -> 1 | BO15: =AVERAGE('153051'!AB16:AB17,'153052'!AB16:AB17) -> 1 | BQ15: =AVERAGE('153151'!AB16:AB17) -> 1 | BS15: =AVERAGE('153251'!AB16:AB17) -> 1 | BU15: =AVERAGE('153351'!AB16:AB17) -> 1 | BW15: =AVERAGE('153451'!AB16:AB17) -> 1 | BY15: =AVERAGE('153551'!AB16:AB17,'153552'!AB16:AB17,'153553'!AB16:AB17) -> 1 | CA15: =AVERAGE('153651'!AB16:AB17,'153652'!AB16:AB17,'153653'!AB16:AB17,'153654'!AB16:AB17) -> 1 | CC15: =AVERAGE('153753'!AB16:AB17,'153752'!AB16:AB17) -> 1 | CE15: =AVERAGE('153851'!AB16:AB17,'153852'!AB16:AB17) -> 1 | CG15: =AVERAGE('153951'!AB16:AB17) -> 1 | CI15: =AVERAGE('154051'!AB16:AB17,'154052'!AB16:AB17,'154053'!AC16:AC17) -> 1 | CK15: =AVERAGE(I15,K15,M15,O15,Q15,S15,U15,W15,Y15,AA15,AC15,AE15,AG15,AI15,AK15,AM15,AO15,AQ15,AS15,AU15,AW15,AY15,BA15,BC15,BE15,BG15,BI15,BK15,BM15,BO15,BQ15,BS15,BU15,BW15,BY15,CA15,CC15,CE15,CG15,CI15) -> 1
H16: Solicitud de reevíos de scripts requeridos
A18: 4 | B18: CONCILIACIÓN DE CREDENCIALES PARA VOTAR | C18: Responsable de Módulo | D18: Credenciales disponibles para entrega = | E18: [(Credenciales recibidas - credenciales inconsistentes) / Credenciales recibidas] x 100 | F18: Semanal (remesa) | G18: 0.9 | H18: Credenciales Recibidas - Credenciales inconsistentes | I18: =AVERAGE('150151'!AB19:AB20,'150152'!AB19:AB20,'150153'!AB19:AB20) -> 1 | K18: =AVERAGE('150251'!AB19:AB20,'150253'!AB19:AB20) -> 1 | M18: =AVERAGE('150351'!AB19:AB20,'150352'!AB19:AB20,'150353'!AB19:AB20) -> 1 | O18: =AVERAGE('150451'!AB19:AB20) -> 1 | Q18: =AVERAGE('150551'!AB19:AB20) -> 1 | S18: =AVERAGE('150651'!AB19:AB20,'150652'!AB19:AB20) -> 1 | U18: =AVERAGE('150751'!AB19:AB20) -> 1 | W18: =AVERAGE('150851'!AB19:AB20) -> 1 | Y18: =AVERAGE('150951'!AB19:AB20,'150952'!AB19:AB20,'150953'!AB19:AB20,'150954'!AB19:AB20) -> 1 | AA18: =AVERAGE('151051'!AB19:AB20) -> 1 | AC18: =AVERAGE('151151'!AB19:AB20) -> 1 | AE18: =AVERAGE('151251'!AB19:AB20,'151253'!AB19:AB20) -> 1 | AG18: =AVERAGE('151351'!AB19:AB20) -> 1 | AI18: =AVERAGE('151452'!AB19:AB20,'151453'!AB19:AB20) -> 1 | AK18: =AVERAGE('151551'!AB19:AB20) -> 1 | AM18: =AVERAGE('151651'!AB19:AB20,'151652'!AB19:AB20) -> 1 | AO18: =AVERAGE('151751'!AB19:AB20) -> 1 | AQ18: =AVERAGE('151851'!AB19:AB20,'151852'!AB19:AB20,'151853'!AB19:AB20) -> 1 | AS18: =AVERAGE('151951'!AB19:AB20,'151952'!AB19:AB20) -> 1 | AU18: =AVERAGE('152052'!AB19:AB20,'152053'!AB19:AB20,'152054'!AB19:AB20) -> 1 | AW18: =AVERAGE('152151'!AB19:AB20,'152152'!AB19:AB20) -> 1 | AY18: =AVERAGE('152251'!AB19:AB20,'152252'!AB19:AB20) -> 1 | BA18: =AVERAGE('152351'!AB19:AB20,'152352'!AB19:AB20,'152353'!AB19:AB20) -> 1 | BC18: =AVERAGE('152451'!AB19:AB20) -> 1 | BE18: =AVERAGE('152551'!AB19:AB20) -> 0.99978714 | BG18: =AVERAGE('152651'!AB19:AB20) -> 1 | BI18: =AVERAGE('152751'!AB19:AB20,'152752'!AB19:AB20,'152753'!AB19:AB20) -> 1 | BK18: =AVERAGE('152851'!AB19:AB20,'152853'!AB19:AB20) -> 1 | BM18: =AVERAGE('152951'!AB19:AB20) -> 1 | BO18: =AVERAGE('153051'!AB19:AB20,'153052'!AB19:AB20) -> 1 | BQ18: =AVERAGE('153151'!AB19:AB20) -> 1 | BS18: =AVERAGE('153251'!AB19:AB20) -> 1 | BU18: =AVERAGE('153351'!AB19:AB20) -> 1 | BW18: =AVERAGE('153451'!AB19:AB20) -> 1 | BY18: =AVERAGE('153551'!AB19:AB20,'153552'!AB19:AB20,'153553'!AB19:AB20) -> 1 | CA18: =AVERAGE('153651'!AB19:AB20,'153652'!AB19:AB20,'153653'!AB19:AB20,'153654'!AB19:AB20) -> 1 | CC18: =AVERAGE('153753'!AB19:AB20,'153752'!AB19:AB20) -> 1 | CE18: =AVERAGE('153851'!AB19:AB20,'153852'!AB19:AB20) -> 1 | CG18: =AVERAGE('153951'!AB19:AB20) -> 1 | CI18: =AVERAGE('154051'!AB19:AB20,'154052'!AB19:AB20,'154053'!AC19:AC20) -> 1 | CK18: =AVERAGE(I18,K18,M18,O18,Q18,S18,U18,W18,Y18,AA18,AC18,AE18,AG18,AI18,AK18,AM18,AO18,AQ18,AS18,AU18,AW18,AY18,BA18,BC18,BE18,BG18,BI18,BK18,BM18,BO18,BQ18,BS18,BU18,BW18,BY18,CA18,CC18,CE18,CG18,CI18) -> 0.99999468
H19: Credenciales recibidas
A21: 5 | B21: CONCILIACIÓN DE CREDENCIALES PARA VOTAR | C21: Responsable de Módulo | D21: Arqueo de Credenciales = | E21: (Credenciales disponibles (físicas)/ Credenciales disponibles registradas en SIIRFE) x 100 | F21: Semanal (remesa) | G21: 1 | H21: Credenciales disponibles (físicas) | I21: =AVERAGE('150151'!AB22:AB23,'150152'!AB22:AB23,'150153'!AB22:AB23) -> 1 | K21: =AVERAGE('150251'!AB22:AB23,'150253'!AB22:AB23) -> 1 | M21: =AVERAGE('150351'!AB22:AB23,'150352'!AB22:AB23,'150353'!AB22:AB23) -> 1 | O21: =AVERAGE('150451'!AB22:AB23) -> 1.0084041 | Q21: =AVERAGE('150551'!AB22:AB23) -> 1 | S21: =AVERAGE('150651'!AB22:AB23,'150652'!AB22:AB23) -> 1 | U21: =AVERAGE('150751'!AB22:AB23) -> 1 | W21: =AVERAGE('150851'!AB22:AB23) -> 1 | Y21: =AVERAGE('150951'!AB22:AB23,'150952'!AB22:AB23,'150953'!AB22:AB23,'150954'!AB22:AB23) -> 1 | AA21: =AVERAGE('151051'!AB22:AB23) -> 1 | AC21: =AVERAGE('151151'!AB22:AB23) -> 1 | AE21: =AVERAGE('151251'!AB22:AB23,'151253'!AB22:AB23) -> 1 | AG21: =AVERAGE('151351'!AB22:AB23) -> 0.99972543 | AI21: =AVERAGE('151452'!AB22:AB23,'151453'!AB22:AB23) -> 1 | AK21: =AVERAGE('151551'!AB22:AB23) -> 1 | AM21: =AVERAGE('151651'!AB22:AB23,'151652'!AB22:AB23) -> 1 | AO21: =AVERAGE('151751'!AB22:AB23) -> 1 | AQ21: =AVERAGE('151851'!AB22:AB23,'151852'!AB22:AB23,'151853'!AB22:AB23) -> 1 | AS21: =AVERAGE('151951'!AB22:AB23,'151952'!AB22:AB23) -> 1 | AU21: =AVERAGE('152052'!AB22:AB23,'152053'!AB22:AB23,'152054'!AB22:AB23) -> 1 | AW21: =AVERAGE('152151'!AB22:AB23,'152152'!AB22:AB23) -> 1 | AY21: =AVERAGE('152251'!AB22:AB23,'152252'!AB22:AB23) -> 1 | BA21: =AVERAGE('152351'!AB22:AB23,'152352'!AB22:AB23,'152353'!AB22:AB23) -> 1 | BC21: =AVERAGE('152451'!AB22:AB23) -> 1 | BE21: =AVERAGE('152551'!AB22:AB23) -> 1 | BG21: =AVERAGE('152651'!AB22:AB23) -> 1 | BI21: =AVERAGE('152751'!AB22:AB23,'152752'!AB22:AB23,'152753'!AB22:AB23) -> 1 | BK21: =AVERAGE('152851'!AB22:AB23,'152853'!AB22:AB23) -> 1 | BM21: =AVERAGE('152951'!AB22:AB23) -> 1 | BO21: =AVERAGE('153051'!AB22:AB23,'153052'!AB22:AB23) -> 1 | BQ21: =AVERAGE('153151'!AB22:AB23) -> 1 | BS21: =AVERAGE('153251'!AB22:AB23) -> 1 | BU21: =AVERAGE('153351'!AB22:AB23) -> 1 | BW21: =AVERAGE('153451'!AB22:AB23) -> 1 | BY21: =AVERAGE('153551'!AB22:AB23,'153552'!AB22:AB23,'153553'!AB22:AB23) -> 1 | CA21: =AVERAGE('153651'!AB22:AB23,'153652'!AB22:AB23,'153653'!AB22:AB23,'153654'!AB22:AB23) -> 1 | CC21: =AVERAGE('153753'!AB22:AB23,'153752'!AB22:AB23) -> 1 | CE21: =AVERAGE('153851'!AB22:AB23,'153852'!AB22:AB23) -> 1 | CG21: =AVERAGE('153951'!AB22:AB23) -> 1.000222 | CI21: =AVERAGE('154051'!AB22:AB23,'154052'!AB22:AB23,'154053'!AC22:AC23) -> 1 | CK21: =AVERAGE(I21,K21,M21,O21,Q21,S21,U21,W21,Y21,AA21,AC21,AE21,AG21,AI21,AK21,AM21,AO21,AQ21,AS21,AU21,AW21,AY21,BA21,BC21,BE21,BG21,BI21,BK21,BM21,BO21,BQ21,BS21,BU21,BW21,BY21,CA21,CC21,CE21,CG21,CI21) -> 1.0002088
H22: Credenciales disponibles registradas en SIIRFE
A24: 6 | B24: ENTREGA DE LA CREDENCIAL PARA VOTAR | C24: Operador de Equipo Tecnológico | D24: Efectividad de entrega de CPV en MAC = | E24: (Total de credenciales entregadas / Total de ciudadanas y ciudadanos que acuden al MAC a recoger su credencial) x 100 | F24: Semanal (remesa) | G24: 0.9 | H24: Total de credenciales entregadas | I24: =AVERAGE('150151'!AB25:AB26,'150152'!AB25:AB26,'150153'!AB25:AB26) -> 0.99956541 | K24: =AVERAGE('150251'!AB25:AB26,'150253'!AB25:AB26) -> 0.99946944 | M24: =AVERAGE('150351'!AB25:AB26,'150352'!AB25:AB26,'150353'!AB25:AB26) -> 0.99973505 | O24: =AVERAGE('150451'!AB25:AB26) -> 1 | Q24: =AVERAGE('150551'!AB25:AB26) -> 0.99831812 | S24: =AVERAGE('150651'!AB25:AB26,'150652'!AB25:AB26) -> 0.999728 | U24: =AVERAGE('150751'!AB25:AB26) -> 1 | W24: =AVERAGE('150851'!AB25:AB26) -> 1 | Y24: =AVERAGE('150951'!AB25:AB26,'150952'!AB25:AB26,'150953'!AB25:AB26,'150954'!AB25:AB26) -> 0.9987982 | AA24: =AVERAGE('151051'!AB25:AB26) -> 1 | AC24: =AVERAGE('151151'!AB25:AB26) -> 1 | AE24: =AVERAGE('151251'!AB25:AB26,'151253'!AB25:AB26) -> 1 | AG24: =AVERAGE('151351'!AB25:AB26) -> 0.99949051 | AI24: =AVERAGE('151452'!AB25:AB26,'151453'!AB25:AB26) -> 1 | AK24: =AVERAGE('151551'!AB25:AB26) -> 1 | AM24: =AVERAGE('151651'!AB25:AB26,'151652'!AB25:AB26) -> 1 | AO24: =AVERAGE('151751'!AB25:AB26) -> 1 | AQ24: =AVERAGE('151851'!AB25:AB26,'151852'!AB25:AB26,'151853'!AB25:AB26) -> 1 | AS24: =AVERAGE('151951'!AB25:AB26,'151952'!AB25:AB26) -> 1 | AU24: =AVERAGE('152052'!AB25:AB26,'152053'!AB25:AB26,'152054'!AB25:AB26) -> 1 | AW24: =AVERAGE('152151'!AB25:AB26,'152152'!AB25:AB26) -> 1 | AY24: =AVERAGE('152251'!AB25:AB26,'152252'!AB25:AB26) -> 0.998651 | BA24: =AVERAGE('152351'!AB25:AB26,'152352'!AB25:AB26,'152353'!AB25:AB26) -> 1 | BC24: =AVERAGE('152451'!AB25:AB26) -> 1 | BE24: =AVERAGE('152551'!AB25:AB26) -> 0.99989806 | BG24: =AVERAGE('152651'!AB25:AB26) -> 1 | BI24: =AVERAGE('152751'!AB25:AB26,'152752'!AB25:AB26,'152753'!AB25:AB26) -> 0.99938404 | BK24: =AVERAGE('152851'!AB25:AB26,'152853'!AB25:AB26) -> 0.99943741 | BM24: =AVERAGE('152951'!AB25:AB26) -> 1 | BO24: =AVERAGE('153051'!AB25:AB26,'153052'!AB25:AB26) -> 0.99924634 | BQ24: =AVERAGE('153151'!AB25:AB26) -> 0.99971823 | BS24: =AVERAGE('153251'!AB25:AB26) -> 1 | BU24: =AVERAGE('153351'!AB25:AB26) -> 1 | BW24: =AVERAGE('153451'!AB25:AB26) -> 0.9996873 | BY24: =AVERAGE('153551'!AB25:AB26,'153552'!AB25:AB26,'153553'!AB25:AB26) -> 1 | CA24: =AVERAGE('153651'!AB25:AB26,'153652'!AB25:AB26,'153653'!AB25:AB26,'153654'!AB25:AB26) -> 1 | CC24: =AVERAGE('153753'!AB25:AB26,'153752'!AB25:AB26) -> 0.9980042 | CE24: =AVERAGE('153851'!AB25:AB26,'153852'!AB25:AB26) -> 1 | CG24: =AVERAGE('153951'!AB25:AB26) -> 1 | CI24: =AVERAGE('154051'!AB25:AB26,'154052'!AB25:AB26,'154053'!AC25:AC26) -> 0.99972246 | CK24: =AVERAGE(I24,K24,M24,O24,Q24,S24,U24,W24,Y24,AA24,AC24,AE24,AG24,AI24,AK24,AM24,AO24,AQ24,AS24,AU24,AW24,AY24,BA24,BC24,BE24,BG24,BI24,BK24,BM24,BO24,BQ24,BS24,BU24,BW24,BY24,CA24,CC24,CE24,CG24,CI24) -> 0.99972134
H25: Total de ciudadanas y ciudadanos que acuden al MAC a recoger su credencial

Sheet 150151
A1: ='PANEL DE CONTROL DISTRITAL'!A1:Q1 -> INSTITUTO NACIONAL ELECTORAL SISTEMA DE GESTIÓN DE LA CALIDAD ESTADO DE MÉXICO
D2: Distrito | E2: 1 | F2: Módulo | H2: 150151
A4: TABLERO DE CONTROL DE PROCESOS SUSTANTIVOS DEL SISTEMA DE GESTIÓN DE LA CALIDAD
A6: ='PANEL DE CONTROL DISTRITAL'!A6 -> Número | B6: ='PANEL DE CONTROL DISTRITAL'!B6 -> PROCESOS SUSTANTIVOS E INDICADORES | I6: SEMANA OPERATIVA | AB6: % AVANCE REGISTRADO
B7: ='PANEL DE CONTROL DISTRITAL'!B7 -> DESCRIPCIÓN | E7: ='PANEL DE CONTROL DISTRITAL'!E7 -> MEDICIÓN | I7: ='PANEL DE CONTROL DISTRITAL'!A5 -> CAMPAÑA ANUAL INTENSA 2025
B9: ='PANEL DE CONTROL DISTRITAL'!B8 -> Proceso | C9: ='PANEL DE CONTROL DISTRITAL'!C8 -> Dueño de Proceso | D9: ='PANEL DE CONTROL DISTRITAL'!D8 -> Indicador | E9: ='PANEL DE CONTROL DISTRITAL'!E8 -> Cálculo | F9: ='PANEL DE CONTROL DISTRITAL'!F8 -> Periodo | G9: ='PANEL DE CONTROL DISTRITAL'!G8 -> Estimado | H9: ='PANEL DE CONTROL DISTRITAL'!H8 -> Nominativo | I9: ='150151'!I9 -> 2025-41 | J9: ='150151'!J9 -> 2025-42 | K9: ='150151'!K9 -> 2025-43 | L9: ='150151'!L9 -> 2025-44 | M9: ='150151'!M9 -> 2025-45 | N9: ='150151'!N9 -> 2025-46 | O9: ='150151'!O9 -> 2025-47 | P9: ='150151'!P9 -> 2025-48 | ... Z9: ='150151'!Z9 -> 2025-58 | AA9: 2025-59
A10: ='PANEL DE CONTROL DISTRITAL'!A9 -> 1 | B10: ='PANEL DE CONTROL DISTRITAL'!B9 -> ENTREVISTA | C10: ='PANEL DE CONTROL DISTRITAL'!C9 -> Auxiliar de Atención Ciudadana | D10: ='PANEL DE CONTROL DISTRITAL'!D9 -> Fichas requisitadas correctamente= | E10: ='PANEL DE CONTROL DISTRITAL'!E9 -> (Fichas requisitadas correctamente / Fichas revisadas en la muestra del 10%) x 100 | F10: ='PANEL DE CONTROL DISTRITAL'!F9 -> Semanal (remesa) | G10: ='PANEL DE CONTROL DISTRITAL'!G9 -> 0.9 | H10: ='PANEL DE CONTROL DISTRITAL'!H9 -> Fichas requistadas correctamente | I10: 0 | J10: 47 | K10: 35 | L10: 45 | M10: 48 | N10: 40 | O10: 44 | P10: 35 | Q10: 28 | AB10: =IFERROR(SUM(I10:AA10)/SUM(I11:AA11),0) -> 1
H11: ='PANEL DE CONTROL DISTRITAL'!H10 -> Fichas revisadas en la muestra del 10% | I11: 0 | J11: 47 | K11: 35 | L11: 45 | M11: 48 | N11: 40 | O11: 44 | P11: 35 | Q11: 28
A13: ='PANEL DE CONTROL DISTRITAL'!A12 -> 2 | B13: ='PANEL DE CONTROL DISTRITAL'!B12 -> TRÁMITE | C13: ='PANEL DE CONTROL DISTRITAL'!C12 -> Operador de Equipo Tecnológico | D13: ='PANEL DE CONTROL DISTRITAL'!D12 -> Trámites exitosos efectivos= | E13: ='PANEL DE CONTROL DISTRITAL'!E12 -> (Número de trámites exitosos / Número de trámites aplicados) x 100 | F13: ='PANEL DE CONTROL DISTRITAL'!F12 -> Semanal (remesa) | G13: ='PANEL DE CONTROL DISTRITAL'!G12 -> 0.9 | H13: ='PANEL DE CONTROL DISTRITAL'!H12 -> Número de trámites exitosos | I13: 0 | J13: 466 | K13: 348 | L13: 446 | M13: 475 | N13: 399 | O13: 437 | P13: 345 | Q13: 278 | AB13: =IFERROR(SUM(I13:AA13)/SUM(I14:AA14),0) -> 0.99781318
H14: ='PANEL DE CONTROL DISTRITAL'!H13 -> Número de trámites aplicados | I14: 0 | J14: 466 | K14: 348 | L14: 448 | M14: 476 | N14: 399 | O14: 437 | P14: 347 | Q14: 280
A16: ='PANEL DE CONTROL DISTRITAL'!A15 -> 3 | B16: ='PANEL DE CONTROL DISTRITAL'!B15 -> TRANSFERENCIA DE LA INFORMACIÓN | C16: ='PANEL DE CONTROL DISTRITAL'!C15 -> Responsable de Módulo | D16: ='PANEL DE CONTROL DISTRITAL'!D15 -> Reenvíos exitosos = | E16: ='PANEL DE CONTROL DISTRITAL'!E15 -> (Ejecución de los scripts de reenvío de notificaciones/Solicitud de reenvíos de scripts requeridos) x100 | F16: ='PANEL DE CONTROL DISTRITAL'!F15 -> Semanal (remesa) | G16: ='PANEL DE CONTROL DISTRITAL'!G15 -> 1 | H16: ='PANEL DE CONTROL DISTRITAL'!H15 -> Ejecución de los scripts de reenvío de notificaciones | I16: 0 | J16: 0 | K16: 0 | L16: 0 | M16: 0 | N16: 0 | O16: 0 | P16: 0 | Q16: 0 | AB16: =IFERROR(SUM(I16:AA16)/SUM(I17:AA17),1) -> 1
H17: ='PANEL DE CONTROL DISTRITAL'!H16 -> Solicitud de reevíos de scripts requeridos | I17: 0 | J17: 0 | K17: 0 | L17: 0 | M17: 0 | N17: 0 | O17: 0 | P17: 0 | Q17: 0
A19: ='PANEL DE CONTROL DISTRITAL'!A18 -> 4 | B19: ='PANEL DE CONTROL DISTRITAL'!B18 -> CONCILIACIÓN DE CREDENCIALES PARA VOTAR | C19: ='PANEL DE CONTROL DISTRITAL'!C18 -> Responsable de Módulo | D19: ='PANEL DE CONTROL DISTRITAL'!D18 -> Credenciales disponibles para entrega = | E19: ='PANEL DE CONTROL DISTRITAL'!E18 -> [(Credenciales recibidas - credenciales inconsistentes) / Credenciales recibidas] x 100 | F19: ='PANEL DE CONTROL DISTRITAL'!F18 -> Semanal (remesa) | G19: ='PANEL DE CONTROL DISTRITAL'!G18 -> 0.9 | H19: ='PANEL DE CONTROL DISTRITAL'!H18 -> Credenciales Recibidas - Credenciales inconsistentes | I19: 0 | J19: 523 | K19: 241 | L19: 589 | M19: 479 | N19: 414 | O19: 438 | P19: 405 | Q19: 318 | AB19: =IFERROR(SUM(I19:AA19)/SUM(I20:AA20),0) -> 1
H20: ='PANEL DE CONTROL DISTRITAL'!H19 -> Credenciales recibidas | I20: 0 | J20: 523 | K20: 241 | L20: 589 | M20: 479 | N20: 414 | O20: 438 | P20: 405 | Q20: 318
A22: ='PANEL DE CONTROL DISTRITAL'!A21 -> 5 | B22: ='PANEL DE CONTROL DISTRITAL'!B21 -> CONCILIACIÓN DE CREDENCIALES PARA VOTAR | C22: ='PANEL DE CONTROL DISTRITAL'!C21 -> Responsable de Módulo | D22: ='PANEL DE CONTROL DISTRITAL'!D21 -> Arqueo de Credenciales = | E22: ='PANEL DE CONTROL DISTRITAL'!E21 -> (Credenciales disponibles (físicas)/ Credenciales disponibles registradas en SIIRFE) x 100 | F22: ='PANEL DE CONTROL DISTRITAL'!F21 -> Semanal (remesa) | G22: ='PANEL DE CONTROL DISTRITAL'!G21 -> 1 | H22: ='PANEL DE CONTROL DISTRITAL'!H21 -> Credenciales disponibles (físicas) | I22: 0 | J22: 657 | K22: 436 | L22: 606 | M22: 656 | N22: 604 | O22: 631 | P22: 620 | Q22: 566 | AB22: =IFERROR(SUM(I22:AA22)/SUM(I23:AA23),0) -> 1
H23: ='PANEL DE CONTROL DISTRITAL'!H22 -> Credenciales disponibles registradas en SIIRFE | I23: 0 | J23: 657 | K23: 436 | L23: 606 | M23: 656 | N23: 604 | O23: 631 | P23: 620 | Q23: 566
A25: ='PANEL DE CONTROL DISTRITAL'!A24 -> 6 | B25: ='PANEL DE CONTROL DISTRITAL'!B24 -> ENTREGA DE LA CREDENCIAL PARA VOTAR | C25: ='PANEL DE CONTROL DISTRITAL'!C24 -> Operador de Equipo Tecnológico | D25: ='PANEL DE CONTROL DISTRITAL'!D24 -> Efectividad de entrega de CPV en MAC = | E25: ='PANEL DE CONTROL DISTRITAL'!E24 -> (Total de credenciales entregadas / Total de ciudadanas y ciudadanos que acuden al MAC a recoger su credencial) x 100 | F25: ='PANEL DE CONTROL DISTRITAL'!F24 -> Semanal (remesa) | G25: ='PANEL DE CONTROL DISTRITAL'!G24 -> 0.9 | H25: ='PANEL DE CONTROL DISTRITAL'!H24 -> Total de credenciales entregadas | I25: 0 | J25: 445 | K25: 462 | L25: 417 | M25: 429 | N25: 466 | O25: 411 | P25: 416 | Q25: 372 | AB25: =IFERROR(SUM(I25:AA25)/SUM(I26:AA26),0) -> 1
H26: ='PANEL DE CONTROL DISTRITAL'!H25 -> Total de ciudadanas y ciudadanos que acuden al MAC a recoger su credencial | I26: 0 | J26: 445 | K26: 462 | L26: 417 | M26: 429 | N26: 466 | O26: 411 | P26: 416 | Q26: 372
B27: *Registre el valor nominal solicitado en la celda, el resultado proporcional esta automatizado.
I29: Semaforización
J30: Valor que requiere atención y justificación en el apartado de observaciones
J31: Valor suficiente
J32: Valor esperado
B34: CUADRO DE OBSERVACIONES
B35: Descripción | H35: No conformidad

Sheet 150152
A1: ='PANEL DE CONTROL DISTRITAL'!A1:Q1 -> INSTITUTO NACIONAL ELECTORAL SISTEMA DE GESTIÓN DE LA CALIDAD ESTADO DE MÉXICO
D2: Distrito | E2: 1 | F2: Módulo | H2: 150152
A4: TABLERO DE CONTROL DE PROCESOS SUSTANTIVOS DEL SISTEMA DE GESTIÓN DE LA CALIDAD
A6: ='PANEL DE CONTROL DISTRITAL'!A6 -> Número | B6: ='PANEL DE CONTROL DISTRITAL'!B6 -> PROCESOS SUSTANTIVOS E INDICADORES | I6: SEMANA OPERATIVA | AB6: % AVANCE REGISTRADO
B7: ='PANEL DE CONTROL DISTRITAL'!B7 -> DESCRIPCIÓN | E7: ='PANEL DE CONTROL DISTRITAL'!E7 -> MEDICIÓN | I7: ='PANEL DE CONTROL DISTRITAL'!A5 -> CAMPAÑA ANUAL INTENSA 2025
B9: ='PANEL DE CONTROL DISTRITAL'!B8 -> Proceso | C9: ='PANEL DE CONTROL DISTRITAL'!C8 -> Dueño de Proceso | D9: ='PANEL DE CONTROL DISTRITAL'!D8 -> Indicador | E9: ='PANEL DE CONTROL DISTRITAL'!E8 -> Cálculo | F9: ='PANEL DE CONTROL DISTRITAL'!F8 -> Periodo | G9: ='PANEL DE CONTROL DISTRITAL'!G8 -> Estimado | H9: ='PANEL DE CONTROL DISTRITAL'!H8 -> Nominativo | I9: ='150151'!I9 -> 2025-41 | J9: ='150151'!J9 -> 2025-42 | K9: ='150151'!K9 -> 2025-43 | L9: ='150151'!L9 -> 2025-44 | M9: ='150151'!M9 -> 2025-45 | N9: ='150151'!N9 -> 2025-46 | O9: ='150151'!O9 -> 2025-47 | P9: ='150151'!P9 -> 2025-48 | ... Z9: ='150151'!Z9 -> 2025-58 | AA9: ='150151'!#REF! -> #REF!
A10: ='PANEL DE CONTROL DISTRITAL'!A9 -> 1 | B10: ='PANEL DE CONTROL DISTRITAL'!B9 -> ENTREVISTA | C10: ='PANEL DE CONTROL DISTRITAL'!C9 -> Auxiliar de Atención Ciudadana | D10: ='PANEL DE CONTROL DISTRITAL'!D9 -> Fichas requisitadas correctamente= | E10: ='PANEL DE CONTROL DISTRITAL'!E9 -> (Fichas requisitadas correctamente / Fichas revisadas en la muestra del 10%) x 100 | F10: ='PANEL DE CONTROL DISTRITAL'!F9 -> Semanal (remesa) | G10: ='PANEL DE CONTROL DISTRITAL'!G9 -> 0.9 | H10: ='PANEL DE CONTROL DISTRITAL'!H9 -> Fichas requistadas correctamente | I10: 0 | J10: 22 | K10: 13 | L10: 20 | M10: 21 | N10: 23 | O10: 26 | P10: 16 | Q10: 15 | AB10: =IFERROR(SUM(I10:AA10)/SUM(I11:AA11),0) -> 1
H11: ='PANEL DE CONTROL DISTRITAL'!H10 -> Fichas revisadas en la muestra del 10% | I11: 0 | J11: 22 | K11: 13 | L11: 20 | M11: 21 | N11: 23 | O11: 26 | P11: 16 | Q11: 15
A13: ='PANEL DE CONTROL DISTRITAL'!A12 -> 2 | B13: ='PANEL DE CONTROL DISTRITAL'!B12 -> TRÁMITE | C13: ='PANEL DE CONTROL DISTRITAL'!C12 -> Operador de Equipo Tecnológico | D13: ='PANEL DE CONTROL DISTRITAL'!D12 -> Trámites exitosos efectivos= | E13: ='PANEL DE CONTROL DISTRITAL'!E12 -> (Número de trámites exitosos / Número de trámites aplicados) x 100 | F13: ='PANEL DE CONTROL DISTRITAL'!F12 -> Semanal (remesa) | G13: ='PANEL DE CONTROL DISTRITAL'!G12 -> 0.9 | H13: ='PANEL DE CONTROL DISTRITAL'!H12 -> Número de trámites exitosos | I13: 0 | J13: 211 | K13: 127 | L13: 197 | M13: 204 | N13: 226 | O13: 253 | P13: 157 | Q13: 147 | AB13: =IFERROR(SUM(I13:AA13)/SUM(I14:AA14),0) -> 0.99737877
H14: ='PANEL DE CONTROL DISTRITAL'!H13 -> Número de trámites aplicados | I14: 0 | J14: 212 | K14: 127 | L14: 198 | M14: 205 | N14: 226 | O14: 253 | P14: 158 | Q14: 147
A16: ='PANEL DE CONTROL DISTRITAL'!A15 -> 3 | B16: ='PANEL DE CONTROL DISTRITAL'!B15 -> TRANSFERENCIA DE LA INFORMACIÓN | C16: ='PANEL DE CONTROL DISTRITAL'!C15 -> Responsable de Módulo | D16: ='PANEL DE CONTROL DISTRITAL'!D15 -> Reenvíos exitosos = | E16: ='PANEL DE CONTROL DISTRITAL'!E15 -> (Ejecución de los scripts de reenvío de notificaciones/Solicitud de reenvíos de scripts requeridos) x100 | F16: ='PANEL DE CONTROL DISTRITAL'!F15 -> Semanal (remesa) | G16: ='PANEL DE CONTROL DISTRITAL'!G15 -> 1 | H16: ='PANEL DE CONTROL DISTRITAL'!H15 -> Ejecución de los scripts de reenvío de notificaciones | I16: 0 | J16: 0 | K16: 0 | L16: 0 | M16: 0 | N16: 0 | O16: 0 | P16: 0 | Q16: 0 | AB16: =IFERROR(SUM(I16:AA16)/SUM(J17:AA17),1) -> 1
H17: ='PANEL DE CONTROL DISTRITAL'!H16 -> Solicitud de reevíos de scripts requeridos | I17: 0 | J17: 0 | K17: 0 | L17: 0 | M17: 0 | N17: 0 | O17: 0 | P17: 0 | Q17: 0
A19: ='PANEL DE CONTROL DISTRITAL'!A18 -> 4 | B19: ='PANEL DE CONTROL DISTRITAL'!B18 -> CONCILIACIÓN DE CREDENCIALES PARA VOTAR | C19: ='PANEL DE CONTROL DISTRITAL'!C18 -> Responsable de Módulo | D19: ='PANEL DE CONTROL DISTRITAL'!D18 -> Credenciales disponibles para entrega = | E19: ='PANEL DE CONTROL DISTRITAL'!E18 -> [(Credenciales recibidas - credenciales inconsistentes) / Credenciales recibidas] x 100 | F19: ='PANEL DE CONTROL DISTRITAL'!F18 -> Semanal (remesa) | G19: ='PANEL DE CONTROL DISTRITAL'!G18 -> 0.9 | H19: ='PANEL DE CONTROL DISTRITAL'!H18 -> Credenciales Recibidas - Credenciales inconsistentes | I19: 0 | J19: 262 | K19: 144 | L19: 220 | M19: 230 | N19: 126 | O19: 247 | P19: 237 | Q19: 170 | AB19: =IFERROR(SUM(I19:AA19)/SUM(I20:AA20),0) -> 1
H20: ='PANEL DE CONTROL DISTRITAL'!H19 -> Credenciales recibidas | I20: 0 | J20: 262 | K20: 144 | L20: 220 | M20: 230 | N20: 126 | O20: 247 | P20: 237 | Q20: 170
A22: ='PANEL DE CONTROL DISTRITAL'!A21 -> 5 | B22: ='PANEL DE CONTROL DISTRITAL'!B21 -> CONCILIACIÓN DE CREDENCIALES PARA VOTAR | C22: ='PANEL DE CONTROL DISTRITAL'!C21 -> Responsable de Módulo | D22: ='PANEL DE CONTROL DISTRITAL'!D21 -> Arqueo de Credenciales = | E22: ='PANEL DE CONTROL DISTRITAL'!E21 -> (Credenciales disponibles (físicas)/ Credenciales disponibles registradas en SIIRFE) x 100 | F22: ='PANEL DE CONTROL DISTRITAL'!F21 -> Semanal (remesa) | G22: ='PANEL DE CONTROL DISTRITAL'!G21 -> 1 | H22: ='PANEL DE CONTROL DISTRITAL'!H21 -> Credenciales disponibles (físicas) | I22: 0 | J22: 499 | K22: 339 | L22: 436 | M22: 488 | N22: 391 | O22: 444 | P22: 461 | Q22: 412 | AB22: =IFERROR(SUM(I22:AA22)/SUM(I23:AA23),0) -> 1
H23: ='PANEL DE CONTROL DISTRITAL'!H22 -> Credenciales disponibles registradas en SIIRFE | I23: 0 | J23: 499 | K23: 339 | L23: 436 | M23: 488 | N23: 391 | O23: 444 | P23: 461 | Q23: 412
A25: ='PANEL DE CONTROL DISTRITAL'!A24 -> 6 | B25: ='PANEL DE CONTROL DISTRITAL'!B24 -> ENTREGA DE LA CREDENCIAL PARA VOTAR | C25: ='PANEL DE CONTROL DISTRITAL'!C24 -> Operador de Equipo Tecnológico | D25: ='PANEL DE CONTROL DISTRITAL'!D24 -> Efectividad de entrega de CPV en MAC = | E25: ='PANEL DE CONTROL DISTRITAL'!E24 -> (Total de credenciales entregadas / Total de ciudadanas y ciudadanos que acuden al MAC a recoger su credencial) x 100 | F25: ='PANEL DE CONTROL DISTRITAL'!F24 -> Semanal (remesa) | G25: ='PANEL DE CONTROL DISTRITAL'!G24 -> 0.9 | H25: ='PANEL DE CONTROL DISTRITAL'!H24 -> Total de credenciales entregadas | I25: 0 | J25: 447 | K25: 304 | L25: 122 | M25: 178 | N25: 223 | O25: 194 | P25: 220 | Q25: 219 | AB25: =IFERROR(SUM(I25:AA25)/SUM(I26:AA26),0) -> 1
H26: ='PANEL DE CONTROL DISTRITAL'!H25 -> Total de ciudadanas y ciudadanos que acuden al MAC a recoger su credencial | I26: 0 | J26: 447 | K26: 304 | L26: 122 | M26: 178 | N26: 223 | O26: 194 | P26: 220 | Q26: 219
B27: *Registre el valor nominal solicitado en la celda, el resultado proporcional esta automatizado.
I29: Semaforización
J30: Valor que requiere atención y justificación en el apartado de observaciones
J31: Valor suficiente
J32: Valor esperado
B34: CUADRO DE OBSERVACIONES
B35: Descripción | H35: No conformidad

Sheet 150153
A1: ='PANEL DE CONTROL DISTRITAL'!A1:Q1 -> INSTITUTO NACIONAL ELECTORAL SISTEMA DE GESTIÓN DE LA CALIDAD ESTADO DE MÉXICO
D2: Distrito | E2: 1 | F2: Módulo | H2: 150153
A4: TABLERO DE CONTROL DE PROCESOS SUSTANTIVOS DEL SISTEMA DE GESTIÓN DE LA CALIDAD
A6: ='PANEL DE CONTROL DISTRITAL'!A6 -> Número | B6: ='PANEL DE CONTROL DISTRITAL'!B6 -> PROCESOS SUSTANTIVOS E INDICADORES | I6: SEMANA OPERATIVA | AB6: % AVANCE REGISTRADO
B7: ='PANEL DE CONTROL DISTRITAL'!B7 -> DESCRIPCIÓN | E7: ='PANEL DE CONTROL DISTRITAL'!E7 -> MEDICIÓN | I7: ='PANEL DE CONTROL DISTRITAL'!A5 -> CAMPAÑA ANUAL INTENSA 2025
B9: ='PANEL DE CONTROL DISTRITAL'!B8 -> Proceso | C9: ='PANEL DE CONTROL DISTRITAL'!C8 -> Dueño de Proceso | D9: ='PANEL DE CONTROL DISTRITAL'!D8 -> Indicador | E9: ='PANEL DE CONTROL DISTRITAL'!E8 -> Cálculo | F9: ='PANEL DE CONTROL DISTRITAL'!F8 -> Periodo | G9: ='PANEL DE CONTROL DISTRITAL'!G8 -> Estimado | H9: ='PANEL DE CONTROL DISTRITAL'!H8 -> Nominativo | I9: ='150151'!I9 -> 2025-41 | J9: ='150151'!J9 -> 2025-42 | K9: ='150151'!K9 -> 2025-43 | L9: ='150151'!L9 -> 2025-44 | M9: ='150151'!M9 -> 2025-45 | N9: ='150151'!N9 -> 2025-46 | O9: ='150151'!O9 -> 2025-47 | P9: ='150151'!P9 -> 2025-48 | ... Z9: ='150151'!Z9 -> 2025-58 | AA9: ='150151'!#REF! -> #REF!
A10: ='PANEL DE CONTROL DISTRITAL'!A9 -> 1 | B10: ='PANEL DE CONTROL DISTRITAL'!B9 -> ENTREVISTA | C10: ='PANEL DE CONTROL DISTRITAL'!C9 -> Auxiliar de Atención Ciudadana | D10: ='PANEL DE CONTROL DISTRITAL'!D9 -> Fichas requisitadas correctamente= | E10: ='PANEL DE CONTROL DISTRITAL'!E9 -> (Fichas requisitadas correctamente / Fichas revisadas en la muestra del 10%) x 100 | F10: ='PANEL DE CONTROL DISTRITAL'!F9 -> Semanal (remesa) | G10: ='PANEL DE CONTROL DISTRITAL'!G9 -> 0.9 | H10: ='PANEL DE CONTROL DISTRITAL'!H9 -> Fichas requistadas correctamente | I10: 0 | J10: 21 | K10: 15 | L10: 18 | M10: 20 | N10: 23 | O10: 20 | P10: 14 | Q10: 19 | AB10: =IFERROR(SUM(I10:AA10)/SUM(I11:AA11),0) -> 0.99337748
H11: ='PANEL DE CONTROL DISTRITAL'!H10 -> Fichas revisadas en la muestra del 10% | I11: 0 | J11: 22 | K11: 15 | L11: 18 | M11: 20 | N11: 23 | O11: 20 | P11: 14 | Q11: 19
A13: ='PANEL DE CONTROL DISTRITAL'!A12 -> 2 | B13: ='PANEL DE CONTROL DISTRITAL'!B12 -> TRÁMITE | C13: ='PANEL DE CONTROL DISTRITAL'!C12 -> Operador de Equipo Tecnológico | D13: ='PANEL DE CONTROL DISTRITAL'!D12 -> Trámites exitosos efectivos= | E13: ='PANEL DE CONTROL DISTRITAL'!E12 -> (Número de trámites exitosos / Número de trámites aplicados) x 100 | F13: ='PANEL DE CONTROL DISTRITAL'!F12 -> Semanal (remesa) | G13: ='PANEL DE CONTROL DISTRITAL'!G12 -> 0.9 | H13: ='PANEL DE CONTROL DISTRITAL'!H12 -> Número de trámites exitosos | I13: 0 | J13: 201 | K13: 148 | L13: 173 | M13: 196 | N13: 222 | O13: 193 | P13: 138 | Q13: 183 | AB13: =IFERROR(SUM(I13:AA13)/SUM(I14:AA14),0) -> 0.99725652
H14: ='PANEL DE CONTROL DISTRITAL'!H13 -> Número de trámites aplicados | I14: 0 | J14: 201 | K14: 150 | L14: 173 | M14: 196 | N14: 222 | O14: 193 | P14: 138 | Q14: 185
A16: ='PANEL DE CONTROL DISTRITAL'!A15 -> 3 | B16: ='PANEL DE CONTROL DISTRITAL'!B15 -> TRANSFERENCIA DE LA INFORMACIÓN | C16: ='PANEL DE CONTROL DISTRITAL'!C15 -> Responsable de Módulo | D16: ='PANEL DE CONTROL DISTRITAL'!D15 -> Reenvíos exitosos = | E16: ='PANEL DE CONTROL DISTRITAL'!E15 -> (Ejecución de los scripts de reenvío de notificaciones/Solicitud de reenvíos de scripts requeridos) x100 | F16: ='PANEL DE CONTROL DISTRITAL'!F15 -> Semanal (remesa) | G16: ='PANEL DE CONTROL DISTRITAL'!G15 -> 1 | H16: ='PANEL DE CONTROL DISTRITAL'!H15 -> Ejecución de los scripts de reenvío de notificaciones | I16: 0 | J16: 0 | K16: 0 | L16: 0 | M16: 0 | N16: 0 | O16: 0 | P16: 0 | Q16: 0 | AB16: =IFERROR(SUM(I16:AA16)/SUM(I17:AA17),1) -> 1
H17: ='PANEL DE CONTROL DISTRITAL'!H16 -> Solicitud de reevíos de scripts requeridos | I17: 0 | J17: 0 | K17: 0 | L17: 0 | M17: 0 | N17: 0 | O17: 0 | P17: 0 | Q17: 0
A19: ='PANEL DE CONTROL DISTRITAL'!A18 -> 4 | B19: ='PANEL DE CONTROL DISTRITAL'!B18 -> CONCILIACIÓN DE CREDENCIALES PARA VOTAR | C19: ='PANEL DE CONTROL DISTRITAL'!C18 -> Responsable de Módulo | D19: ='PANEL DE CONTROL DISTRITAL'!D18 -> Credenciales disponibles para entrega = | E19: ='PANEL DE CONTROL DISTRITAL'!E18 -> [(Credenciales recibidas - credenciales inconsistentes) / Credenciales recibidas] x 100 | F19: ='PANEL DE CONTROL DISTRITAL'!F18 -> Semanal (remesa) | G19: ='PANEL DE CONTROL DISTRITAL'!G18 -> 0.9 | H19: ='PANEL DE CONTROL DISTRITAL'!H18 -> Credenciales Recibidas - Credenciales inconsistentes | I19: 0 | J19: 187 | K19: 83 | L19: 260 | M19: 136 | N19: 194 | O19: 236 | P19: 181 | Q19: 137 | AB19: =IFERROR(SUM(I19:AA19)/SUM(I20:AA20),0) -> 1
H20: ='PANEL DE CONTROL DISTRITAL'!H19 -> Credenciales recibidas | I20: 0 | J20: 187 | K20: 83 | L20: 260 | M20: 136 | N20: 194 | O20: 236 | P20: 181 | Q20: 137
A22: ='PANEL DE CONTROL DISTRITAL'!A21 -> 5 | B22: ='PANEL DE CONTROL DISTRITAL'!B21 -> CONCILIACIÓN DE CREDENCIALES PARA VOTAR | C22: ='PANEL DE CONTROL DISTRITAL'!C21 -> Responsable de Módulo | D22: ='PANEL DE CONTROL DISTRITAL'!D21 -> Arqueo de Credenciales = | E22: ='PANEL DE CONTROL DISTRITAL'!E21 -> (Credenciales disponibles (físicas)/ Credenciales disponibles registradas en SIIRFE) x 100 | F22: ='PANEL DE CONTROL DISTRITAL'!F21 -> Semanal (remesa) | G22: ='PANEL DE CONTROL DISTRITAL'!G21 -> 1 | H22: ='PANEL DE CONTROL DISTRITAL'!H21 -> Credenciales disponibles (físicas) | I22: 0 | J22: 325 | K22: 256 | L22: 392 | M22: 268 | N22: 272 | O22: 366 | P22: 324 | Q22: 286 | AB22: =IFERROR(SUM(I22:AA22)/SUM(I23:AA23),0) -> 1
H23: ='PANEL DE CONTROL DISTRITAL'!H22 -> Credenciales disponibles registradas en SIIRFE | I23: 0 | J23: 325 | K23: 256 | L23: 392 | M23: 268 | N23: 272 | O23: 366 | P23: 324 | Q23: 286
A25: ='PANEL DE CONTROL DISTRITAL'!A24 -> 6 | B25: ='PANEL DE CONTROL DISTRITAL'!B24 -> ENTREGA DE LA CREDENCIAL PARA VOTAR | C25: ='PANEL DE CONTROL DISTRITAL'!C24 -> Operador de Equipo Tecnológico | D25: ='PANEL DE CONTROL DISTRITAL'!D24 -> Efectividad de entrega de CPV en MAC = | E25: ='PANEL DE CONTROL DISTRITAL'!E24 -> (Total de credenciales entregadas / Total de ciudadanas y ciudadanos que acuden al MAC a recoger su credencial) x 100 | F25: ='PANEL DE CONTROL DISTRITAL'!F24 -> Semanal (remesa) | G25: ='PANEL DE CONTROL DISTRITAL'!G24 -> 0.9 | H25: ='PANEL DE CONTROL DISTRITAL'!H24 -> Total de credenciales entregadas | I25: 0 | J25: 312 | K25: 106 | L25: 124 | M25: 260 | N25: 190 | O25: 142 | P25: 223 | Q25: 175 | AB25: =IFERROR(SUM(I25:AA25)/SUM(I26:AA26),0) -> 0.99869622
H26: ='PANEL DE CONTROL DISTRITAL'!H25 -> Total de ciudadanas y ciudadanos que acuden al MAC a recoger su credencial | I26: 0 | J26: 312 | K26: 106 | L26: 124 | M26: 261 | N26: 191 | O26: 142 | P26: 223 | Q26: 175
B27: *Registre el valor nominal solicitado en la celda, el resultado proporcional esta automatizado.
I29: Semaforización
J30: Valor que requiere atención y justificación en el apartado de observaciones
J31: Valor suficiente
J32: Valor esperado
B34: CUADRO DE OBSERVACIONES
B35: Descripción | H35: No conformidad

Sheet 150251
A1: ='PANEL DE CONTROL DISTRITAL'!A1:Q1 -> INSTITUTO NACIONAL ELECTORAL SISTEMA DE GESTIÓN DE LA CALIDAD ESTADO DE MÉXICO
D2: Distrito | E2: 2 | F2: Módulo | H2: 150251
A4: TABLERO DE CONTROL DE PROCESOS SUSTANTIVOS DEL SISTEMA DE GESTIÓN DE LA CALIDAD
A6: ='PANEL DE CONTROL DISTRITAL'!A6 -> Número | B6: ='PANEL DE CONTROL DISTRITAL'!B6 -> PROCESOS SUSTANTIVOS E INDICADORES | I6: SEMANA OPERATIVA | AB6: % AVANCE REGISTRADO
B7: ='PANEL DE CONTROL DISTRITAL'!B7 -> DESCRIPCIÓN | E7: ='PANEL DE CONTROL DISTRITAL'!E7 -> MEDICIÓN | I7: ='PANEL DE CONTROL DISTRITAL'!A5 -> CAMPAÑA ANUAL INTENSA 2025
B9: ='PANEL DE CONTROL DISTRITAL'!B8 -> Proceso | C9: ='PANEL DE CONTROL DISTRITAL'!C8 -> Dueño de Proceso | D9: ='PANEL DE CONTROL DISTRITAL'!D8 -> Indicador | E9: ='PANEL DE CONTROL DISTRITAL'!E8 -> Cálculo | F9: ='PANEL DE CONTROL DISTRITAL'!F8 -> Periodo | G9: ='PANEL DE CONTROL DISTRITAL'!G8 -> Estimado | H9: ='PANEL DE CONTROL DISTRITAL'!H8 -> Nominativo | I9: ='150151'!I9 -> 2025-41 | J9: ='150151'!J9 -> 2025-42 | K9: ='150151'!K9 -> 2025-43 | L9: ='150151'!L9 -> 2025-44 | M9: ='150151'!M9 -> 2025-45 | N9: ='150151'!N9 -> 2025-46 | O9: ='150151'!O9 -> 2025-47 | P9: ='150151'!P9 -> 2025-48 | ... W9: ='150151'!W9 -> 2025-55 | X9: 2025-56 | Y9: 2025-57 | AA9: 2025-58
A10: ='PANEL DE CONTROL DISTRITAL'!A9 -> 1 | B10: ='PANEL DE CONTROL DISTRITAL'!B9 -> ENTREVISTA | C10: ='PANEL DE CONTROL DISTRITAL'!C9 -> Auxiliar de Atención Ciudadana | D10: ='PANEL DE CONTROL DISTRITAL'!D9 -> Fichas requisitadas correctamente= | E10: ='PANEL DE CONTROL DISTRITAL'!E9 -> (Fichas requisitadas correctamente / Fichas revisadas en la muestra del 10%) x 100 | F10: ='PANEL DE CONTROL DISTRITAL'!F9 -> Semanal (remesa) | G10: ='PANEL DE CONTROL DISTRITAL'!G9 -> 0.9 | H10: ='PANEL DE CONTROL DISTRITAL'!H9 -> Fichas requistadas correctamente | I10: 0 | J10: 60 | K10: 48 | L10: 65 | M10: 62 | N10: 61 | O10: 61 | P10: 51 | Q10: 42 | AB10: =IFERROR(SUM(I10:AA10)/SUM(I11:AA11),0) -> 0.99557522
H11: ='PANEL DE CONTROL DISTRITAL'!H10 -> Fichas revisadas en la muestra del 10% | I11: 0 | J11: 60 | K11: 48 | L11: 66 | M11: 62 | N11: 62 | O11: 61 | P11: 51 | Q11: 42
A13: ='PANEL DE CONTROL DISTRITAL'!A12 -> 2 | B13: ='PANEL DE CONTROL DISTRITAL'!B12 -> TRÁMITE | C13: ='PANEL DE CONTROL DISTRITAL'!C12 -> Operador de Equipo Tecnológico | D13: ='PANEL DE CONTROL DISTRITAL'!D12 -> Trámites exitosos efectivos= | E13: ='PANEL DE CONTROL DISTRITAL'!E12 -> (Número de trámites exitosos / Número de trámites aplicados) x 100 | F13: ='PANEL DE CONTROL DISTRITAL'!F12 -> Semanal (remesa) | G13: ='PANEL DE CONTROL DISTRITAL'!G12 -> 0.9 | H13: ='PANEL DE CONTROL DISTRITAL'!H12 -> Número de trámites exitosos | I13: 0 | J13: 599 | K13: 475 | L13: 659 | M13: 620 | N13: 621 | O13: 615 | P13: 515 | Q13: 422 | AB13: =IFERROR(SUM(I13:AA13)/SUM(I14:AA14),0) -> 0.99823555
H14: ='PANEL DE CONTROL DISTRITAL'!H13 -> Número de trámites aplicados | I14: 0 | J14: 603 | K14: 477 | L14: 660 | M14: 620 | N14: 621 | O14: 616 | P14: 515 | Q14: 422
A16: ='PANEL DE CONTROL DISTRITAL'!A15 -> 3 | B16: ='PANEL DE CONTROL DISTRITAL'!B15 -> TRANSFERENCIA DE LA INFORMACIÓN | C16: ='PANEL DE CONTROL DISTRITAL'!C15 -> Responsable de Módulo | D16: ='PANEL DE CONTROL DISTRITAL'!D15 -> Reenvíos exitosos = | E16: ='PANEL DE CONTROL DISTRITAL'!E15 -> (Ejecución de los scripts de reenvío de notificaciones/Solicitud de reenvíos de scripts requeridos) x100 | F16: ='PANEL DE CONTROL DISTRITAL'!F15 -> Semanal (remesa) | G16: ='PANEL DE CONTROL DISTRITAL'!G15 -> 1 | H16: ='PANEL DE CONTROL DISTRITAL'!H15 -> Ejecución de los scripts de reenvío de notificaciones | I16: 0 | J16: 0 | K16: 0 | L16: 1 | M16: 1 | N16: 1 | O16: 1 | P16: 0 | Q16: 1 | AB16: =IFERROR(SUM(I16:AA16)/SUM(I17:AA17),1) -> 1
H17: ='PANEL DE CONTROL DISTRITAL'!H16 -> Solicitud de reevíos de scripts requeridos | I17: 0 | J17: 0 | K17: 0 | L17: 1 | M17: 1 | N17: 1 | O17: 1 | P17: 0 | Q17: 1
A19: ='PANEL DE CONTROL DISTRITAL'!A18 -> 4 | B19: ='PANEL DE CONTROL DISTRITAL'!B18 -> CONCILIACIÓN DE CREDENCIALES PARA VOTAR | C19: ='PANEL DE CONTROL DISTRITAL'!C18 -> Responsable de Módulo | D19: ='PANEL DE CONTROL DISTRITAL'!D18 -> Credenciales disponibles para entrega = | E19: ='PANEL DE CONTROL DISTRITAL'!E18 -> [(Credenciales recibidas - credenciales inconsistentes) / Credenciales recibidas] x 100 | F19: ='PANEL DE CONTROL DISTRITAL'!F18 -> Semanal (remesa) | G19: ='PANEL DE CONTROL DISTRITAL'!G18 -> 0.9 | H19: ='PANEL DE CONTROL DISTRITAL'!H18 -> Credenciales Recibidas - Credenciales inconsistentes | I19: 0 | J19: 568 | K19: 440 | L19: 679 | M19: 727 | N19: 520 | O19: 638 | P19: 549 | Q19: 499 | AB19: =IFERROR(SUM(I19:AA19)/SUM(I20:AA20),0) -> 1
H20: ='PANEL DE CONTROL DISTRITAL'!H19 -> Credenciales recibidas | I20: 0 | J20: 568 | K20: 440 | L20: 679 | M20: 727 | N20: 520 | O20: 638 | P20: 549 | Q20: 499
A22: ='PANEL DE CONTROL DISTRITAL'!A21 -> 5 | B22: ='PANEL DE CONTROL DISTRITAL'!B21 -> CONCILIACIÓN DE CREDENCIALES PARA VOTAR | C22: ='PANEL DE CONTROL DISTRITAL'!C21 -> Responsable de Módulo | D22: ='PANEL DE CONTROL DISTRITAL'!D21 -> Arqueo de Credenciales = | E22: ='PANEL DE CONTROL DISTRITAL'!E21 -> (Credenciales disponibles (físicas)/ Credenciales disponibles registradas en SIIRFE) x 100 | F22: ='PANEL DE CONTROL DISTRITAL'!F21 -> Semanal (remesa) | G22: ='PANEL DE CONTROL DISTRITAL'!G21 -> 1 | H22: ='PANEL DE CONTROL DISTRITAL'!H21 -> Credenciales disponibles (físicas) | I22: 0 | J22: 987 | K22: 876 | L22: 1014 | M22: 1114 | N22: 1032 | O22: 1032 | P22: 962 | Q22: 943 | AB22: =IFERROR(SUM(I22:AA22)/SUM(I23:AA23),0) -> 1
H23: ='PANEL DE CONTROL DISTRITAL'!H22 -> Credenciales disponibles registradas en SIIRFE | I23: 0 | J23: 987 | K23: 876 | L23: 1014 | M23: 1114 | N23: 1032 | O23: 1032 | P23: 962 | Q23: 943
A25: ='PANEL DE CONTROL DISTRITAL'!A24 -> 6 | B25: ='PANEL DE CONTROL DISTRITAL'!B24 -> ENTREGA DE LA CREDENCIAL PARA VOTAR | C25: ='PANEL DE CONTROL DISTRITAL'!C24 -> Operador de Equipo Tecnológico | D25: ='PANEL DE CONTROL DISTRITAL'!D24 -> Efectividad de entrega de CPV en MAC = | E25: ='PANEL DE CONTROL DISTRITAL'!E24 -> (Total de credenciales entregadas / Total de ciudadanas y ciudadanos que acuden al MAC a recoger su credencial) x 100 | F25: ='PANEL DE CONTROL DISTRITAL'!F24 -> Semanal (remesa) | G25: ='PANEL DE CONTROL DISTRITAL'!G24 -> 0.9 | H25: ='PANEL DE CONTROL DISTRITAL'!H24 -> Total de credenciales entregadas | I25: 0 | J25: 615 | K25: 551 | L25: 537 | M25: 627 | N25: 602 | O25: 638 | P25: 619 | Q25: 518 | AB25: =IFERROR(SUM(I25:AA25)/SUM(I26:AA26),0) -> 0.99893888
H26: ='PANEL DE CONTROL DISTRITAL'!H25 -> Total de ciudadanas y ciudadanos que acuden al MAC a recoger su credencial | I26: 0 | J26: 617 | K26: 551 | L26: 540 | M26: 627 | N26: 602 | O26: 638 | P26: 619 | Q26: 518
B27: *Registre el valor nominal solicitado en la celda, el resultado proporcional esta automatizado.
I29: Semaforización
J30: Valor que requiere atención y justificación en el apartado de observaciones
J31: Valor suficiente
J32: Valor esperado
B34: CUADRO DE OBSERVACIONES
B35: Descripción | H35: No conformidad

Sheet 150253
A1: ='PANEL DE CONTROL DISTRITAL'!A1:Q1 -> INSTITUTO NACIONAL ELECTORAL SISTEMA DE GESTIÓN DE LA CALIDAD ESTADO DE MÉXICO
D2: Distrito | E2: 2 | F2: Módulo | H2: 150253
A4: TABLERO DE CONTROL DE PROCESOS SUSTANTIVOS DEL SISTEMA DE GESTIÓN DE LA CALIDAD
A6: ='PANEL DE CONTROL DISTRITAL'!A6 -> Número | B6: ='PANEL DE CONTROL DISTRITAL'!B6 -> PROCESOS SUSTANTIVOS E INDICADORES | I6: SEMANA OPERATIVA | AB6: % AVANCE REGISTRADO
B7: ='PANEL DE CONTROL DISTRITAL'!B7 -> DESCRIPCIÓN | E7: ='PANEL DE CONTROL DISTRITAL'!E7 -> MEDICIÓN | I7: ='PANEL DE CONTROL DISTRITAL'!A5 -> CAMPAÑA ANUAL INTENSA 2025
AE8: <
B9: ='PANEL DE CONTROL DISTRITAL'!B8 -> Proceso | C9: ='PANEL DE CONTROL DISTRITAL'!C8 -> Dueño de Proceso | D9: ='PANEL DE CONTROL DISTRITAL'!D8 -> Indicador | E9: ='PANEL DE CONTROL DISTRITAL'!E8 -> Cálculo | F9: ='PANEL DE CONTROL DISTRITAL'!F8 -> Periodo | G9: ='PANEL DE CONTROL DISTRITAL'!G8 -> Estimado | H9: ='PANEL DE CONTROL DISTRITAL'!H8 -> Nominativo | I9: ='150151'!I9 -> 2025-41 | J9: ='150151'!J9 -> 2025-42 | K9: ='150151'!K9 -> 2025-43 | L9: ='150151'!L9 -> 2025-44 | M9: ='150151'!M9 -> 2025-45 | N9: ='150151'!N9 -> 2025-46 | O9: ='150151'!O9 -> 2025-47 | P9: ='150151'!P9 -> 2025-48 | ... X9: ='150151'!X9 -> 2025-56 | Y9: 2024-57 | Z9: 2024-58 | AA9: 2024-59
A10: ='PANEL DE CONTROL DISTRITAL'!A9 -> 1 | B10: ='PANEL DE CONTROL DISTRITAL'!B9 -> ENTREVISTA | C10: ='PANEL DE CONTROL DISTRITAL'!C9 -> Auxiliar de Atención Ciudadana | D10: ='PANEL DE CONTROL DISTRITAL'!D9 -> Fichas requisitadas correctamente= | E10: ='PANEL DE CONTROL DISTRITAL'!E9 -> (Fichas requisitadas correctamente / Fichas revisadas en la muestra del 10%) x 100 | F10: ='PANEL DE CONTROL DISTRITAL'!F9 -> Semanal (remesa) | G10: ='PANEL DE CONTROL DISTRITAL'!G9 -> 0.9 | H10: ='PANEL DE CONTROL DISTRITAL'!H9 -> Fichas requistadas correctamente | I10: 0 | J10: 91 | K10: 57 | L10: 94 | M10: 97 | N10: 87 | O10: 89 | P10: 75 | Q10: 56 | AB10: =IFERROR(SUM(I10:AA10)/SUM(I11:AA11),0) -> 1
H11: ='PANEL DE CONTROL DISTRITAL'!H10 -> Fichas revisadas en la muestra del 10% | I11: 0 | J11: 91 | K11: 57 | L11: 94 | M11: 97 | N11: 87 | O11: 89 | P11: 75 | Q11: 56
A13: ='PANEL DE CONTROL DISTRITAL'!A12 -> 2 | B13: ='PANEL DE CONTROL DISTRITAL'!B12 -> TRÁMITE | C13: ='PANEL DE CONTROL DISTRITAL'!C12 -> Operador de Equipo Tecnológico | D13: ='PANEL DE CONTROL DISTRITAL'!D12 -> Trámites exitosos efectivos= | E13: ='PANEL DE CONTROL DISTRITAL'!E12 -> (Número de trámites exitosos / Número de trámites aplicados) x 100 | F13: ='PANEL DE CONTROL DISTRITAL'!F12 -> Semanal (remesa) | G13: ='PANEL DE CONTROL DISTRITAL'!G12 -> 0.9 | H13: ='PANEL DE CONTROL DISTRITAL'!H12 -> Número de trámites exitosos | I13: 0 | J13: 908 | K13: 561 | L13: 941 | M13: 949 | N13: 866 | O13: 876 | P13: 745 | Q13: 559 | AB13: =IFERROR(SUM(I13:AA13)/SUM(I14:AA14),0) -> 0.99735285
H14: ='PANEL DE CONTROL DISTRITAL'!H13 -> Número de trámites aplicados | I14: 0 | J14: 910 | K14: 563 | L14: 943 | M14: 951 | N14: 869 | O14: 878 | P14: 746 | Q14: 562
A16: ='PANEL DE CONTROL DISTRITAL'!A15 -> 3 | B16: ='PANEL DE CONTROL DISTRITAL'!B15 -> TRANSFERENCIA DE LA INFORMACIÓN | C16: ='PANEL DE CONTROL DISTRITAL'!C15 -> Responsable de Módulo | D16: ='PANEL DE CONTROL DISTRITAL'!D15 -> Reenvíos exitosos = | E16: ='PANEL DE CONTROL DISTRITAL'!E15 -> (Ejecución de los scripts de reenvío de notificaciones/Solicitud de reenvíos de scripts requeridos) x100 | F16: ='PANEL DE CONTROL DISTRITAL'!F15 -> Semanal (remesa) | G16: ='PANEL DE CONTROL DISTRITAL'!G15 -> 1 | H16: ='PANEL DE CONTROL DISTRITAL'!H15 -> Ejecución de los scripts de reenvío de notificaciones | I16: 0 | J16: 3 | K16: 0 | L16: 1 | M16: 1 | N16: 0 | O16: 0 | P16: 0 | Q16: 4 | AB16: =IFERROR(SUM(I16:AA16)/SUM(I17:AA17),1) -> 1
H17: ='PANEL DE CONTROL DISTRITAL'!H16 -> Solicitud de reevíos de scripts requeridos | I17: 0 | J17: 3 | K17: 0 | L17: 1 | M17: 1 | N17: 0 | O17: 0 | P17: 0 | Q17: 4
A19: ='PANEL DE CONTROL DISTRITAL'!A18 -> 4 | B19: ='PANEL DE CONTROL DISTRITAL'!B18 -> CONCILIACIÓN DE CREDENCIALES PARA VOTAR | C19: ='PANEL DE CONTROL DISTRITAL'!C18 -> Responsable de Módulo | D19: ='PANEL DE CONTROL DISTRITAL'!D18 -> Credenciales disponibles para entrega = | E19: ='PANEL DE CONTROL DISTRITAL'!E18 -> [(Credenciales recibidas - credenciales inconsistentes) / Credenciales recibidas] x 100 | F19: ='PANEL DE CONTROL DISTRITAL'!F18 -> Semanal (remesa) | G19: ='PANEL DE CONTROL DISTRITAL'!G18 -> 0.9 | H19: ='PANEL DE CONTROL DISTRITAL'!H18 -> Credenciales Recibidas - Credenciales inconsistentes | I19: 0 | J19: 1047 | K19: 631 | L19: 732 | M19: 1240 | N19: 630 | O19: 869 | P19: 948 | Q19: 670 | AB19: =IFERROR(SUM(I19:AA19)/SUM(I20:AA20),0) -> 1
H20: ='PANEL DE CONTROL DISTRITAL'!H19 -> Credenciales recibidas | I20: 0 | J20: 1047 | K20: 631 | L20: 732 | M20: 1240 | N20: 630 | O20: 869 | P20: 948 | Q20: 670
A22: ='PANEL DE CONTROL DISTRITAL'!A21 -> 5 | B22: ='PANEL DE CONTROL DISTRITAL'!B21 -> CONCILIACIÓN DE CREDENCIALES PARA VOTAR | C22: ='PANEL DE CONTROL DISTRITAL'!C21 -> Responsable de Módulo | D22: ='PANEL DE CONTROL DISTRITAL'!D21 -> Arqueo de Credenciales = | E22: ='PANEL DE CONTROL DISTRITAL'!E21 -> (Credenciales disponibles (físicas)/ Credenciales disponibles registradas en SIIRFE) x 100 | F22: ='PANEL DE CONTROL DISTRITAL'!F21 -> Semanal (remesa) | G22: ='PANEL DE CONTROL DISTRITAL'!G21 -> 1 | H22: ='PANEL DE CONTROL DISTRITAL'!H21 -> Credenciales disponibles (físicas) | I22: 0 | J22: 1579 | K22: 1390 | L22: 1370 | M22: 1767 | N22: 1538 | O22: 1530 | P22: 1533 | Q22: 1448 | AB22: =IFERROR(SUM(I22:AA22)/SUM(I23:AA23),0) -> 1
H23: ='PANEL DE CONTROL DISTRITAL'!H22 -> Credenciales disponibles registradas en SIIRFE | I23: 0 | J23: 1579 | K23: 1390 | L23: 1370 | M23: 1767 | N23: 1538 | O23: 1530 | P23: 1533 | Q23: 1448
A25: ='PANEL DE CONTROL DISTRITAL'!A24 -> 6 | B25: ='PANEL DE CONTROL DISTRITAL'!B24 -> ENTREGA DE LA CREDENCIAL PARA VOTAR | C25: ='PANEL DE CONTROL DISTRITAL'!C24 -> Operador de Equipo Tecnológico | D25: ='PANEL DE CONTROL DISTRITAL'!D24 -> Efectividad de entrega de CPV en MAC = | E25: ='PANEL DE CONTROL DISTRITAL'!E24 -> (Total de credenciales entregadas / Total de ciudadanas y ciudadanos que acuden al MAC a recoger su credencial) x 100 | F25: ='PANEL DE CONTROL DISTRITAL'!F24 -> Semanal (remesa) | G25: ='PANEL DE CONTROL DISTRITAL'!G24 -> 0.9 | H25: ='PANEL DE CONTROL DISTRITAL'!H24 -> Total de credenciales entregadas | I25: 0 | J25: 945 | K25: 820 | L25: 743 | M25: 843 | N25: 859 | O25: 877 | P25: 945 | Q25: 755 | AB25: =IFERROR(SUM(I25:AA25)/SUM(I26:AA26),0) -> 1
H26: ='PANEL DE CONTROL DISTRITAL'!H25 -> Total de ciudadanas y ciudadanos que acuden al MAC a recoger su credencial | I26: 0 | J26: 945 | K26: 820 | L26: 743 | M26: 843 | N26: 859 | O26: 877 | P26: 945 | Q26: 755
B27: *Registre el valor nominal solicitado en la celda, el resultado proporcional esta automatizado.
I29: Semaforización
J30: Valor que requiere atención y justificación en el apartado de observaciones
J31: Valor suficiente
J32: Valor esperado
B34: CUADRO DE OBSERVACIONES
B35: Descripción | H35: No conformidad

Sheet 150351
A1: ='PANEL DE CONTROL DISTRITAL'!A1:Q1 -> INSTITUTO NACIONAL ELECTORAL SISTEMA DE GESTIÓN DE LA CALIDAD ESTADO DE MÉXICO
D2: Distrito | E2: 3 | F2: Módulo | H2: 150351
A4: TABLERO DE CONTROL DE PROCESOS SUSTANTIVOS DEL SISTEMA DE GESTIÓN DE LA CALIDAD
A6: ='PANEL DE CONTROL DISTRITAL'!A6 -> Número | B6: ='PANEL DE CONTROL DISTRITAL'!B6 -> PROCESOS SUSTANTIVOS E INDICADORES | I6: SEMANA OPERATIVA | AB6: % AVANCE REGISTRADO
B7: ='PANEL DE CONTROL DISTRITAL'!B7 -> DESCRIPCIÓN | E7: ='PANEL DE CONTROL DISTRITAL'!E7 -> MEDICIÓN | I7: ='PANEL DE CONTROL DISTRITAL'!A5 -> CAMPAÑA ANUAL INTENSA 2025
B9: ='PANEL DE CONTROL DISTRITAL'!B8 -> Proceso | C9: ='PANEL DE CONTROL DISTRITAL'!C8 -> Dueño de Proceso | D9: ='PANEL DE CONTROL DISTRITAL'!D8 -> Indicador | E9: ='PANEL DE CONTROL DISTRITAL'!E8 -> Cálculo | F9: ='PANEL DE CONTROL DISTRITAL'!F8 -> Periodo | G9: ='PANEL DE CONTROL DISTRITAL'!G8 -> Estimado | H9: ='PANEL DE CONTROL DISTRITAL'!H8 -> Nominativo | I9: ='150151'!I9 -> 2025-41 | J9: ='150151'!J9 -> 2025-42 | K9: ='150151'!K9 -> 2025-43 | L9: ='150151'!L9 -> 2025-44 | M9: ='150151'!M9 -> 2025-45 | N9: ='150151'!N9 -> 2025-46 | O9: ='150151'!O9 -> 2025-47 | P9: ='150151'!P9 -> 2025-48 | ... X9: ='150151'!X9 -> 2025-56 | Y9: 2024-57 | Z9: 2024-58 | AA9: 2024-59
A10: ='PANEL DE CONTROL DISTRITAL'!A9 -> 1 | B10: ='PANEL DE CONTROL DISTRITAL'!B9 -> ENTREVISTA | C10: ='PANEL DE CONTROL DISTRITAL'!C9 -> Auxiliar de Atención Ciudadana | D10: ='PANEL DE CONTROL DISTRITAL'!D9 -> Fichas requisitadas correctamente= | E10: ='PANEL DE CONTROL DISTRITAL'!E9 -> (Fichas requisitadas correctamente / Fichas revisadas en la muestra del 10%) x 100 | F10: ='PANEL DE CONTROL DISTRITAL'!F9 -> Semanal (remesa) | G10: ='PANEL DE CONTROL DISTRITAL'!G9 -> 0.9 | H10: ='PANEL DE CONTROL DISTRITAL'!H9 -> Fichas requistadas correctamente | I10: 81 | J10: 70 | K10: 51 | L10: 69 | M10: 65 | N10: 58 | O10: 55 | P10: 51 | Q10: 33 | AB10: =IFERROR(SUM(I10:AA10)/SUM(I11:AA11),0) -> 1
H11: ='PANEL DE CONTROL DISTRITAL'!H10 -> Fichas revisadas en la muestra del 10% | I11: 81 | J11: 70 | K11: 51 | L11: 69 | M11: 65 | N11: 58 | O11: 55 | P11: 51 | Q11: 33
A13: ='PANEL DE CONTROL DISTRITAL'!A12 -> 2 | B13: ='PANEL DE CONTROL DISTRITAL'!B12 -> TRÁMITE | C13: ='PANEL DE CONTROL DISTRITAL'!C12 -> Operador de Equipo Tecnológico | D13: ='PANEL DE CONTROL DISTRITAL'!D12 -> Trámites exitosos efectivos= | E13: ='PANEL DE CONTROL DISTRITAL'!E12 -> (Número de trámites exitosos / Número de trámites aplicados) x 100 | F13: ='PANEL DE CONTROL DISTRITAL'!F12 -> Semanal (remesa) | G13: ='PANEL DE CONTROL DISTRITAL'!G12 -> 0.9 | H13: ='PANEL DE CONTROL DISTRITAL'!H12 -> Número de trámites exitosos | I13: 808 | J13: 379 | K13: 508 | L13: 686 | M13: 647 | N13: 575 | O13: 551 | P13: 465 | Q13: 333 | AB13: =IFERROR(SUM(I13:AA13)/SUM(I14:AA14),0) -> 0.92873218
H14: ='PANEL DE CONTROL DISTRITAL'!H13 -> Número de trámites aplicados | I14: 808 | J14: 699 | K14: 511 | L14: 690 | M14: 647 | N14: 577 | O14: 551 | P14: 515 | Q14: 334
A16: ='PANEL DE CONTROL DISTRITAL'!A15 -> 3 | B16: ='PANEL DE CONTROL DISTRITAL'!B15 -> TRANSFERENCIA DE LA INFORMACIÓN | C16: ='PANEL DE CONTROL DISTRITAL'!C15 -> Responsable de Módulo | D16: ='PANEL DE CONTROL DISTRITAL'!D15 -> Reenvíos exitosos = | E16: ='PANEL DE CONTROL DISTRITAL'!E15 -> (Ejecución de los scripts de reenvío de notificaciones/Solicitud de reenvíos de scripts requeridos) x100 | F16: ='PANEL DE CONTROL DISTRITAL'!F15 -> Semanal (remesa) | G16: ='PANEL DE CONTROL DISTRITAL'!G15 -> 1 | H16: ='PANEL DE CONTROL DISTRITAL'!H15 -> Ejecución de los scripts de reenvío de notificaciones | I16: 0 | J16: 0 | K16: 0 | L16: 0 | M16: 0 | N16: 0 | O16: 0 | P16: 0 | Q16: 0 | AB16: =IFERROR(SUM(I16:AA16)/SUM(I17:AA17),1) -> 1
H17: ='PANEL DE CONTROL DISTRITAL'!H16 -> Solicitud de reevíos de scripts requeridos | I17: 0 | J17: 0 | K17: 0 | L17: 0 | M17: 0 | N17: 0 | O17: 0 | P17: 0 | Q17: 0
