Workbook

Sheet PANEL DE CONTROL DISTRITAL
A1: INSTITUTO NACIONAL ELECTORAL SISTEMA DE GESTIÓN DE LA CALIDAD ESTADO DE MÉXICO
M2: Fecha de corte: 14/03/2025 | Q2: Version: 0
A4: TABLERO DE CONTROL DISTRITAL DE PROCESOS SUSTANTIVOS DEL SISTEMA DE GESTIÓN DE LA CALIDAD
A5: CAMPAÑA ANUAL INTENSA 2025
A6: Número | B6: PROCESOS SUSTANTIVOS E INDICADORES | I6: % AVANCE REGISTRADO | K6: % AVANCE REGISTRADO | M6: % AVANCE REGISTRADO | O6: % AVANCE REGISTRADO | Q6: % AVANCE REGISTRADO | S6: % AVANCE REGISTRADO | U6: % AVANCE REGISTRADO | W6: % AVANCE REGISTRADO | Y6: % AVANCE REGISTRADO | AA6: % AVANCE REGISTRADO | AC6: % AVANCE REGISTRADO | AE6: % AVANCE REGISTRADO | AG6: % AVANCE REGISTRADO | AI6: % AVANCE REGISTRADO | AK6: % AVANCE REGISTRADO | AM6: % AVANCE REGISTRADO | AO6: % AVANCE REGISTRADO | AQ6: % AVANCE REGISTRADO | AS6: % AVANCE REGISTRADO | AU6: % AVANCE REGISTRADO | AW6: % AVANCE REGISTRADO | AY6: % AVANCE REGISTRADO | BA6: % AVANCE REGISTRADO | BC6: % AVANCE REGISTRADO | BE6: % AVANCE REGISTRADO | BG6: % AVANCE REGISTRADO | BI6: % AVANCE REGISTRADO | BK6: % AVANCE REGISTRADO | BM6: % AVANCE REGISTRADO | BO6: % AVANCE REGISTRADO | BQ6: % AVANCE REGISTRADO | BS6: % AVANCE REGISTRADO | BU6: % AVANCE REGISTRADO | BW6: % AVANCE REGISTRADO | BY6: % AVANCE REGISTRADO | CA6: % AVANCE REGISTRADO | CC6: % AVANCE REGISTRADO | CE6: % AVANCE REGISTRADO | CG6: % AVANCE REGISTRADO | CI6: % AVANCE REGISTRADO | CK6: % AVANCE REGISTRADO
B7: DESCRIPCIÓN | E7: MEDICIÓN
B8: Proceso | C8: Dueño de Proceso | D8: Indicador | E8: Cálculo | F8: Periodo | G8: Estimado | H8: Nominativo | I8: Distrito 01 | K8: Distrito 02 | M8: Distrito 03 | O8: Distrito 04 | Q8: Distrito 05 | S8: Distrito 06 | U8: Distrito 07 | W8: Distrito 08 | Y8: Distrito 09 | AA8: Distrito 10 | AC8: Distrito 11 | AE8: Distrito 12 | AG8: Distrito 13 | AI8: Distrito 14 | AK8: Distrito 15 | AM8: Distrito 16 | AO8: Distrito 17 | AQ8: Distrito 18 | AS8: Distrito 19 | AU8: Distrito 20 | AW8: Distrito 21 | AY8: Distrito 22 | BA8: Distrito 23 | BC8: Distrito 24 | BE8: Distrito 25 | BG8: Distrito 26 | BI8: Distrito 27 | BK8: Distrito 28 | BM8: Distrito 29 | BO8: Distrito 30 | BQ8: Distrito 31 | BS8: Distrito 32 | BU8: Distrito 33 | BW8: Distrito 34 | BY8: Distrito 35 | CA8: Distrito 36 | CC8: Distrito 37 | CE8: Distrito 38 | CG8: Distrito 39 | CI8: Distrito 40 | CK8: Estatal
A9: 1 | B9: ENTREVISTA | C9: Auxiliar de Atención Ciudadana | D9: Fichas requisitadas correctamente= | E9: (Fichas requisitadas correctamente / Fichas revisadas en la muestra del 10%) x 100 | F9: Semanal (remesa) | G9: 0.9 | H9: Fichas requistadas correctamente | I9: =AVERAGE('150151'!AB10:AB11,'150152'!AB10:AB11,'150153'!AB10:AB11) -> 0.99779249 | K9: =AVERAGE('150251'!AB10:AB11,'150253'!AB10:AB11) -> 0.99778761 | M9: =AVERAGE('150351'!AB10:AB11,'150352'!AB10:AB11,'150353'!AB10:AB11) -> 1 | O9: =AVERAGE('150451'!AB10:AB11) -> 0.96418733 | Q9: =AVERAGE('150551'!AB10:AB11) -> 1 | S9: =AVERAGE('150651'!AB10:AB11,'150652'!AB10:AB11) -> 0.98985507 | U9: =AVERAGE('150751'!AB10:AB11) -> 1 | W9: =AVERAGE('150851'!AB10:AB11) -> 1 | Y9: =AVERAGE('150951'!AB10:AB11,'150952'!AB10:AB11,'150953'!AB10:AB11,'150954'!AB10:AB11) -> 1 | AA9: =AVERAGE('151051'!AB10:AB11) -> 1 | AC9: =AVERAGE('151151'!AB10:AB11) -> 1 | AE9: =AVERAGE('151251'!AB10:AB11,'151253'!AB10:AB11) -> 1 | AG9: =AVERAGE('151351'!AB10:AB11) -> 1 | AI9: =AVERAGE('151452'!AB10:AB11,'151453'!AB10:AB11) -> 1 | AK9: =AVERAGE('151551'!AB10:AB11) -> 1 | AM9: =AVERAGE('151651'!AB10:AB11,'151652'!AB10:AB11) -> 1 | AO9: =AVERAGE('151751'!AB10:AB11) -> 1 | AQ9: =AVERAGE('151851'!AB10:AB11,'151852'!AB10:AB11,'151853'!AB10:AB11) -> 1 | AS9: =AVERAGE('151951'!AB10:AB11,'151952'!AB10:AB11) -> 1 | AU9: =AVERAGE('152052'!AB10:AB11,'152053'!AB10:AB11,'152054'!AB10:AB11) -> 1 | AW9: =AVERAGE('152151'!AB10:AB11,'152152'!AB10:AB11) -> 0.99895616 | AY9: =AVERAGE('152251'!AB10:AB11,'152252'!AB10:AB11) -> 0.99628253 | BA9: =AVERAGE('152351'!AB10:AB11,'152352'!AB10:AB11,'152353'!AB10:AB11) -> 1 | BC9: =AVERAGE('152451'!AB10:AB11) -> 1 | BE9: =AVERAGE('152551'!AB10:AB11) -> 1 | BG9: =AVERAGE('152651'!AB10:AB11) -> 1 | BI9: =AVERAGE('152751'!AB10:AB11,'152752'!AB10:AB11,'152753'!AB10:AB11) -> 1 | BK9: =AVERAGE('152851'!AB10:AB11,'152853'!AB10:AB11) -> 1 | BM9: =AVERAGE('152951'!AB10:AB11) -> 1 | BO9: =AVERAGE('153051'!AB10:AB11,'153052'!AB10:AB11) -> 1 | BQ9: =AVERAGE('153151'!AB10:AB11) -> 0.99909502 | BS9: =AVERAGE('153251'!AB10:AB11) -> 1 | BU9: =AVERAGE('153351'!AB10:AB11) -> 1 | BW9: =AVERAGE('153451'!AB10:AB11) -> 1 | BY9: =AVERAGE('153551'!AB10:AB11,'153552'!AB10:AB11,'153553'!AB10:AB11) -> 1 | CA9: =AVERAGE('153651'!AB10:AB11,'153652'!AB10:AB11,'153653'!AB10:AB11,'153654'!AB10:AB11) -> 0.99917492 | CC9: =AVERAGE('153753'!AB10:AB11,'153752'!AB10:AB11) -> 0.9953271 | CE9: =AVERAGE('153851'!AB10:AB11,'153852'!AB10:AB11) -> 1 | CG9: =AVERAGE('153951'!AB10:AB11) -> 1 | CI9: =AVERAGE('154051'!AB10:AB11,'154052'!AB10:AB11,'154053'!AC10:AC11) -> 1 | CK9: =AVERAGE(I9,K9,M9,O9,Q9,S9,U9,W9,Y9,AA9,AC9,AE9,AG9,AI9,AK9,AM9,AO9,AQ9,AS9,AU9,AW9,AY9,BA9,BC9,BE9,BG9,BI9,BK9,BM9,BO9,BQ9,BS9,BU9,BW9,BY9,CA9,CC9,CE9,CG9,CI9) -> 0.99846146
H10: Fichas revisadas en la muestra del 10%
A12: 2 | B12: TRÁMITE | C12: Operador de Equipo Tecnológico | D12: Trámites exitosos efectivos= | E12: (Número de trámites exitosos / Número de trámites aplicados) x 100 | F12: Semanal (remesa) | G12: 0.9 | H12: Número de trámites exitosos | I12: =AVERAGE('150151'!AB13:AB14,'150152'!AB13:AB14,'150153'!AB13:AB14) -> 0.99748282 | K12: =AVERAGE('150251'!AB13:AB14,'150253'!AB13:AB14) -> 0.9977942 | M12: =AVERAGE('150351'!AB13:AB14,'150352'!AB13:AB14,'150353'!AB13:AB14) -> 0.96508677 | O12: =AVERAGE('150451'!AB13:AB14) -> 0.99713549 | Q12: =AVERAGE('150551'!AB13:AB14) -> 0.99684127 | S12: =AVERAGE('150651'!AB13:AB14,'150652'!AB13:AB14) -> 0.93352428 | U12: =AVERAGE('150751'!AB13:AB14) -> 0.98174048 | W12: =AVERAGE('150851'!AB13:AB14) -> 0.99866234 | Y12: =AVERAGE('150951'!AB13:AB14,'150952'!AB13:AB14,'150953'!AB13:AB14,'150954'!AB13:AB14) -> 0.92352543 | AA12: =AVERAGE('151051'!AB13:AB14) -> 0.99763733 | AC12: =AVERAGE('151151'!AB13:AB14) -> 0.99723909 | AE12: 1 | AG12: =AVERAGE('151351'!AB13:AB14) -> 0.99291349 | AI12: =AVERAGE('151452'!AB13:AB14,'151453'!AB13:AB14) -> 0.99636603 | AK12: =AVERAGE('151551'!AB13:AB14) -> 0.99698276 | AM12: =AVERAGE('151651'!AB13:AB14,'151652'!AB13:AB14) -> 0.99735444 | AO12: =AVERAGE('151751'!AB13:AB14) -> 0.99394256 | AQ12: =AVERAGE('151851'!AB13:AB14,'151852'!AB13:AB14,'151853'!AB13:AB14) -> 0.99765392 | AS12: =AVERAGE('151951'!AB13:AB14,'151952'!AB13:AB14) -> 0.99484955 | AU12: =AVERAGE('152052'!AB13:AB14,'152053'!AB13:AB14,'152054'!AB13:AB14) -> 0.99637178 | AW12: =AVERAGE('152151'!AB13:AB14,'152152'!AB13:AB14) -> 0.99375531 | AY12: =AVERAGE('152251'!AB13:AB14,'152252'!AB13:AB14) -> 0.99577756 | BA12: =AVERAGE('152351'!AB13:AB14,'152352'!AB13:AB14,'152353'!AB13:AB14) -> 0.99618959 | BC12: =AVERAGE('152451'!AB13:AB14) -> 1 | BE12: =AVERAGE('152551'!AB13:AB14) -> 0.99506687 | BG12: =AVERAGE('152651'!AB13:AB14) -> 0.92121582 | BI12: =AVERAGE('152751'!AB13:AB14,'152752'!AB13:AB14,'152753'!AB13:AB14) -> 0.99821304 | BK12: =AVERAGE('152851'!AB13:AB14,'152853'!AB13:AB14) -> 0.99831086 | BM12: =AVERAGE('152951'!AB13:AB14) -> 0.9999174 | BO12: =AVERAGE('153051'!AB13:AB14,'153052'!AB13:AB14) -> 0.97962298 | BQ12: =AVERAGE('153151'!AB13:AB14) -> 0.99421076 | BS12: =AVERAGE('153251'!AB13:AB14) -> 0.98949762 | BU12: =AVERAGE('153351'!AB13:AB14) -> 0.96666306 | BW12: =AVERAGE('153451'!AB13:AB14) -> 0.9955454 | BY12: =AVERAGE('153551'!AB13:AB14,'153552'!AB13:AB14,'153553'!AB13:AB14) -> 0.82469009 | CA12: =AVERAGE('153651'!AB13:AB14,'153652'!AB13:AB14,'153653'!AB13:AB14,'153654'!AB13:AB14) -> 0.99086865 | CC12: =AVERAGE('153753'!AB13:AB14,'153752'!AB13:AB14) -> 0.98900684 | CE12: =AVERAGE('153851'!AB13:AB14,'153852'!AB13:AB14) -> 0.98902073 | CG12: =AVERAGE('153951'!AB13:AB14) -> 0.99736432 | CI12: =AVERAGE('154051'!AB13:AB14,'154052'!AB13:AB14,'154053'!AC13:AC14) -> 0.99728601 | CK12: =AVERAGE(I12,K12,M12,O12,Q12,S12,U12,W12,Y12,AA12,AC12,AE12,AG12,AI12,AK12,AM12,AO12,AQ12,AS12,AU12,AW12,AY12,BA12,BC12,BE12,BG12,BI12,BK12,BM12,BO12,BQ12,BS12,BU12,BW12,BY12,CA12,CC12,CE12,CG12,CI12) -> 0.98413317
H13: Número de trámites aplicados
A15: 3 | B15: TRANSFERENCIA DE LA INFORMACIÓN | C15: Responsable de Módulo | D15: Reenvíos exitosos = | E15: (Ejecución de los scripts de reenvío de notificaciones/Solicitud de reenvíos de scripts requeridos) x100 | F15: Semanal (remesa) | G15: 1 | H15: Ejecución de los scripts de reenvío de notificaciones | I15: =AVERAGE('150151'!AB16:AB17,'150152'!AB16:AB17,'150153'!AB16:AB17) -> 1 | K15: =AVERAGE('150251'!AB16:AB17,'150253'!AB16:AB17) -> 1 | M15: =AVERAGE('150351'!AB16:AB17,'150352'!AB16:AB17,'150353'!AB16:AB17) -> 1 | O15: =AVERAGE('150451'!AB16:AB17) -> 1 | Q15: =AVERAGE('150551'!AB16:AB17) -> 1 | S15: =AVERAGE('150651'!AB16:AB17,'150652'!AB16:AB17) -> 1 | U15: =AVERAGE('150751'!AB16:AB17) -> 1 | W15: =AVERAGE('150851'!AB16:AB17) -> 1 | Y15: =AVERAGE('150951'!AB16:AB17,'150952'!AB16:AB17,'150953'!AB16:AB17,'150954'!AB16:AB17) -> 1 | AA15: =AVERAGE('151051'!AB16:AB17) -> 1 | AC15: =AVERAGE('151151'!AB16:AB17) -> 1 | AE15: 1 | AG15: =AVERAGE('151351'!AB16:AB17) -> 1 | AI15: =AVERAGE('151452'!AB16:AB17,'151453'!AB16:AB17) -> 1 | AK15: =AVERAGE('151551'!AB16:AB17) -> 1 | AM15: =AVERAGE('151651'!AB16:AB17,'151652'!AB16:AB17) -> 1 | AO15: =AVERAGE('151751'!AB16:AB17) -> 1 | AQ15: =AVERAGE('151851'!AB16:AB17,'151852'!AB16:AB17,'151853'!AB16:AB17) -> 1 | AS15: =AVERAGE('151951'!AB16:AB17,'151952'!AB16:AB17) -> 1 | AU15: =AVERAGE('152052'!AB16:AB17,'152053'!AB16:AB17,'152054'!AB16:AB17) -> 1 | AW15: =AVERAGE('152151'!AB16:AB17,'152152'!AB16:AB17) -> 1 | AY15: =AVERAGE('152251'!AB16:AB17,'152252'!AB16:AB17) -> 1 | BA15: =AVERAGE('152351'!AB16:AB17,'152352'!AB16:AB17,'152353'!AB16:AB17) -> 1 | BC15: =AVERAGE('152451'!AB16:AB17) -> 1 | BE15: =AVERAGE('152551'!AB16:AB17) -> 1 | BG15: =AVERAGE('152651'!AB16:AB17) -> 1 | BI15: =AVERAGE('152751'!AB16:AB17,'152752'!AB16:AB17,'152753'!AB16:AB17) -> 1 | BK15: =AVERAGE('152851'!AB16:AB17,'152853'!AB16:AB17) -> 1 | BM15: =AVERAGE('152951'!AB16:AB17) -> 1 | BO15: =AVERAGE('153051'!AB16:AB17,'153052'!AB16:AB17) -> 1 | BQ15: =AVERAGE('153151'!AB16:AB17) -> 1 | BS15: =AVERAGE('153251'!AB16:AB17) -> 1 | BU15: =AVERAGE('153351'!AB16:AB17) -> 1 | BW15: =AVERAGE('153451'!AB16:AB17) -> 1 | BY15: =AVERAGE('153551'!AB16:AB17,'153552'!AB16:AB17,'153553'!AB16:AB17) -> 1 | CA15: =AVERAGE('153651'!AB16:AB17,'153652'!AB16:AB17,'153653'!AB16:AB17,'153654'!AB16:AB17) -> 1 | CC15: =AVERAGE('153753'!AB16:AB17,'153752'!AB16:AB17) -> 1 | CE15: =AVERAGE('153851'!AB16:AB17,'153852'!AB16:AB17) -> 1 | CG15: =AVERAGE('153951'!AB16:AB17) -> 1 | CI15: =AVERAGE('154051'!AB16:AB17,'154052'!AB16:AB17,'154053'!AC16:AC17) -> 1 | CK15: =AVERAGE(I15,K15,M15,O15,Q15,S15,U15,W15,Y15,AA15,AC15,AE15,AG15,AI15,AK15,AM15,AO15,AQ15,AS15,AU15,AW15,AY15,BA15,BC15,BE15,BG15,BI15,BK15,BM15,BO15,BQ15,BS15,BU15,BW15,BY15,CA15,CC15,CE15,CG15,CI15) -> 1
H16: Solicitud de reevíos de scripts requeridos
A18: 4 | B18: CONCILIACIÓN DE CREDENCIALES PARA VOTAR | C18: Responsable de Módulo | D18: Credenciales disponibles para entrega = | E18: [(Credenciales recibidas - credenciales inconsistentes) / Credenciales recibidas] x 100 | F18: Semanal (remesa) | G18: 0.9 | H18: Credenciales Recibidas - Credenciales inconsistentes | I18: =AVERAGE('150151'!AB19:AB20,'150152'!AB19:AB20,'150153'!AB19:AB20) -> 1 | K18: =AVERAGE('150251'!AB19:AB20,'150253'!AB19:AB20) -> 1 | M18: =AVERAGE('150351'!AB19:AB20,'150352'!AB19:AB20,'150353'!AB19:AB20) -> 1 | O18: =AVERAGE('150451'!AB19:AB20) -> 1 | Q18: =AVERAGE('150551'!AB19:AB20) -> 1 | S18: =AVERAGE('150651'!AB19:AB20,'150652'!AB19:AB20) -> 1 | U18: =AVERAGE('150751'!AB19:AB20) -> 1 | W18: =AVERAGE('150851'!AB19:AB20) -> 1 | Y18: =AVERAGE('150951'!AB19:AB20,'150952'!AB19:AB20,'150953'!AB19:AB20,'150954'!AB19:AB20) -> 1 | AA18: =AVERAGE('151051'!AB19:AB20) -> 1 | AC18: =AVERAGE('151151'!AB19:AB20) -> 1 | AE18: =AVERAGE('151251'!AB19:AB20,'151253'!AB19:AB20) -> 1 | AG18: =AVERAGE('151351'!AB19:AB20) -> 1 | AI18: =AVERAGE('151452'!AB19:AB20,'151453'!AB19:AB20) -> 1 | AK18: =AVERAGE('151551'!AB19:AB20) -> 1 | AM18: =AVERAGE('151651'!AB19:AB20,'151652'!AB19:AB20) -> 1 | AO18: =AVERAGE('151751'!AB19:AB20) -> 1 | AQ18: =AVERAGE('151851'!AB19:AB20,'151852'!AB19:AB20,'151853'!AB19:AB20) -> 1 | AS18: =AVERAGE('151951'!AB19:AB20,'151952'!AB19:AB20) -> 1 | AU18: =AVERAGE('152052'!AB19:AB20,'152053'!AB19:AB20,'152054'!AB19:AB20) -> 1 | AW18: =AVERAGE('152151'!AB19:AB20,'152152'!AB19:AB20) -> 1 | AY18: =AVERAGE('152251'!AB19:AB20,'152252'!AB19:AB20) -> 1 | BA18: =AVERAGE('152351'!AB19:AB20,'152352'!AB19:AB20,'152353'!AB19:AB20) -> 1 | BC18: =AVERAGE('152451'!AB19:AB20) -> 1 | BE18: =AVERAGE('152551'!AB19:AB20) -> 0.99978714 | BG18: =AVERAGE('152651'!AB19:AB20) -> 1 | BI18: =AVERAGE('152751'!AB19:AB20,'152752'!AB19:AB20,'152753'!AB19:AB20) -> 1 | BK18: =AVERAGE('152851'!AB19:AB20,'152853'!AB19:AB20) -> 1 | BM18: =AVERAGE('152951'!AB19:AB20) -> 1 | BO18: =AVERAGE('153051'!AB19:AB20,'153052'!AB19:AB20) -> 1 | BQ18: =AVERAGE('153151'!AB19:AB20) -> 1 | BS18: =AVERAGE('153251'!AB19:AB20) -> 1 | BU18: =AVERAGE('153351'!AB19:AB20) -> 1 | BW18: =AVERAGE('153451'!AB19:AB20) -> 1 | BY18: =AVERAGE('153551'!AB19:AB20,'153552'!AB19:AB20,'153553'!AB19:AB20) -> 1 | CA18: =AVERAGE('153651'!AB19:AB20,'153652'!AB19:AB20,'153653'!AB19:AB20,'153654'!AB19:AB20) -> 1 | CC18: =AVERAGE('153753'!AB19:AB20,'153752'!AB19:AB20) -> 1 | CE18: =AVERAGE('153851'!AB19:AB20,'153852'!AB19:AB20) -> 1 | CG18: =AVERAGE('153951'!AB19:AB20) -> 1 | CI18: =AVERAGE('154051'!AB19:AB20,'154052'!AB19:AB20,'154053'!AC19:AC20) -> 1 | CK18: =AVERAGE(I18,K18,M18,O18,Q18,S18,U18,W18,Y18,AA18,AC18,AE18,AG18,AI18,AK18,AM18,AO18,AQ18,AS18,AU18,AW18,AY18,BA18,BC18,BE18,BG18,BI18,BK18,BM18,BO18,BQ18,BS18,BU18,BW18,BY18,CA18,CC18,CE18,CG18,CI18) -> 0.99999468
H19: Credenciales recibidas
A21: 5 | B21: CONCILIACIÓN DE CREDENCIALES PARA VOTAR | C21: Responsable de Módulo | D21: Arqueo de Credenciales = | E21: (Credenciales disponibles (físicas)/ Credenciales disponibles registradas en SIIRFE) x 100 | F21: Semanal (remesa) | G21: 1 | H21: Credenciales disponibles (físicas) | I21: =AVERAGE('150151'!AB22:AB23,'150152'!AB22:AB23,'150153'!AB22:AB23) -> 1 | K21: =AVERAGE('150251'!AB22:AB23,'150253'!AB22:AB23) -> 1 | M21: =AVERAGE('150351'!AB22:AB23,'150352'!AB22:AB23,'150353'!AB22:AB23) -> 1 | O21: =AVERAGE('150451'!AB22:AB23) -> 1.0084041 | Q21: =AVERAGE('150551'!AB22:AB23) -> 1 | S21: =AVERAGE('150651'!AB22:AB23,'150652'!AB22:AB23) -> 1 | U21: =AVERAGE('150751'!AB22:AB23) -> 1 | W21: =AVERAGE('150851'!AB22:AB23) -> 1 | Y21: =AVERAGE('150951'!AB22:AB23,'150952'!AB22:AB23,'150953'!AB22:AB23,'150954'!AB22:AB23) -> 1 | AA21: =AVERAGE('151051'!AB22:AB23) -> 1 | AC21: =AVERAGE('151151'!AB22:AB23) -> 1 | AE21: =AVERAGE('151251'!AB22:AB23,'151253'!AB22:AB23) -> 1 | AG21: =AVERAGE('151351'!AB22:AB23) -> 0.99972543 | AI21: =AVERAGE('151452'!AB22:AB23,'151453'!AB22:AB23) -> 1 | AK21: =AVERAGE('151551'!AB22:AB23) -> 1 | AM21: =AVERAGE('151651'!AB22:AB23,'151652'!AB22:AB23) -> 1 | AO21: =AVERAGE('151751'!AB22:AB23) -> 1 | AQ21: =AVERAGE('151851'!AB22:AB23,'151852'!AB22:AB23,'151853'!AB22:AB23) -> 1 | AS21: =AVERAGE('151951'!AB22:AB23,'151952'!AB22:AB23) -> 1 | AU21: =AVERAGE('152052'!AB22:AB23,'152053'!AB22:AB23,'152054'!AB22:AB23) -> 1 | AW21: =AVERAGE('152151'!AB22:AB23,'152152'!AB22:AB23) -> 1 | AY21: =AVERAGE('152251'!AB22:AB23,'152252'!AB22:AB23) -> 1 | BA21: =AVERAGE('152351'!AB22:AB23,'152352'!AB22:AB23,'152353'!AB22:AB23) -> 1 | BC21: =AVERAGE('152451'!AB22:AB23) -> 1 | BE21: =AVERAGE('152551'!AB22:AB23) -> 1 | BG21: =AVERAGE('152651'!AB22:AB23) -> 1 | BI21: =AVERAGE('152751'!AB22:AB23,'152752'!AB22:AB23,'152753'!AB22:AB23) -> 1 | BK21: =AVERAGE('152851'!AB22:AB23,'152853'!AB22:AB23) -> 1 | BM21: =AVERAGE('152951'!AB22:AB23) -> 1 | BO21: =AVERAGE('153051'!AB22:AB23,'153052'!AB22:AB23) -> 1 | BQ21: =AVERAGE('153151'!AB22:AB23) -> 1 | BS21: =AVERAGE('153251'!AB22:AB23) -> 1 | BU21: =AVERAGE('153351'!AB22:AB23) -> 1 | BW21: =AVERAGE('153451'!AB22:AB23) -> 1 | BY21: =AVERAGE('153551'!AB22:AB23,'153552'!AB22:AB23,'153553'!AB22:AB23) -> 1 | CA21: =AVERAGE('153651'!AB22:AB23,'153652'!AB22:AB23,'153653'!AB22:AB23,'153654'!AB22:AB23) -> 1 | CC21: =AVERAGE('153753'!AB22:AB23,'153752'!AB22:AB23) -> 1 | CE21: =AVERAGE('153851'!AB22:AB23,'153852'!AB22:AB23) -> 1 | CG21: =AVERAGE('153951'!AB22:AB23) -> 1.000222 | CI21: =AVERAGE('154051'!AB22:AB23,'154052'!AB22:AB23,'154053'!AC22:AC23) -> 1 | CK21: =AVERAGE(I21,K21,M21,O21,Q21,S21,U21,W21,Y21,AA21,AC21,AE21,AG21,AI21,AK21,AM21,AO21,AQ21,AS21,AU21,AW21,AY21,BA21,BC21,BE21,BG21,BI21,BK21,BM21,BO21,BQ21,BS21,BU21,BW21,BY21,CA21,CC21,CE21,CG21,CI21) -> 1.0002088
H22: Credenciales disponibles registradas en SIIRFE
A24: 6 | B24: ENTREGA DE LA CREDENCIAL PARA VOTAR | C24: Operador de Equipo Tecnológico | D24: Efectividad de entrega de CPV en MAC = | E24: (Total de credenciales entregadas / Total de ciudadanas y ciudadanos que acuden al MAC a recoger su credencial) x 100 | F24: Semanal (remesa) | G24: 0.9 | H24: Total de credenciales entregadas | I24: =AVERAGE('150151'!AB25:AB26,'150152'!AB25:AB26,'150153'!AB25:AB26) -> 0.99956541 | K24: =AVERAGE('150251'!AB25:AB26,'150253'!AB25:AB26) -> 0.99946944 | M24: =AVERAGE('150351'!AB25:AB26,'150352'!AB25:AB26,'150353'!AB25:AB26) -> 0.99973505 | O24: =AVERAGE('150451'!AB25:AB26) -> 1 | Q24: =AVERAGE('150551'!AB25:AB26) -> 0.99831812 | S24: =AVERAGE('150651'!AB25:AB26,'150652'!AB25:AB26) -> 0.999728 | U24: =AVERAGE('150751'!AB25:AB26) -> 1 | W24: =AVERAGE('150851'!AB25:AB26) -> 1 | Y24: =AVERAGE('150951'!AB25:AB26,'150952'!AB25:AB26,'150953'!AB25:AB26,'150954'!AB25:AB26) -> 0.9987982 | AA24: =AVERAGE('151051'!AB25:AB26) -> 1 | AC24: =AVERAGE('151151'!AB25:AB26) -> 1 | AE24: =AVERAGE('151251'!AB25:AB26,'151253'!AB25:AB26) -> 1 | AG24: =AVERAGE('151351'!AB25:AB26) -> 0.99949051 | AI24: =AVERAGE('151452'!AB25:AB26,'151453'!AB25:AB26) -> 1 | AK24: =AVERAGE('151551'!AB25:AB26) -> 1 | AM24: =AVERAGE('151651'!AB25:AB26,'151652'!AB25:AB26) -> 1 | AO24: =AVERAGE('151751'!AB25:AB26) -> 1 | AQ24: =AVERAGE('151851'!AB25:AB26,'151852'!AB25:AB26,'151853'!AB25:AB26) -> 1 | AS24: =AVERAGE('151951'!AB25:AB26,'151952'!AB25:AB26) -> 1 | AU24: =AVERAGE('152052'!AB25:AB26,'152053'!AB25:AB26,'152054'!AB25:AB26) -> 1 | AW24: =AVERAGE('152151'!AB25:AB26,'152152'!AB25:AB26) -> 1 | AY24: =AVERAGE('152251'!AB25:AB26,'152252'!AB25:AB26) -> 0.998651 | BA24: =AVERAGE('152351'!AB25:AB26,'152352'!AB25:AB26,'152353'!AB25:AB26) -> 1 | BC24: =AVERAGE('152451'!AB25:AB26) -> 1 | BE24: =AVERAGE('152551'!AB25:AB26) -> 0.99989806 | BG24: =AVERAGE('152651'!AB25:AB26) -> 1 | BI24: =AVERAGE('152751'!AB25:AB26,'152752'!AB25:AB26,'152753'!AB25:AB26) -> 0.99938404 | BK24: =AVERAGE('152851'!AB25:AB26,'152853'!AB25:AB26) -> 0.99943741 | BM24: =AVERAGE('152951'!AB25:AB26) -> 1 | BO24: =AVERAGE('153051'!AB25:AB26,'153052'!AB25:AB26) -> 0.99924634 | BQ24: =AVERAGE('153151'!AB25:AB26) -> 0.99971823 | BS24: =AVERAGE('153251'!AB25:AB26) -> 1 | BU24: =AVERAGE('153351'!AB25:AB26) -> 1 | BW24: =AVERAGE('153451'!AB25:AB26) -> 0.9996873 | BY24: =AVERAGE('153551'!AB25:AB26,'153552'!AB25:AB26,'153553'!AB25:AB26) -> 1 | CA24: =AVERAGE('153651'!AB25:AB26,'153652'!AB25:AB26,'153653'!AB25:AB26,'153654'!AB25:AB26) -> 1 | CC24: =AVERAGE('153753'!AB25:AB26,'153752'!AB25:AB26) -> 0.9980042 | CE24: =AVERAGE('153851'!AB25:AB26,'153852'!AB25:AB26) -> 1 | CG24: =AVERAGE('153951'!AB25:AB26) -> 1 | CI24: =AVERAGE('154051'!AB25:AB26,'154052'!AB25:AB26,'154053'!AC25:AC26) -> 0.99972246 | CK24: =AVERAGE(I24,K24,M24,O24,Q24,S24,U24,W24,Y24,AA24,AC24,AE24,AG24,AI24,AK24,AM24,AO24,AQ24,AS24,AU24,AW24,AY24,BA24,BC24,BE24,BG24,BI24,BK24,BM24,BO24,BQ24,BS24,BU24,BW24,BY24,CA24,CC24,CE24,CG24,CI24) -> 0.99972134
H25: Total de ciudadanas y ciudadanos que acuden al MAC a recoger su credencial

Sheet 150151
A1: ='PANEL DE CONTROL DISTRITAL'!A1:Q1 -> INSTITUTO NACIONAL ELECTORAL SISTEMA DE GESTIÓN DE LA CALIDAD ESTADO DE MÉXICO
D2: Distrito | E2: 1 | F2: Módulo | H2: 150151
A4: TABLERO DE CONTROL DE PROCESOS SUSTANTIVOS DEL SISTEMA DE GESTIÓN DE LA CALIDAD
A6: ='PANEL DE CONTROL DISTRITAL'!A6 -> Número | B6: ='PANEL DE CONTROL DISTRITAL'!B6 -> PROCESOS SUSTANTIVOS E INDICADORES | I6: SEMANA OPERATIVA | AB6: % AVANCE REGISTRADO
B7: ='PANEL DE CONTROL DISTRITAL'!B7 -> DESCRIPCIÓN | E7: ='PANEL DE CONTROL DISTRITAL'!E7 -> MEDICIÓN | I7: ='PANEL DE CONTROL DISTRITAL'!A5 -> CAMPAÑA ANUAL INTENSA 2025
B9: ='PANEL DE CONTROL DISTRITAL'!B8 -> Proceso | C9: ='PANEL DE CONTROL DISTRITAL'!C8 -> Dueño de Proceso | D9: ='PANEL DE CONTROL DISTRITAL'!D8 -> Indicador | E9: ='PANEL DE CONTROL DISTRITAL'!E8 -> Cálculo | F9: ='PANEL DE CONTROL DISTRITAL'!F8 -> Periodo | G9: ='PANEL DE CONTROL DISTRITAL'!G8 -> Estimado | H9: ='PANEL DE CONTROL DISTRITAL'!H8 -> Nominativo | I9: ='150151'!I9 -> 2025-41 | J9: ='150151'!J9 -> 2025-42 | K9: ='150151'!K9 -> 2025-43 | L9: ='150151'!L9 -> 2025-44 | M9: ='150151'!M9 -> 2025-45 | N9: ='150151'!N9 -> 2025-46 | O9: ='150151'!O9 -> 2025-47 | P9: ='150151'!P9 -> 2025-48 | ... Z9: ='150151'!Z9 -> 2025-58 | AA9: 2025-59
A10: ='PANEL DE CONTROL DISTRITAL'!A9 -> 1 | B10: ='PANEL DE CONTROL DISTRITAL'!B9 -> ENTREVISTA | C10: ='PANEL DE CONTROL DISTRITAL'!C9 -> Auxiliar de Atención Ciudadana | D10: ='PANEL DE CONTROL DISTRITAL'!D9 -> Fichas requisitadas correctamente= | E10: ='PANEL DE CONTROL DISTRITAL'!E9 -> (Fichas requisitadas correctamente / Fichas revisadas en la muestra del 10%) x 100 | F10: ='PANEL DE CONTROL DISTRITAL'!F9 -> Semanal (remesa) | G10: ='PANEL DE CONTROL DISTRITAL'!G9 -> 0.9 | H10: ='PANEL DE CONTROL DISTRITAL'!H9 -> Fichas requistadas correctamente | I10: 0 | J10: 47 | K10: 35 | L10: 45 | M10: 48 | N10: 40 | O10: 44 | P10: 35 | Q10: 28 | AB10: =IFERROR(SUM(I10:AA10)/SUM(I11:AA11),0) -> 1
H11: ='PANEL DE CONTROL DISTRITAL'!H10 -> Fichas revisadas en la muestra del 10% | I11: 0 | J11: 47 | K11: 35 | L11: 45 | M11: 48 | N11: 40 | O11: 44 | P11: 35 | Q11: 28
A13: ='PANEL DE CONTROL DISTRITAL'!A12 -> 2 | B13: ='PANEL DE CONTROL DISTRITAL'!B12 -> TRÁMITE | C13: ='PANEL DE CONTROL DISTRITAL'!C12 -> Operador de Equipo Tecnológico | D13: ='PANEL DE CONTROL DISTRITAL'!D12 -> Trámites exitosos efectivos= | E13: ='PANEL DE CONTROL DISTRITAL'!E12 -> (Número de trámites exitosos / Número de trámites aplicados) x 100 | F13: ='PANEL DE CONTROL DISTRITAL'!F12 -> Semanal (remesa) | G13: ='PANEL DE CONTROL DISTRITAL'!G12 -> 0.9 | H13: ='PANEL DE CONTROL DISTRITAL'!H12 -> Número de trámites exitosos | I13: 0 | J13: 466 | K13: 348 | L13: 446 | M13: 475 | N13: 399 | O13: 437 | P13: 345 | Q13: 278 | AB13: =IFERROR(SUM(I13:AA13)/SUM(I14:AA14),0) -> 0.99781318
H14: ='PANEL DE CONTROL DISTRITAL'!H13 -> Número de trámites aplicados | I14: 0 | J14: 466 | K14: 348 | L14: 448 | M14: 476 | N14: 399 | O14: 437 | P14: 347 | Q14: 280
A16: ='PANEL DE CONTROL DISTRITAL'!A15 -> 3 | B16: ='PANEL DE CONTROL DISTRITAL'!B15 -> TRANSFERENCIA DE LA INFORMACIÓN | C16: ='PANEL DE CONTROL DISTRITAL'!C15 -> Responsable de Módulo | D16: ='PANEL DE CONTROL DISTRITAL'!D15 -> Reenvíos exitosos = | E16: ='PANEL DE CONTROL DISTRITAL'!E15 -> (Ejecución de los scripts de reenvío de notificaciones/Solicitud de reenvíos de scripts requeridos) x100 | F16: ='PANEL DE CONTROL DISTRITAL'!F15 -> Semanal (remesa) | G16: ='PANEL DE CONTROL DISTRITAL'!G15 -> 1 | H16: ='PANEL DE CONTROL DISTRITAL'!H15 -> Ejecución de los scripts de reenvío de notificaciones | I16: 0 | J16: 0 | K16: 0 | L16: 0 | M16: 0 | N16: 0 | O16: 0 | P16: 0 | Q16: 0 | AB16: =IFERROR(SUM(I16:AA16)/SUM(I17:AA17),1) -> 1
H17: ='PANEL DE CONTROL DISTRITAL'!H16 -> Solicitud de reevíos de scripts requeridos | I17: 0 | J17: 0 | K17: 0 | L17: 0 | M17: 0 | N17: 0 | O17: 0 | P17: 0 | Q17: 0
A19: ='PANEL DE CONTROL DISTRITAL'!A18 -> 4 | B19: ='PANEL DE CONTROL DISTRITAL'!B18 -> CONCILIACIÓN DE CREDENCIALES PARA VOTAR | C19: ='PANEL DE CONTROL DISTRITAL'!C18 -> Responsable de Módulo | D19: ='PANEL DE CONTROL DISTRITAL'!D18 -> Credenciales disponibles para entrega = | E19: ='PANEL DE CONTROL DISTRITAL'!E18 -> [(Credenciales recibidas - credenciales inconsistentes) / Credenciales recibidas] x 100 | F19: ='PANEL DE CONTROL DISTRITAL'!F18 -> Semanal (remesa) | G19: ='PANEL DE CONTROL DISTRITAL'!G18 -> 0.9 | H19: ='PANEL DE CONTROL DISTRITAL'!H18 -> Credenciales Recibidas - Credenciales inconsistentes | I19: 0 | J19: 523 | K19: 241 | L19: 589 | M19: 479 | N19: 414 | O19: 438 | P19: 405 | Q19: 318 | AB19: =IFERROR(SUM(I19:AA19)/SUM(I20:AA20),0) -> 1
H20: ='PANEL DE CONTROL DISTRITAL'!H19 -> Credenciales recibidas | I20: 0 | J20: 523 | K20: 241 | L20: 589 | M20: 479 | N20: 414 | O20: 438 | P20: 405 | Q20: 318
A22: ='PANEL DE CONTROL DISTRITAL'!A21 -> 5 | B22: ='PANEL DE CONTROL DISTRITAL'!B21 -> CONCILIACIÓN DE CREDENCIALES PARA VOTAR | C22: ='PANEL DE CONTROL DISTRITAL'!C21 -> Responsable de Módulo | D22: ='PANEL DE CONTROL DISTRITAL'!D21 -> Arqueo de Credenciales = | E22: ='PANEL DE CONTROL DISTRITAL'!E21 -> (Credenciales disponibles (físicas)/ Credenciales disponibles registradas en SIIRFE) x 100 | F22: ='PANEL DE CONTROL DISTRITAL'!F21 -> Semanal (remesa) | G22: ='PANEL DE CONTROL DISTRITAL'!G21 -> 1 | H22: ='PANEL DE CONTROL DISTRITAL'!H21 -> Credenciales disponibles (físicas) | I22: 0 | J22: 657 | K22: 436 | L22: 606 | M22: 656 | N22: 604 | O22: 631 | P22: 620 | Q22: 566 | AB22: =IFERROR(SUM(I22:AA22)/SUM(I23:AA23),0) -> 1
H23: ='PANEL DE CONTROL DISTRITAL'!H22 -> Credenciales disponibles registradas en SIIRFE | I23: 0 | J23: 657 | K23: 436 | L23: 606 | M23: 656 | N23: 604 | O23: 631 | P23: 620 | Q23: 566
A25: ='PANEL DE CONTROL DISTRITAL'!A24 -> 6 | B25: ='PANEL DE CONTROL DISTRITAL'!B24 -> ENTREGA DE LA CREDENCIAL PARA VOTAR | C25: ='PANEL DE CONTROL DISTRITAL'!C24 -> Operador de Equipo Tecnológico | D25: ='PANEL DE CONTROL DISTRITAL'!D24 -> Efectividad de entrega de CPV en MAC = | E25: ='PANEL DE CONTROL DISTRITAL'!E24 -> (Total de credenciales entregadas / Total de ciudadanas y ciudadanos que acuden al MAC a recoger su credencial) x 100 | F25: ='PANEL DE CONTROL DISTRITAL'!F24 -> Semanal (remesa) | G25: ='PANEL DE CONTROL DISTRITAL'!G24 -> 0.9 | H25: ='PANEL DE CONTROL DISTRITAL'!H24 -> Total de credenciales entregadas | I25: 0 | J25: 445 | K25: 462 | L25: 417 | M25: 429 | N25: 466 | O25: 411 | P25: 416 | Q25: 372 | AB25: =IFERROR(SUM(I25:AA25)/SUM(I26:AA26),0) -> 1
H26: ='PANEL DE CONTROL DISTRITAL'!H25 -> Total de ciudadanas y ciudadanos que acuden al MAC a recoger su credencial | I26: 0 | J26: 445 | K26: 462 | L26: 417 | M26: 429 | N26: 466 | O26: 411 | P26: 416 | Q26: 372
B27: *Registre el valor nominal solicitado en la celda, el resultado proporcional esta automatizado.
I29: Semaforización
J30: Valor que requiere atención y justificación en el apartado de observaciones
J31: Valor suficiente
J32: Valor esperado
B34: CUADRO DE OBSERVACIONES
B35: Descripción | H35: No conformidad

Sheet 150152
A1: ='PANEL DE CONTROL DISTRITAL'!A1:Q1 -> INSTITUTO NACIONAL ELECTORAL SISTEMA DE GESTIÓN DE LA CALIDAD ESTADO DE MÉXICO
D2: Distrito | E2: 1 | F2: Módulo | H2: 150152
A4: TABLERO DE CONTROL DE PROCESOS SUSTANTIVOS DEL SISTEMA DE GESTIÓN DE LA CALIDAD
A6: ='PANEL DE CONTROL DISTRITAL'!A6 -> Número | B6: ='PANEL DE CONTROL DISTRITAL'!B6 -> PROCESOS SUSTANTIVOS E INDICADORES | I6: SEMANA OPERATIVA | AB6: % AVANCE REGISTRADO
B7: ='PANEL DE CONTROL DISTRITAL'!B7 -> DESCRIPCIÓN | E7: ='PANEL DE CONTROL DISTRITAL'!E7 -> MEDICIÓN | I7: ='PANEL DE CONTROL DISTRITAL'!A5 -> CAMPAÑA ANUAL INTENSA 2025
B9: ='PANEL DE CONTROL DISTRITAL'!B8 -> Proceso | C9: ='PANEL DE CONTROL DISTRITAL'!C8 -> Dueño de Proceso | D9: ='PANEL DE CONTROL DISTRITAL'!D8 -> Indicador | E9: ='PANEL DE CONTROL DISTRITAL'!E8 -> Cálculo | F9: ='PANEL DE CONTROL DISTRITAL'!F8 -> Periodo | G9: ='PANEL DE CONTROL DISTRITAL'!G8 -> Estimado | H9: ='PANEL DE CONTROL DISTRITAL'!H8 -> Nominativo | I9: ='150151'!I9 -> 2025-41 | J9: ='150151'!J9 -> 2025-42 | K9: ='150151'!K9 -> 2025-43 | L9: ='150151'!L9 -> 2025-44 | M9: ='150151'!M9 -> 2025-45 | N9: ='150151'!N9 -> 2025-46 | O9: ='150151'!O9 -> 2025-47 | P9: ='150151'!P9 -> 2025-48 | ... Z9: ='150151'!Z9 -> 2025-58 | AA9: ='150151'!#REF! -> #REF!
A10: ='PANEL DE CONTROL DISTRITAL'!A9 -> 1 | B10: ='PANEL DE CONTROL DISTRITAL'!B9 -> ENTREVISTA | C10: ='PANEL DE CONTROL DISTRITAL'!C9 -> Auxiliar de Atención Ciudadana | D10: ='PANEL DE CONTROL DISTRITAL'!D9 -> Fichas requisitadas correctamente= | E10: ='PANEL DE CONTROL DISTRITAL'!E9 -> (Fichas requisitadas correctamente / Fichas revisadas en la muestra del 10%) x 100 | F10: ='PANEL DE CONTROL DISTRITAL'!F9 -> Semanal (remesa) | G10: ='PANEL DE CONTROL DISTRITAL'!G9 -> 0.9 | H10: ='PANEL DE CONTROL DISTRITAL'!H9 -> Fichas requistadas correctamente | I10: 0 | J10: 22 | K10: 13 | L10: 20 | M10: 21 | N10: 23 | O10: 26 | P10: 16 | Q10: 15 | AB10: =IFERROR(SUM(I10:AA10)/SUM(I11:AA11),0) -> 1
H11: ='PANEL DE CONTROL DISTRITAL'!H10 -> Fichas revisadas en la muestra del 10% | I11: 0 | J11: 22 | K11: 13 | L11: 20 | M11: 21 | N11: 23 | O11: 26 | P11: 16 | Q11: 15
A13: ='PANEL DE CONTROL DISTRITAL'!A12 -> 2 | B13: ='PANEL DE CONTROL DISTRITAL'!B12 -> TRÁMITE | C13: ='PANEL DE CONTROL DISTRITAL'!C12 -> Operador de Equipo Tecnológico | D13: ='PANEL DE CONTROL DISTRITAL'!D12 -> Trámites exitosos efectivos= | E13: ='PANEL DE CONTROL DISTRITAL'!E12 -> (Número de trámites exitosos / Número de trámites aplicados) x 100 | F13: ='PANEL DE CONTROL DISTRITAL'!F12 -> Semanal (remesa) | G13: ='PANEL DE CONTROL DISTRITAL'!G12 -> 0.9 | H13: ='PANEL DE CONTROL DISTRITAL'!H12 -> Número de trámites exitosos | I13: 0 | J13: 211 | K13: 127 | L13: 197 | M13: 204 | N13: 226 | O13: 253 | P13: 157 | Q13: 147 | AB13: =IFERROR(SUM(I13:AA13)/SUM(I14:AA14),0) -> 0.99737877
H14: ='PANEL DE CONTROL DISTRITAL'!H13 -> Número de trámites aplicados | I14: 0 | J14: 212 | K14: 127 | L14: 198 | M14: 205 | N14: 226 | O14: 253 | P14: 158 | Q14: 147
A16: ='PANEL DE CONTROL DISTRITAL'!A15 -> 3 | B16: ='PANEL DE CONTROL DISTRITAL'!B15 -> TRANSFERENCIA DE LA INFORMACIÓN | C16: ='PANEL DE CONTROL DISTRITAL'!C15 -> Responsable de Módulo | D16: ='PANEL DE CONTROL DISTRITAL'!D15 -> Reenvíos exitosos = | E16: ='PANEL DE CONTROL DISTRITAL'!E15 -> (Ejecución de los scripts de reenvío de notificaciones/Solicitud de reenvíos de scripts requeridos) x100 | F16: ='PANEL DE CONTROL DISTRITAL'!F15 -> Semanal (remesa) | G16: ='PANEL DE CONTROL DISTRITAL'!G15 -> 1 | H16: ='PANEL DE CONTROL DISTRITAL'!H15 -> Ejecución de los scripts de reenvío de notificaciones | I16: 0 | J16: 0 | K16: 0 | L16: 0 | M16: 0 | N16: 0 | O16: 0 | P16: 0 | Q16: 0 | AB16: =IFERROR(SUM(I16:AA16)/SUM(J17:AA17),1) -> 1
H17: ='PANEL DE CONTROL DISTRITAL'!H16 -> Solicitud de reevíos de scripts requeridos | I17: 0 | J17: 0 | K17: 0 | L17: 0 | M17: 0 | N17: 0 | O17: 0 | P17: 0 | Q17: 0
A19: ='PANEL DE CONTROL DISTRITAL'!A18 -> 4 | B19: ='PANEL DE CONTROL DISTRITAL'!B18 -> CONCILIACIÓN DE CREDENCIALES PARA VOTAR | C19: ='PANEL DE CONTROL DISTRITAL'!C18 -> Responsable de Módulo | D19: ='PANEL DE CONTROL DISTRITAL'!D18 -> Credenciales disponibles para entrega = | E19: ='PANEL DE CONTROL DISTRITAL'!E18 -> [(Credenciales recibidas - credenciales inconsistentes) / Credenciales recibidas] x 100 | F19: ='PANEL DE CONTROL DISTRITAL'!F18 -> Semanal (remesa) | G19: ='PANEL DE CONTROL DISTRITAL'!G18 -> 0.9 | H19: ='PANEL DE CONTROL DISTRITAL'!H18 -> Credenciales Recibidas - Credenciales inconsistentes | I19: 0 | J19: 262 | K19: 144 | L19: 220 | M19: 230 | N19: 126 | O19: 247 | P19: 237 | Q19: 170 | AB19: =IFERROR(SUM(I19:AA19)/SUM(I20:AA20),0) -> 1
H20: ='PANEL DE CONTROL DISTRITAL'!H19 -> Credenciales recibidas | I20: 0 | J20: 262 | K20: 144 | L20: 220 | M20: 230 | N20: 126 | O20: 247 | P20: 237 | Q20: 170
A22: ='PANEL DE CONTROL DISTRITAL'!A21 -> 5 | B22: ='PANEL DE CONTROL DISTRITAL'!B21 -> CONCILIACIÓN DE CREDENCIALES PARA VOTAR | C22: ='PANEL DE CONTROL DISTRITAL'!C21 -> Responsable de Módulo | D22: ='PANEL DE CONTROL DISTRITAL'!D21 -> Arqueo de Credenciales = | E22: ='PANEL DE CONTROL DISTRITAL'!E21 -> (Credenciales disponibles (físicas)/ Credenciales disponibles registradas en SIIRFE) x 100 | F22: ='PANEL DE CONTROL DISTRITAL'!F21 -> Semanal (remesa) | G22: ='PANEL DE CONTROL DISTRITAL'!G21 -> 1 | H22: ='PANEL DE CONTROL DISTRITAL'!H21 -> Credenciales disponibles (físicas) | I22: 0 | J22: 499 | K22: 339 | L22: 436 | M22: 488 | N22: 391 | O22: 444 | P22: 461 | Q22: 412 | AB22: =IFERROR(SUM(I22:AA22)/SUM(I23:AA23),0) -> 1
H23: ='PANEL DE CONTROL DISTRITAL'!H22 -> Credenciales disponibles registradas en SIIRFE | I23: 0 | J23: 499 | K23: 339 | L23: 436 | M23: 488 | N23: 391 | O23: 444 | P23: 461 | Q23: 412
A25: ='PANEL DE CONTROL DISTRITAL'!A24 -> 6 | B25: ='PANEL DE CONTROL DISTRITAL'!B24 -> ENTREGA DE LA CREDENCIAL PARA VOTAR | C25: ='PANEL DE CONTROL DISTRITAL'!C24 -> Operador de Equipo Tecnológico | D25: ='PANEL DE CONTROL DISTRITAL'!D24 -> Efectividad de entrega de CPV en MAC = | E25: ='PANEL DE CONTROL DISTRITAL'!E24 -> (Total de credenciales entregadas / Total de ciudadanas y ciudadanos que acuden al MAC a recoger su credencial) x 100 | F25: ='PANEL DE CONTROL DISTRITAL'!F24 -> Semanal (remesa) | G25: ='PANEL DE CONTROL DISTRITAL'!G24 -> 0.9 | H25: ='PANEL DE CONTROL DISTRITAL'!H24 -> Total de credenciales entregadas | I25: 0 | J25: 447 | K25: 304 | L25: 122 | M25: 178 | N25: 223 | O25: 194 | P25: 220 | Q25: 219 | AB25: =IFERROR(SUM(I25:AA25)/SUM(I26:AA26),0) -> 1
H26: ='PANEL DE CONTROL DISTRITAL'!H25 -> Total de ciudadanas y ciudadanos que acuden al MAC a recoger su credencial | I26: 0 | J26: 447 | K26: 304 | L26: 122 | M26: 178 | N26: 223 | O26: 194 | P26: 220 | Q26: 219
B27: *Registre el valor nominal solicitado en la celda, el resultado proporcional esta automatizado.
I29: Semaforización
J30: Valor que requiere atención y justificación en el apartado de observaciones
J31: Valor suficiente
J32: Valor esperado
B34: CUADRO DE OBSERVACIONES
B35: Descripción | H35: No conformidad

Sheet 150153
A1: ='PANEL DE CONTROL DISTRITAL'!A1:Q1 -> INSTITUTO NACIONAL ELECTORAL SISTEMA DE GESTIÓN DE LA CALIDAD ESTADO DE MÉXICO
D2: Distrito | E2: 1 | F2: Módulo | H2: 150153
A4: TABLERO DE CONTROL DE PROCESOS SUSTANTIVOS DEL SISTEMA DE GESTIÓN DE LA CALIDAD
A6: ='PANEL DE CONTROL DISTRITAL'!A6 -> Número | B6: ='PANEL DE CONTROL DISTRITAL'!B6 -> PROCESOS SUSTANTIVOS E INDICADORES | I6: SEMANA OPERATIVA | AB6: % AVANCE REGISTRADO
B7: ='PANEL DE CONTROL DISTRITAL'!B7 -> DESCRIPCIÓN | E7: ='PANEL DE CONTROL DISTRITAL'!E7 -> MEDICIÓN | I7: ='PANEL DE CONTROL DISTRITAL'!A5 -> CAMPAÑA ANUAL INTENSA 2025
B9: ='PANEL DE CONTROL DISTRITAL'!B8 -> Proceso | C9: ='PANEL DE CONTROL DISTRITAL'!C8 -> Dueño de Proceso | D9: ='PANEL DE CONTROL DISTRITAL'!D8 -> Indicador | E9: ='PANEL DE CONTROL DISTRITAL'!E8 -> Cálculo | F9: ='PANEL DE CONTROL DISTRITAL'!F8 -> Periodo | G9: ='PANEL DE CONTROL DISTRITAL'!G8 -> Estimado | H9: ='PANEL DE CONTROL DISTRITAL'!H8 -> Nominativo | I9: ='150151'!I9 -> 2025-41 | J9: ='150151'!J9 -> 2025-42 | K9: ='150151'!K9 -> 2025-43 | L9: ='150151'!L9 -> 2025-44 | M9: ='150151'!M9 -> 2025-45 | N9: ='150151'!N9 -> 2025-46 | O9: ='150151'!O9 -> 2025-47 | P9: ='150151'!P9 -> 2025-48 | ... Z9: ='150151'!Z9 -> 2025-58 | AA9: ='150151'!#REF! -> #REF!
A10: ='PANEL DE CONTROL DISTRITAL'!A9 -> 1 | B10: ='PANEL DE CONTROL DISTRITAL'!B9 -> ENTREVISTA | C10: ='PANEL DE CONTROL DISTRITAL'!C9 -> Auxiliar de Atención Ciudadana | D10: ='PANEL DE CONTROL DISTRITAL'!D9 -> Fichas requisitadas correctamente= | E10: ='PANEL DE CONTROL DISTRITAL'!E9 -> (Fichas requisitadas correctamente / Fichas revisadas en la muestra del 10%) x 100 | F10: ='PANEL DE CONTROL DISTRITAL'!F9 -> Semanal (remesa) | G10: ='PANEL DE CONTROL DISTRITAL'!G9 -> 0.9 | H10: ='PANEL DE CONTROL DISTRITAL'!H9 -> Fichas requistadas correctamente | I10: 0 | J10: 21 | K10: 15 | L10: 18 | M10: 20 | N10: 23 | O10: 20 | P10: 14 | Q10: 19 | AB10: =IFERROR(SUM(I10:AA10)/SUM(I11:AA11),0) -> 0.99337748
H11: ='PANEL DE CONTROL DISTRITAL'!H10 -> Fichas revisadas en la muestra del 10% | I11: 0 | J11: 22 | K11: 15 | L11: 18 | M11: 20 | N11: 23 | O11: 20 | P11: 14 | Q11: 19
A13: ='PANEL DE CONTROL DISTRITAL'!A12 -> 2 | B13: ='PANEL DE CONTROL DISTRITAL'!B12 -> TRÁMITE | C13: ='PANEL DE CONTROL DISTRITAL'!C12 -> Operador de Equipo Tecnológico | D13: ='PANEL DE CONTROL DISTRITAL'!D12 -> Trámites exitosos efectivos= | E13: ='PANEL DE CONTROL DISTRITAL'!E12 -> (Número de trámites exitosos / Número de trámites aplicados) x 100 | F13: ='PANEL DE CONTROL DISTRITAL'!F12 -> Semanal (remesa) | G13: ='PANEL DE CONTROL DISTRITAL'!G12 -> 0.9 | H13: ='PANEL DE CONTROL DISTRITAL'!H12 -> Número de trámites exitosos | I13: 0 | J13: 201 | K13: 148 | L13: 173 | M13: 196 | N13: 222 | O13: 193 | P13: 138 | Q13: 183 | AB13: =IFERROR(SUM(I13:AA13)/SUM(I14:AA14),0) -> 0.99725652
H14: ='PANEL DE CONTROL DISTRITAL'!H13 -> Número de trámites aplicados | I14: 0 | J14: 201 | K14: 150 | L14: 173 | M14: 196 | N14: 222 | O14: 193 | P14: 138 | Q14: 185
A16: ='PANEL DE CONTROL DISTRITAL'!A15 -> 3 | B16: ='PANEL DE CONTROL DISTRITAL'!B15 -> TRANSFERENCIA DE LA INFORMACIÓN | C16: ='PANEL DE CONTROL DISTRITAL'!C15 -> Responsable de Módulo | D16: ='PANEL DE CONTROL DISTRITAL'!D15 -> Reenvíos exitosos = | E16: ='PANEL DE CONTROL DISTRITAL'!E15 -> (Ejecución de los scripts de reenvío de notificaciones/Solicitud de reenvíos de scripts requeridos) x100 | F16: ='PANEL DE CONTROL DISTRITAL'!F15 -> Semanal (remesa) | G16: ='PANEL DE CONTROL DISTRITAL'!G15 -> 1 | H16: ='PANEL DE CONTROL DISTRITAL'!H15 -> Ejecución de los scripts de reenvío de notificaciones | I16: 0 | J16: 0 | K16: 0 | L16: 0 | M16: 0 | N16: 0 | O16: 0 | P16: 0 | Q16: 0 | AB16: =IFERROR(SUM(I16:AA16)/SUM(I17:AA17),1) -> 1
H17: ='PANEL DE CONTROL DISTRITAL'!H16 -> Solicitud de reevíos de scripts requeridos | I17: 0 | J17: 0 | K17: 0 | L17: 0 | M17: 0 | N17: 0 | O17: 0 | P17: 0 | Q17: 0
A19: ='PANEL DE CONTROL DISTRITAL'!A18 -> 4 | B19: ='PANEL DE CONTROL DISTRITAL'!B18 -> CONCILIACIÓN DE CREDENCIALES PARA VOTAR | C19: ='PANEL DE CONTROL DISTRITAL'!C18 -> Responsable de Módulo | D19: ='PANEL DE CONTROL DISTRITAL'!D18 -> Credenciales disponibles para entrega = | E19: ='PANEL DE CONTROL DISTRITAL'!E18 -> [(Credenciales recibidas - credenciales inconsistentes) / Credenciales recibidas] x 100 | F19: ='PANEL DE CONTROL DISTRITAL'!F18 -> Semanal (remesa) | G19: ='PANEL DE CONTROL DISTRITAL'!G18 -> 0.9 | H19: ='PANEL DE CONTROL DISTRITAL'!H18 -> Credenciales Recibidas - Credenciales inconsistentes | I19: 0 | J19: 187 | K19: 83 | L19: 260 | M19: 136 | N19: 194 | O19: 236 | P19: 181 | Q19: 137 | AB19: =IFERROR(SUM(I19:AA19)/SUM(I20:AA20),0) -> 1
H20: ='PANEL DE CONTROL DISTRITAL'!H19 -> Credenciales recibidas | I20: 0 | J20: 187 | K20: 83 | L20: 260 | M20: 136 | N20: 194 | O20: 236 | P20: 181 | Q20: 137
A22: ='PANEL DE CONTROL DISTRITAL'!A21 -> 5 | B22: ='PANEL DE CONTROL DISTRITAL'!B21 -> CONCILIACIÓN DE CREDENCIALES PARA VOTAR | C22: ='PANEL DE CONTROL DISTRITAL'!C21 -> Responsable de Módulo | D22: ='PANEL DE CONTROL DISTRITAL'!D21 -> Arqueo de Credenciales = | E22: ='PANEL DE CONTROL DISTRITAL'!E21 -> (Credenciales disponibles (físicas)/ Credenciales disponibles registradas en SIIRFE) x 100 | F22: ='PANEL DE CONTROL DISTRITAL'!F21 -> Semanal (remesa) | G22: ='PANEL DE CONTROL DISTRITAL'!G21 -> 1 | H22: ='PANEL DE CONTROL DISTRITAL'!H21 -> Credenciales disponibles (físicas) | I22: 0 | J22: 325 | K22: 256 | L22: 392 | M22: 268 | N22: 272 | O22: 366 | P22: 324 | Q22: 286 | AB22: =IFERROR(SUM(I22:AA22)/SUM(I23:AA23),0) -> 1
H23: ='PANEL DE CONTROL DISTRITAL'!H22 -> Credenciales disponibles registradas en SIIRFE | I23: 0 | J23: 325 | K23: 256 | L23: 392 | M23: 268 | N23: 272 | O23: 366 | P23: 324 | Q23: 286
A25: ='PANEL DE CONTROL DISTRITAL'!A24 -> 6 | B25: ='PANEL DE CONTROL DISTRITAL'!B24 -> ENTREGA DE LA CREDENCIAL PARA VOTAR | C25: ='PANEL DE CONTROL DISTRITAL'!C24 -> Operador de Equipo Tecnológico | D25: ='PANEL DE CONTROL DISTRITAL'!D24 -> Efectividad de entrega de CPV en MAC = | E25: ='PANEL DE CONTROL DISTRITAL'!E24 -> (Total de credenciales entregadas / Total de ciudadanas y ciudadanos que acuden al MAC a recoger su credencial) x 100 | F25: ='PANEL DE CONTROL DISTRITAL'!F24 -> Semanal (remesa) | G25: ='PANEL DE CONTROL DISTRITAL'!G24 -> 0.9 | H25: ='PANEL DE CONTROL DISTRITAL'!H24 -> Total de credenciales entregadas | I25: 0 | J25: 312 | K25: 106 | L25: 124 | M25: 260 | N25: 190 | O25: 142 | P25: 223 | Q25: 175 | AB25: =IFERROR(SUM(I25:AA25)/SUM(I26:AA26),0) -> 0.99869622
H26: ='PANEL DE CONTROL DISTRITAL'!H25 -> Total de ciudadanas y ciudadanos que acuden al MAC a recoger su credencial | I26: 0 | J26: 312 | K26: 106 | L26: 124 | M26: 261 | N26: 191 | O26: 142 | P26: 223 | Q26: 175
B27: *Registre el valor nominal solicitado en la celda, el resultado proporcional esta automatizado.
I29: Semaforización
J30: Valor que requiere atención y justificación en el apartado de observaciones
J31: Valor suficiente
J32: Valor esperado
B34: CUADRO DE OBSERVACIONES
B35: Descripción | H35: No conformidad

Sheet 150251
A1: ='PANEL DE CONTROL DISTRITAL'!A1:Q1 -> INSTITUTO NACIONAL ELECTORAL SISTEMA DE GESTIÓN DE LA CALIDAD ESTADO DE MÉXICO
D2: Distrito | E2: 2 | F2: Módulo | H2: 150251
A4: TABLERO DE CONTROL DE PROCESOS SUSTANTIVOS DEL SISTEMA DE GESTIÓN DE LA CALIDAD
A6: ='PANEL DE CONTROL DISTRITAL'!A6 -> Número | B6: ='PANEL DE CONTROL DISTRITAL'!B6 -> PROCESOS SUSTANTIVOS E INDICADORES | I6: SEMANA OPERATIVA | AB6: % AVANCE REGISTRADO
B7: ='PANEL DE CONTROL DISTRITAL'!B7 -> DESCRIPCIÓN | E7: ='PANEL DE CONTROL DISTRITAL'!E7 -> MEDICIÓN | I7: ='PANEL DE CONTROL DISTRITAL'!A5 -> CAMPAÑA ANUAL INTENSA 2025
B9: ='PANEL DE CONTROL DISTRITAL'!B8 -> Proceso | C9: ='PANEL DE CONTROL DISTRITAL'!C8 -> Dueño de Proceso | D9: ='PANEL DE CONTROL DISTRITAL'!D8 -> Indicador | E9: ='PANEL DE CONTROL DISTRITAL'!E8 -> Cálculo | F9: ='PANEL DE CONTROL DISTRITAL'!F8 -> Periodo | G9: ='PANEL DE CONTROL DISTRITAL'!G8 -> Estimado | H9: ='PANEL DE CONTROL DISTRITAL'!H8 -> Nominativo | I9: ='150151'!I9 -> 2025-41 | J9: ='150151'!J9 -> 2025-42 | K9: ='150151'!K9 -> 2025-43 | L9: ='150151'!L9 -> 2025-44 | M9: ='150151'!M9 -> 2025-45 | N9: ='150151'!N9 -> 2025-46 | O9: ='150151'!O9 -> 2025-47 | P9: ='150151'!P9 -> 2025-48 | ... W9: ='150151'!W9 -> 2025-55 | X9: 2025-56 | Y9: 2025-57 | AA9: 2025-58
A10: ='PANEL DE CONTROL DISTRITAL'!A9 -> 1 | B10: ='PANEL DE CONTROL DISTRITAL'!B9 -> ENTREVISTA | C10: ='PANEL DE CONTROL DISTRITAL'!C9 -> Auxiliar de Atención Ciudadana | D10: ='PANEL DE CONTROL DISTRITAL'!D9 -> Fichas requisitadas correctamente= | E10: ='PANEL DE CONTROL DISTRITAL'!E9 -> (Fichas requisitadas correctamente / Fichas revisadas en la muestra del 10%) x 100 | F10: ='PANEL DE CONTROL DISTRITAL'!F9 -> Semanal (remesa) | G10: ='PANEL DE CONTROL DISTRITAL'!G9 -> 0.9 | H10: ='PANEL DE CONTROL DISTRITAL'!H9 -> Fichas requistadas correctamente | I10: 0 | J10: 60 | K10: 48 | L10: 65 | M10: 62 | N10: 61 | O10: 61 | P10: 51 | Q10: 42 | AB10: =IFERROR(SUM(I10:AA10)/SUM(I11:AA11),0) -> 0.99557522
H11: ='PANEL DE CONTROL DISTRITAL'!H10 -> Fichas revisadas en la muestra del 10% | I11: 0 | J11: 60 | K11: 48 | L11: 66 | M11: 62 | N11: 62 | O11: 61 | P11: 51 | Q11: 42
A13: ='PANEL DE CONTROL DISTRITAL'!A12 -> 2 | B13: ='PANEL DE CONTROL DISTRITAL'!B12 -> TRÁMITE | C13: ='PANEL DE CONTROL DISTRITAL'!C12 -> Operador de Equipo Tecnológico | D13: ='PANEL DE CONTROL DISTRITAL'!D12 -> Trámites exitosos efectivos= | E13: ='PANEL DE CONTROL DISTRITAL'!E12 -> (Número de trámites exitosos / Número de trámites aplicados) x 100 | F13: ='PANEL DE CONTROL DISTRITAL'!F12 -> Semanal (remesa) | G13: ='PANEL DE CONTROL DISTRITAL'!G12 -> 0.9 | H13: ='PANEL DE CONTROL DISTRITAL'!H12 -> Número de trámites exitosos | I13: 0 | J13: 599 | K13: 475 | L13: 659 | M13: 620 | N13: 621 | O13: 615 | P13: 515 | Q13: 422 | AB13: =IFERROR(SUM(I13:AA13)/SUM(I14:AA14),0) -> 0.99823555
H14: ='PANEL DE CONTROL DISTRITAL'!H13 -> Número de trámites aplicados | I14: 0 | J14: 603 | K14: 477 | L14: 660 | M14: 620 | N14: 621 | O14: 616 | P14: 515 | Q14: 422
A16: ='PANEL DE CONTROL DISTRITAL'!A15 -> 3 | B16: ='PANEL DE CONTROL DISTRITAL'!B15 -> TRANSFERENCIA DE LA INFORMACIÓN | C16: ='PANEL DE CONTROL DISTRITAL'!C15 -> Responsable de Módulo | D16: ='PANEL DE CONTROL DISTRITAL'!D15 -> Reenvíos exitosos = | E16: ='PANEL DE CONTROL DISTRITAL'!E15 -> (Ejecución de los scripts de reenvío de notificaciones/Solicitud de reenvíos de scripts requeridos) x100 | F16: ='PANEL DE CONTROL DISTRITAL'!F15 -> Semanal (remesa) | G16: ='PANEL DE CONTROL DISTRITAL'!G15 -> 1 | H16: ='PANEL DE CONTROL DISTRITAL'!H15 -> Ejecución de los scripts de reenvío de notificaciones | I16: 0 | J16: 0 | K16: 0 | L16: 1 | M16: 1 | N16: 1 | O16: 1 | P16: 0 | Q16: 1 | AB16: =IFERROR(SUM(I16:AA16)/SUM(I17:AA17),1) -> 1
H17: ='PANEL DE CONTROL DISTRITAL'!H16 -> Solicitud de reevíos de scripts requeridos | I17: 0 | J17: 0 | K17: 0 | L17: 1 | M17: 1 | N17: 1 | O17: 1 | P17: 0 | Q17: 1
A19: ='PANEL DE CONTROL DISTRITAL'!A18 -> 4 | B19: ='PANEL DE CONTROL DISTRITAL'!B18 -> CONCILIACIÓN DE CREDENCIALES PARA VOTAR | C19: ='PANEL DE CONTROL DISTRITAL'!C18 -> Responsable de Módulo | D19: ='PANEL DE CONTROL DISTRITAL'!D18 -> Credenciales disponibles para entrega = | E19: ='PANEL DE CONTROL DISTRITAL'!E18 -> [(Credenciales recibidas - credenciales inconsistentes) / Credenciales recibidas] x 100 | F19: ='PANEL DE CONTROL DISTRITAL'!F18 -> Semanal (remesa) | G19: ='PANEL DE CONTROL DISTRITAL'!G18 -> 0.9 | H19: ='PANEL DE CONTROL DISTRITAL'!H18 -> Credenciales Recibidas - Credenciales inconsistentes | I19: 0 | J19: 568 | K19: 440 | L19: 679 | M19: 727 | N19: 520 | O19: 638 | P19: 549 | Q19: 499 | AB19: =IFERROR(SUM(I19:AA19)/SUM(I20:AA20),0) -> 1
H20: ='PANEL DE CONTROL DISTRITAL'!H19 -> Credenciales recibidas | I20: 0 | J20: 568 | K20: 440 | L20: 679 | M20: 727 | N20: 520 | O20: 638 | P20: 549 | Q20: 499
A22: ='PANEL DE CONTROL DISTRITAL'!A21 -> 5 | B22: ='PANEL DE CONTROL DISTRITAL'!B21 -> CONCILIACIÓN DE CREDENCIALES PARA VOTAR | C22: ='PANEL DE CONTROL DISTRITAL'!C21 -> Responsable de Módulo | D22: ='PANEL DE CONTROL DISTRITAL'!D21 -> Arqueo de Credenciales = | E22: ='PANEL DE CONTROL DISTRITAL'!E21 -> (Credenciales disponibles (físicas)/ Credenciales disponibles registradas en SIIRFE) x 100 | F22: ='PANEL DE CONTROL DISTRITAL'!F21 -> Semanal (remesa) | G22: ='PANEL DE CONTROL DISTRITAL'!G21 -> 1 | H22: ='PANEL DE CONTROL DISTRITAL'!H21 -> Credenciales disponibles (físicas) | I22: 0 | J22: 987 | K22: 876 | L22: 1014 | M22: 1114 | N22: 1032 | O22: 1032 | P22: 962 | Q22: 943 | AB22: =IFERROR(SUM(I22:AA22)/SUM(I23:AA23),0) -> 1
H23: ='PANEL DE CONTROL DISTRITAL'!H22 -> Credenciales disponibles registradas en SIIRFE | I23: 0 | J23: 987 | K23: 876 | L23: 1014 | M23: 1114 | N23: 1032 | O23: 1032 | P23: 962 | Q23: 943
A25: ='PANEL DE CONTROL DISTRITAL'!A24 -> 6 | B25: ='PANEL DE CONTROL DISTRITAL'!B24 -> ENTREGA DE LA CREDENCIAL PARA VOTAR | C25: ='PANEL DE CONTROL DISTRITAL'!C24 -> Operador de Equipo Tecnológico | D25: ='PANEL DE CONTROL DISTRITAL'!D24 -> Efectividad de entrega de CPV en MAC = | E25: ='PANEL DE CONTROL DISTRITAL'!E24 -> (Total de credenciales entregadas / Total de ciudadanas y ciudadanos que acuden al MAC a recoger su credencial) x 100 | F25: ='PANEL DE CONTROL DISTRITAL'!F24 -> Semanal (remesa) | G25: ='PANEL DE CONTROL DISTRITAL'!G24 -> 0.9 | H25: ='PANEL DE CONTROL DISTRITAL'!H24 -> Total de credenciales entregadas | I25: 0 | J25: 615 | K25: 551 | L25: 537 | M25: 627 | N25: 602 | O25: 638 | P25: 619 | Q25: 518 | AB25: =IFERROR(SUM(I25:AA25)/SUM(I26:AA26),0) -> 0.99893888
H26: ='PANEL DE CONTROL DISTRITAL'!H25 -> Total de ciudadanas y ciudadanos que acuden al MAC a recoger su credencial | I26: 0 | J26: 617 | K26: 551 | L26: 540 | M26: 627 | N26: 602 | O26: 638 | P26: 619 | Q26: 518
B27: *Registre el valor nominal solicitado en la celda, el resultado proporcional esta automatizado.
I29: Semaforización
J30: Valor que requiere atención y justificación en el apartado de observaciones
J31: Valor suficiente
J32: Valor esperado
B34: CUADRO DE OBSERVACIONES
B35: Descripción | H35: No conformidad

Sheet 150253
A1: ='PANEL DE CONTROL DISTRITAL'!A1:Q1 -> INSTITUTO NACIONAL ELECTORAL SISTEMA DE GESTIÓN DE LA CALIDAD ESTADO DE MÉXICO
D2: Distrito | E2: 2 | F2: Módulo | H2: 150253
A4: TABLERO DE CONTROL DE PROCESOS SUSTANTIVOS DEL SISTEMA DE GESTIÓN DE LA CALIDAD
A6: ='PANEL DE CONTROL DISTRITAL'!A6 -> Número | B6: ='PANEL DE CONTROL DISTRITAL'!B6 -> PROCESOS SUSTANTIVOS E INDICADORES | I6: SEMANA OPERATIVA | AB6: % AVANCE REGISTRADO
B7: ='PANEL DE CONTROL DISTRITAL'!B7 -> DESCRIPCIÓN | E7: ='PANEL DE CONTROL DISTRITAL'!E7 -> MEDICIÓN | I7: ='PANEL DE CONTROL DISTRITAL'!A5 -> CAMPAÑA ANUAL INTENSA 2025
AE8: <
B9: ='PANEL DE CONTROL DISTRITAL'!B8 -> Proceso | C9: ='PANEL DE CONTROL DISTRITAL'!C8 -> Dueño de Proceso | D9: ='PANEL DE CONTROL DISTRITAL'!D8 -> Indicador | E9: ='PANEL DE CONTROL DISTRITAL'!E8 -> Cálculo | F9: ='PANEL DE CONTROL DISTRITAL'!F8 -> Periodo | G9: ='PANEL DE CONTROL DISTRITAL'!G8 -> Estimado | H9: ='PANEL DE CONTROL DISTRITAL'!H8 -> Nominativo | I9: ='150151'!I9 -> 2025-41 | J9: ='150151'!J9 -> 2025-42 | K9: ='150151'!K9 -> 2025-43 | L9: ='150151'!L9 -> 2025-44 | M9: ='150151'!M9 -> 2025-45 | N9: ='150151'!N9 -> 2025-46 | O9: ='150151'!O9 -> 2025-47 | P9: ='150151'!P9 -> 2025-48 | ... X9: ='150151'!X9 -> 2025-56 | Y9: 2024-57 | Z9: 2024-58 | AA9: 2024-59
A10: ='PANEL DE CONTROL DISTRITAL'!A9 -> 1 | B10: ='PANEL DE CONTROL DISTRITAL'!B9 -> ENTREVISTA | C10: ='PANEL DE CONTROL DISTRITAL'!C9 -> Auxiliar de Atención Ciudadana | D10: ='PANEL DE CONTROL DISTRITAL'!D9 -> Fichas requisitadas correctamente= | E10: ='PANEL DE CONTROL DISTRITAL'!E9 -> (Fichas requisitadas correctamente / Fichas revisadas en la muestra del 10%) x 100 | F10: ='PANEL DE CONTROL DISTRITAL'!F9 -> Semanal (remesa) | G10: ='PANEL DE CONTROL DISTRITAL'!G9 -> 0.9 | H10: ='PANEL DE CONTROL DISTRITAL'!H9 -> Fichas requistadas correctamente | I10: 0 | J10: 91 | K10: 57 | L10: 94 | M10: 97 | N10: 87 | O10: 89 | P10: 75 | Q10: 56 | AB10: =IFERROR(SUM(I10:AA10)/SUM(I11:AA11),0) -> 1
H11: ='PANEL DE CONTROL DISTRITAL'!H10 -> Fichas revisadas en la muestra del 10% | I11: 0 | J11: 91 | K11: 57 | L11: 94 | M11: 97 | N11: 87 | O11: 89 | P11: 75 | Q11: 56
A13: ='PANEL DE CONTROL DISTRITAL'!A12 -> 2 | B13: ='PANEL DE CONTROL DISTRITAL'!B12 -> TRÁMITE | C13: ='PANEL DE CONTROL DISTRITAL'!C12 -> Operador de Equipo Tecnológico | D13: ='PANEL DE CONTROL DISTRITAL'!D12 -> Trámites exitosos efectivos= | E13: ='PANEL DE CONTROL DISTRITAL'!E12 -> (Número de trámites exitosos / Número de trámites aplicados) x 100 | F13: ='PANEL DE CONTROL DISTRITAL'!F12 -> Semanal (remesa) | G13: ='PANEL DE CONTROL DISTRITAL'!G12 -> 0.9 | H13: ='PANEL DE CONTROL DISTRITAL'!H12 -> Número de trámites exitosos | I13: 0 | J13: 908 | K13: 561 | L13: 941 | M13: 949 | N13: 866 | O13: 876 | P13: 745 | Q13: 559 | AB13: =IFERROR(SUM(I13:AA13)/SUM(I14:AA14),0) -> 0.99735285
H14: ='PANEL DE CONTROL DISTRITAL'!H13 -> Número de trámites aplicados | I14: 0 | J14: 910 | K14: 563 | L14: 943 | M14: 951 | N14: 869 | O14: 878 | P14: 746 | Q14: 562
A16: ='PANEL DE CONTROL DISTRITAL'!A15 -> 3 | B16: ='PANEL DE CONTROL DISTRITAL'!B15 -> TRANSFERENCIA DE LA INFORMACIÓN | C16: ='PANEL DE CONTROL DISTRITAL'!C15 -> Responsable de Módulo | D16: ='PANEL DE CONTROL DISTRITAL'!D15 -> Reenvíos exitosos = | E16: ='PANEL DE CONTROL DISTRITAL'!E15 -> (Ejecución de los scripts de reenvío de notificaciones/Solicitud de reenvíos de scripts requeridos) x100 | F16: ='PANEL DE CONTROL DISTRITAL'!F15 -> Semanal (remesa) | G16: ='PANEL DE CONTROL DISTRITAL'!G15 -> 1 | H16: ='PANEL DE CONTROL DISTRITAL'!H15 -> Ejecución de los scripts de reenvío de notificaciones | I16: 0 | J16: 3 | K16: 0 | L16: 1 | M16: 1 | N16: 0 | O16: 0 | P16: 0 | Q16: 4 | AB16: =IFERROR(SUM(I16:AA16)/SUM(I17:AA17),1) -> 1
H17: ='PANEL DE CONTROL DISTRITAL'!H16 -> Solicitud de reevíos de scripts requeridos | I17: 0 | J17: 3 | K17: 0 | L17: 1 | M17: 1 | N17: 0 | O17: 0 | P17: 0 | Q17: 4
A19: ='PANEL DE CONTROL DISTRITAL'!A18 -> 4 | B19: ='PANEL DE CONTROL DISTRITAL'!B18 -> CONCILIACIÓN DE CREDENCIALES PARA VOTAR | C19: ='PANEL DE CONTROL DISTRITAL'!C18 -> Responsable de Módulo | D19: ='PANEL DE CONTROL DISTRITAL'!D18 -> Credenciales disponibles para entrega = | E19: ='PANEL DE CONTROL DISTRITAL'!E18 -> [(Credenciales recibidas - credenciales inconsistentes) / Credenciales recibidas] x 100 | F19: ='PANEL DE CONTROL DISTRITAL'!F18 -> Semanal (remesa) | G19: ='PANEL DE CONTROL DISTRITAL'!G18 -> 0.9 | H19: ='PANEL DE CONTROL DISTRITAL'!H18 -> Credenciales Recibidas - Credenciales inconsistentes | I19: 0 | J19: 1047 | K19: 631 | L19: 732 | M19: 1240 | N19: 630 | O19: 869 | P19: 948 | Q19: 670 | AB19: =IFERROR(SUM(I19:AA19)/SUM(I20:AA20),0) -> 1
H20: ='PANEL DE CONTROL DISTRITAL'!H19 -> Credenciales recibidas | I20: 0 | J20: 1047 | K20: 631 | L20: 732 | M20: 1240 | N20: 630 | O20: 869 | P20: 948 | Q20: 670
A22: ='PANEL DE CONTROL DISTRITAL'!A21 -> 5 | B22: ='PANEL DE CONTROL DISTRITAL'!B21 -> CONCILIACIÓN DE CREDENCIALES PARA VOTAR | C22: ='PANEL DE CONTROL DISTRITAL'!C21 -> Responsable de Módulo | D22: ='PANEL DE CONTROL DISTRITAL'!D21 -> Arqueo de Credenciales = | E22: ='PANEL DE CONTROL DISTRITAL'!E21 -> (Credenciales disponibles (físicas)/ Credenciales disponibles registradas en SIIRFE) x 100 | F22: ='PANEL DE CONTROL DISTRITAL'!F21 -> Semanal (remesa) | G22: ='PANEL DE CONTROL DISTRITAL'!G21 -> 1 | H22: ='PANEL DE CONTROL DISTRITAL'!H21 -> Credenciales disponibles (físicas) | I22: 0 | J22: 1579 | K22: 1390 | L22: 1370 | M22: 1767 | N22: 1538 | O22: 1530 | P22: 1533 | Q22: 1448 | AB22: =IFERROR(SUM(I22:AA22)/SUM(I23:AA23),0) -> 1
H23: ='PANEL DE CONTROL DISTRITAL'!H22 -> Credenciales disponibles registradas en SIIRFE | I23: 0 | J23: 1579 | K23: 1390 | L23: 1370 | M23: 1767 | N23: 1538 | O23: 1530 | P23: 1533 | Q23: 1448
A25: ='PANEL DE CONTROL DISTRITAL'!A24 -> 6 | B25: ='PANEL DE CONTROL DISTRITAL'!B24 -> ENTREGA DE LA CREDENCIAL PARA VOTAR | C25: ='PANEL DE CONTROL DISTRITAL'!C24 -> Operador de Equipo Tecnológico | D25: ='PANEL DE CONTROL DISTRITAL'!D24 -> Efectividad de entrega de CPV en MAC = | E25: ='PANEL DE CONTROL DISTRITAL'!E24 -> (Total de credenciales entregadas / Total de ciudadanas y ciudadanos que acuden al MAC a recoger su credencial) x 100 | F25: ='PANEL DE CONTROL DISTRITAL'!F24 -> Semanal (remesa) | G25: ='PANEL DE CONTROL DISTRITAL'!G24 -> 0.9 | H25: ='PANEL DE CONTROL DISTRITAL'!H24 -> Total de credenciales entregadas | I25: 0 | J25: 945 | K25: 820 | L25: 743 | M25: 843 | N25: 859 | O25: 877 | P25: 945 | Q25: 755 | AB25: =IFERROR(SUM(I25:AA25)/SUM(I26:AA26),0) -> 1
H26: ='PANEL DE CONTROL DISTRITAL'!H25 -> Total de ciudadanas y ciudadanos que acuden al MAC a recoger su credencial | I26: 0 | J26: 945 | K26: 820 | L26: 743 | M26: 843 | N26: 859 | O26: 877 | P26: 945 | Q26: 755
B27: *Registre el valor nominal solicitado en la celda, el resultado proporcional esta automatizado.
I29: Semaforización
J30: Valor que requiere atención y justificación en el apartado de observaciones
J31: Valor suficiente
J32: Valor esperado
B34: CUADRO DE OBSERVACIONES
B35: Descripción | H35: No conformidad

Sheet 150351
A1: ='PANEL DE CONTROL DISTRITAL'!A1:Q1 -> INSTITUTO NACIONAL ELECTORAL SISTEMA DE GESTIÓN DE LA CALIDAD ESTADO DE MÉXICO
D2: Distrito | E2: 3 | F2: Módulo | H2: 150351
A4: TABLERO DE CONTROL DE PROCESOS SUSTANTIVOS DEL SISTEMA DE GESTIÓN DE LA CALIDAD
A6: ='PANEL DE CONTROL DISTRITAL'!A6 -> Número | B6: ='PANEL DE CONTROL DISTRITAL'!B6 -> PROCESOS SUSTANTIVOS E INDICADORES | I6: SEMANA OPERATIVA | AB6: % AVANCE REGISTRADO
B7: ='PANEL DE CONTROL DISTRITAL'!B7 -> DESCRIPCIÓN | E7: ='PANEL DE CONTROL DISTRITAL'!E7 -> MEDICIÓN | I7: ='PANEL DE CONTROL DISTRITAL'!A5 -> CAMPAÑA ANUAL INTENSA 2025
B9: ='PANEL DE CONTROL DISTRITAL'!B8 -> Proceso | C9: ='PANEL DE CONTROL DISTRITAL'!C8 -> Dueño de Proceso | D9: ='PANEL DE CONTROL DISTRITAL'!D8 -> Indicador | E9: ='PANEL DE CONTROL DISTRITAL'!E8 -> Cálculo | F9: ='PANEL DE CONTROL DISTRITAL'!F8 -> Periodo | G9: ='PANEL DE CONTROL DISTRITAL'!G8 -> Estimado | H9: ='PANEL DE CONTROL DISTRITAL'!H8 -> Nominativo | I9: ='150151'!I9 -> 2025-41 | J9: ='150151'!J9 -> 2025-42 | K9: ='150151'!K9 -> 2025-43 | L9: ='150151'!L9 -> 2025-44 | M9: ='150151'!M9 -> 2025-45 | N9: ='150151'!N9 -> 2025-46 | O9: ='150151'!O9 -> 2025-47 | P9: ='150151'!P9 -> 2025-48 | ... X9: ='150151'!X9 -> 2025-56 | Y9: 2024-57 | Z9: 2024-58 | AA9: 2024-59
A10: ='PANEL DE CONTROL DISTRITAL'!A9 -> 1 | B10: ='PANEL DE CONTROL DISTRITAL'!B9 -> ENTREVISTA | C10: ='PANEL DE CONTROL DISTRITAL'!C9 -> Auxiliar de Atención Ciudadana | D10: ='PANEL DE CONTROL DISTRITAL'!D9 -> Fichas requisitadas correctamente= | E10: ='PANEL DE CONTROL DISTRITAL'!E9 -> (Fichas requisitadas correctamente / Fichas revisadas en la muestra del 10%) x 100 | F10: ='PANEL DE CONTROL DISTRITAL'!F9 -> Semanal (remesa) | G10: ='PANEL DE CONTROL DISTRITAL'!G9 -> 0.9 | H10: ='PANEL DE CONTROL DISTRITAL'!H9 -> Fichas requistadas correctamente | I10: 81 | J10: 70 | K10: 51 | L10: 69 | M10: 65 | N10: 58 | O10: 55 | P10: 51 | Q10: 33 | AB10: =IFERROR(SUM(I10:AA10)/SUM(I11:AA11),0) -> 1
H11: ='PANEL DE CONTROL DISTRITAL'!H10 -> Fichas revisadas en la muestra del 10% | I11: 81 | J11: 70 | K11: 51 | L11: 69 | M11: 65 | N11: 58 | O11: 55 | P11: 51 | Q11: 33
A13: ='PANEL DE CONTROL DISTRITAL'!A12 -> 2 | B13: ='PANEL DE CONTROL DISTRITAL'!B12 -> TRÁMITE | C13: ='PANEL DE CONTROL DISTRITAL'!C12 -> Operador de Equipo Tecnológico | D13: ='PANEL DE CONTROL DISTRITAL'!D12 -> Trámites exitosos efectivos= | E13: ='PANEL DE CONTROL DISTRITAL'!E12 -> (Número de trámites exitosos / Número de trámites aplicados) x 100 | F13: ='PANEL DE CONTROL DISTRITAL'!F12 -> Semanal (remesa) | G13: ='PANEL DE CONTROL DISTRITAL'!G12 -> 0.9 | H13: ='PANEL DE CONTROL DISTRITAL'!H12 -> Número de trámites exitosos | I13: 808 | J13: 379 | K13: 508 | L13: 686 | M13: 647 | N13: 575 | O13: 551 | P13: 465 | Q13: 333 | AB13: =IFERROR(SUM(I13:AA13)/SUM(I14:AA14),0) -> 0.92873218
H14: ='PANEL DE CONTROL DISTRITAL'!H13 -> Número de trámites aplicados | I14: 808 | J14: 699 | K14: 511 | L14: 690 | M14: 647 | N14: 577 | O14: 551 | P14: 515 | Q14: 334
A16: ='PANEL DE CONTROL DISTRITAL'!A15 -> 3 | B16: ='PANEL DE CONTROL DISTRITAL'!B15 -> TRANSFERENCIA DE LA INFORMACIÓN | C16: ='PANEL DE CONTROL DISTRITAL'!C15 -> Responsable de Módulo | D16: ='PANEL DE CONTROL DISTRITAL'!D15 -> Reenvíos exitosos = | E16: ='PANEL DE CONTROL DISTRITAL'!E15 -> (Ejecución de los scripts de reenvío de notificaciones/Solicitud de reenvíos de scripts requeridos) x100 | F16: ='PANEL DE CONTROL DISTRITAL'!F15 -> Semanal (remesa) | G16: ='PANEL DE CONTROL DISTRITAL'!G15 -> 1 | H16: ='PANEL DE CONTROL DISTRITAL'!H15 -> Ejecución de los scripts de reenvío de notificaciones | I16: 0 | J16: 0 | K16: 0 | L16: 0 | M16: 0 | N16: 0 | O16: 0 | P16: 0 | Q16: 0 | AB16: =IFERROR(SUM(I16:AA16)/SUM(I17:AA17),1) -> 1
H17: ='PANEL DE CONTROL DISTRITAL'!H16 -> Solicitud de reevíos de scripts requeridos | I17: 0 | J17: 0 | K17: 0 | L17: 0 | M17: 0 | N17: 0 | O17: 0 | P17: 0 | Q17: 0
A19: ='PANEL DE CONTROL DISTRITAL'!A18 -> 4 | B19: ='PANEL DE CONTROL DISTRITAL'!B18 -> CONCILIACIÓN DE CREDENCIALES PARA VOTAR | C19: ='PANEL DE CONTROL DISTRITAL'!C18 -> Responsable de Módulo | D19: ='PANEL DE CONTROL DISTRITAL'!D18 -> Credenciales disponibles para entrega = | E19: ='PANEL DE CONTROL DISTRITAL'!E18 -> [(Credenciales recibidas - credenciales inconsistentes) / Credenciales recibidas] x 100 | F19: ='PANEL DE CONTROL DISTRITAL'!F18 -> Semanal (remesa) | G19: ='PANEL DE CONTROL DISTRITAL'!G18 -> 0.9 | H19: ='PANEL DE CONTROL DISTRITAL'!H18 -> Credenciales Recibidas - Credenciales inconsistentes | I19: 952 | J19: 797 | K19: 481 | L19: 884 | M19: 672 | N19: 703 | O19: 504 | P19: 435 | Q19: 342 | AB19: =IFERROR(SUM(I19:AA19)/SUM(I20:AA20),0) -> 1
H20: ='PANEL DE CONTROL DISTRITAL'!H19 -> Credenciales recibidas | I20: 952 | J20: 797 | K20: 481 | L20: 884 | M20: 672 | N20: 703 | O20: 504 | P20: 435 | Q20: 342
A22: ='PANEL DE CONTROL DISTRITAL'!A21 -> 5 | B22: ='PANEL DE CONTROL DISTRITAL'!B21 -> CONCILIACIÓN DE CREDENCIALES PARA VOTAR | C22: ='PANEL DE CONTROL DISTRITAL'!C21 -> Responsable de Módulo | D22: ='PANEL DE CONTROL DISTRITAL'!D21 -> Arqueo de Credenciales = | E22: ='PANEL DE CONTROL DISTRITAL'!E21 -> (Credenciales disponibles (físicas)/ Credenciales disponibles registradas en SIIRFE) x 100 | F22: ='PANEL DE CONTROL DISTRITAL'!F21 -> Semanal (remesa) | G22: ='PANEL DE CONTROL DISTRITAL'!G21 -> 1 | H22: ='PANEL DE CONTROL DISTRITAL'!H21 -> Credenciales disponibles (físicas) | I22: 946 | J22: 1029 | K22: 827 | L22: 1151 | M22: 1140 | N22: 1100 | O22: 1076 | P22: 912 | Q22: 803 | AB22: =IFERROR(SUM(I22:AA22)/SUM(I23:AA23),0) -> 1
H23: ='PANEL DE CONTROL DISTRITAL'!H22 -> Credenciales disponibles registradas en SIIRFE | I23: 946 | J23: 1029 | K23: 827 | L23: 1151 | M23: 1140 | N23: 1100 | O23: 1076 | P23: 912 | Q23: 803
A25: ='PANEL DE CONTROL DISTRITAL'!A24 -> 6 | B25: ='PANEL DE CONTROL DISTRITAL'!B24 -> ENTREGA DE LA CREDENCIAL PARA VOTAR | C25: ='PANEL DE CONTROL DISTRITAL'!C24 -> Operador de Equipo Tecnológico | D25: ='PANEL DE CONTROL DISTRITAL'!D24 -> Efectividad de entrega de CPV en MAC = | E25: ='PANEL DE CONTROL DISTRITAL'!E24 -> (Total de credenciales entregadas / Total de ciudadanas y ciudadanos que acuden al MAC a recoger su credencial) x 100 | F25: ='PANEL DE CONTROL DISTRITAL'!F24 -> Semanal (remesa) | G25: ='PANEL DE CONTROL DISTRITAL'!G24 -> 0.9 | H25: ='PANEL DE CONTROL DISTRITAL'!H24 -> Total de credenciales entregadas | I25: 784 | J25: 714 | K25: 683 | L25: 557 | M25: 683 | N25: 666 | O25: 605 | P25: 599 | Q25: 451 | AB25: =IFERROR(SUM(I25:AA25)/SUM(I26:AA26),0) -> 0.99982587
H26: ='PANEL DE CONTROL DISTRITAL'!H25 -> Total de ciudadanas y ciudadanos que acuden al MAC a recoger su credencial | I26: 784 | J26: 714 | K26: 683 | L26: 558 | M26: 683 | N26: 666 | O26: 605 | P26: 599 | Q26: 451
B27: *Registre el valor nominal solicitado en la celda, el resultado proporcional esta automatizado.
I29: Semaforización
J30: Valor que requiere atención y justificación en el apartado de observaciones
J31: Valor suficiente
J32: Valor esperado
B34: CUADRO DE OBSERVACIONES
B35: Descripción | H35: No conformidad

Sheet 150352
A1: ='PANEL DE CONTROL DISTRITAL'!A1:Q1 -> INSTITUTO NACIONAL ELECTORAL SISTEMA DE GESTIÓN DE LA CALIDAD ESTADO DE MÉXICO
D2: Distrito | E2: 3 | F2: Módulo | H2: 150352
A4: TABLERO DE CONTROL DE PROCESOS SUSTANTIVOS DEL SISTEMA DE GESTIÓN DE LA CALIDAD
A6: ='PANEL DE CONTROL DISTRITAL'!A6 -> Número | B6: ='PANEL DE CONTROL DISTRITAL'!B6 -> PROCESOS SUSTANTIVOS E INDICADORES | I6: SEMANA OPERATIVA | AB6: % AVANCE REGISTRADO
B7: ='PANEL DE CONTROL DISTRITAL'!B7 -> DESCRIPCIÓN | E7: ='PANEL DE CONTROL DISTRITAL'!E7 -> MEDICIÓN | I7: ='PANEL DE CONTROL DISTRITAL'!A5 -> CAMPAÑA ANUAL INTENSA 2025
B9: ='PANEL DE CONTROL DISTRITAL'!B8 -> Proceso | C9: ='PANEL DE CONTROL DISTRITAL'!C8 -> Dueño de Proceso | D9: ='PANEL DE CONTROL DISTRITAL'!D8 -> Indicador | E9: ='PANEL DE CONTROL DISTRITAL'!E8 -> Cálculo | F9: ='PANEL DE CONTROL DISTRITAL'!F8 -> Periodo | G9: ='PANEL DE CONTROL DISTRITAL'!G8 -> Estimado | H9: ='PANEL DE CONTROL DISTRITAL'!H8 -> Nominativo | I9: ='150151'!I9 -> 2025-41 | J9: ='150151'!J9 -> 2025-42 | K9: ='150151'!K9 -> 2025-43 | L9: ='150151'!L9 -> 2025-44 | M9: ='150151'!M9 -> 2025-45 | N9: ='150151'!N9 -> 2025-46 | O9: ='150151'!O9 -> 2025-47 | P9: ='150151'!P9 -> 2025-48 | ... X9: ='150151'!X9 -> 2025-56 | Y9: 2024-57 | Z9: 2024-58 | AA9: 2024-59
A10: ='PANEL DE CONTROL DISTRITAL'!A9 -> 1 | B10: ='PANEL DE CONTROL DISTRITAL'!B9 -> ENTREVISTA | C10: ='PANEL DE CONTROL DISTRITAL'!C9 -> Auxiliar de Atención Ciudadana | D10: ='PANEL DE CONTROL DISTRITAL'!D9 -> Fichas requisitadas correctamente= | E10: ='PANEL DE CONTROL DISTRITAL'!E9 -> (Fichas requisitadas correctamente / Fichas revisadas en la muestra del 10%) x 100 | F10: ='PANEL DE CONTROL DISTRITAL'!F9 -> Semanal (remesa) | G10: ='PANEL DE CONTROL DISTRITAL'!G9 -> 0.9 | H10: ='PANEL DE CONTROL DISTRITAL'!H9 -> Fichas requistadas correctamente | I10: 70 | J10: 63 | K10: 40 | L10: 56 | M10: 51 | N10: 49 | O10: 53 | P10: 45 | Q10: 30 | AB10: =IFERROR(SUM(I10:AA10)/SUM(I11:AA11),0) -> 1
H11: ='PANEL DE CONTROL DISTRITAL'!H10 -> Fichas revisadas en la muestra del 10% | I11: 70 | J11: 63 | K11: 40 | L11: 56 | M11: 51 | N11: 49 | O11: 53 | P11: 45 | Q11: 30
A13: ='PANEL DE CONTROL DISTRITAL'!A12 -> 2 | B13: ='PANEL DE CONTROL DISTRITAL'!B12 -> TRÁMITE | C13: ='PANEL DE CONTROL DISTRITAL'!C12 -> Operador de Equipo Tecnológico | D13: ='PANEL DE CONTROL DISTRITAL'!D12 -> Trámites exitosos efectivos= | E13: ='PANEL DE CONTROL DISTRITAL'!E12 -> (Número de trámites exitosos / Número de trámites aplicados) x 100 | F13: ='PANEL DE CONTROL DISTRITAL'!F12 -> Semanal (remesa) | G13: ='PANEL DE CONTROL DISTRITAL'!G12 -> 0.9 | H13: ='PANEL DE CONTROL DISTRITAL'!H12 -> Número de trámites exitosos | I13: 697 | J13: 539 | K13: 404 | L13: 562 | M13: 510 | N13: 492 | O13: 527 | P13: 389 | Q13: 298 | AB13: =IFERROR(SUM(I13:AA13)/SUM(I14:AA14),0) -> 0.96652811
H14: ='PANEL DE CONTROL DISTRITAL'!H13 -> Número de trámites aplicados | I14: 699 | J14: 629 | K14: 404 | L14: 563 | M14: 510 | N14: 494 | O14: 528 | P14: 445 | Q14: 299
A16: ='PANEL DE CONTROL DISTRITAL'!A15 -> 3 | B16: ='PANEL DE CONTROL DISTRITAL'!B15 -> TRANSFERENCIA DE LA INFORMACIÓN | C16: ='PANEL DE CONTROL DISTRITAL'!C15 -> Responsable de Módulo | D16: ='PANEL DE CONTROL DISTRITAL'!D15 -> Reenvíos exitosos = | E16: ='PANEL DE CONTROL DISTRITAL'!E15 -> (Ejecución de los scripts de reenvío de notificaciones/Solicitud de reenvíos de scripts requeridos) x100 | F16: ='PANEL DE CONTROL DISTRITAL'!F15 -> Semanal (remesa) | G16: ='PANEL DE CONTROL DISTRITAL'!G15 -> 1 | H16: ='PANEL DE CONTROL DISTRITAL'!H15 -> Ejecución de los scripts de reenvío de notificaciones | I16: 0 | J16: 0 | K16: 0 | L16: 0 | M16: 0 | N16: 0 | O16: 0 | P16: 0 | Q16: 0 | AB16: =IFERROR(SUM(I16:AA16)/SUM(I17:AA17),1) -> 1
H17: ='PANEL DE CONTROL DISTRITAL'!H16 -> Solicitud de reevíos de scripts requeridos | I17: 0 | J17: 0 | K17: 0 | L17: 0 | M17: 0 | N17: 0 | O17: 0 | P17: 0 | Q17: 0
A18: 0
A19: ='PANEL DE CONTROL DISTRITAL'!A18 -> 4 | B19: ='PANEL DE CONTROL DISTRITAL'!B18 -> CONCILIACIÓN DE CREDENCIALES PARA VOTAR | C19: ='PANEL DE CONTROL DISTRITAL'!C18 -> Responsable de Módulo | D19: ='PANEL DE CONTROL DISTRITAL'!D18 -> Credenciales disponibles para entrega = | E19: ='PANEL DE CONTROL DISTRITAL'!E18 -> [(Credenciales recibidas - credenciales inconsistentes) / Credenciales recibidas] x 100 | F19: ='PANEL DE CONTROL DISTRITAL'!F18 -> Semanal (remesa) | G19: ='PANEL DE CONTROL DISTRITAL'!G18 -> 0.9 | H19: ='PANEL DE CONTROL DISTRITAL'!H18 -> Credenciales Recibidas - Credenciales inconsistentes | I19: 817 | J19: 691 | K19: 436 | L19: 706 | M19: 540 | N19: 581 | O19: 437 | P19: 425 | Q19: 289 | AB19: =IFERROR(SUM(I19:AA19)/SUM(I20:AA20),0) -> 1
H20: ='PANEL DE CONTROL DISTRITAL'!H19 -> Credenciales recibidas | I20: 817 | J20: 691 | K20: 436 | L20: 706 | M20: 540 | N20: 581 | O20: 437 | P20: 425 | Q20: 289
A22: ='PANEL DE CONTROL DISTRITAL'!A21 -> 5 | B22: ='PANEL DE CONTROL DISTRITAL'!B21 -> CONCILIACIÓN DE CREDENCIALES PARA VOTAR | C22: ='PANEL DE CONTROL DISTRITAL'!C21 -> Responsable de Módulo | D22: ='PANEL DE CONTROL DISTRITAL'!D21 -> Arqueo de Credenciales = | E22: ='PANEL DE CONTROL DISTRITAL'!E21 -> (Credenciales disponibles (físicas)/ Credenciales disponibles registradas en SIIRFE) x 100 | F22: ='PANEL DE CONTROL DISTRITAL'!F21 -> Semanal (remesa) | G22: ='PANEL DE CONTROL DISTRITAL'!G21 -> 1 | H22: ='PANEL DE CONTROL DISTRITAL'!H21 -> Credenciales disponibles (físicas) | I22: 660 | J22: 726 | K22: 555 | L22: 789 | M22: 770 | N22: 811 | O22: 768 | P22: 661 | Q22: 530 | AB22: =IFERROR(SUM(I22:AA22)/SUM(I23:AA23),0) -> 1
H23: ='PANEL DE CONTROL DISTRITAL'!H22 -> Credenciales disponibles registradas en SIIRFE | I23: 660 | J23: 726 | K23: 555 | L23: 789 | M23: 770 | N23: 811 | O23: 768 | P23: 661 | Q23: 530
A25: ='PANEL DE CONTROL DISTRITAL'!A24 -> 6 | B25: ='PANEL DE CONTROL DISTRITAL'!B24 -> ENTREGA DE LA CREDENCIAL PARA VOTAR | C25: ='PANEL DE CONTROL DISTRITAL'!C24 -> Operador de Equipo Tecnológico | D25: ='PANEL DE CONTROL DISTRITAL'!D24 -> Efectividad de entrega de CPV en MAC = | E25: ='PANEL DE CONTROL DISTRITAL'!E24 -> (Total de credenciales entregadas / Total de ciudadanas y ciudadanos que acuden al MAC a recoger su credencial) x 100 | F25: ='PANEL DE CONTROL DISTRITAL'!F24 -> Semanal (remesa) | G25: ='PANEL DE CONTROL DISTRITAL'!G24 -> 0.9 | H25: ='PANEL DE CONTROL DISTRITAL'!H24 -> Total de credenciales entregadas | I25: 596 | J25: 625 | K25: 607 | L25: 471 | M25: 559 | N25: 540 | O25: 480 | P25: 532 | Q25: 420 | AB25: =IFERROR(SUM(I25:AA25)/SUM(I26:AA26),0) -> 0.99937927
H26: ='PANEL DE CONTROL DISTRITAL'!H25 -> Total de ciudadanas y ciudadanos que acuden al MAC a recoger su credencial | I26: 596 | J26: 625 | K26: 607 | L26: 473 | M26: 559 | N26: 540 | O26: 480 | P26: 532 | Q26: 421
B27: *Registre el valor nominal solicitado en la celda, el resultado proporcional esta automatizado.
I29: Semaforización
J30: Valor que requiere atención y justificación en el apartado de observaciones
J31: Valor suficiente
J32: Valor esperado
B34: CUADRO DE OBSERVACIONES
B35: Descripción | H35: No conformidad

Sheet 150353
A1: ='PANEL DE CONTROL DISTRITAL'!A1:Q1 -> INSTITUTO NACIONAL ELECTORAL SISTEMA DE GESTIÓN DE LA CALIDAD ESTADO DE MÉXICO
D2: Distrito | E2: 3 | F2: Módulo | H2: 150353
A4: TABLERO DE CONTROL DE PROCESOS SUSTANTIVOS DEL SISTEMA DE GESTIÓN DE LA CALIDAD
A6: ='PANEL DE CONTROL DISTRITAL'!A6 -> Número | B6: ='PANEL DE CONTROL DISTRITAL'!B6 -> PROCESOS SUSTANTIVOS E INDICADORES | I6: SEMANA OPERATIVA | AB6: % AVANCE REGISTRADO
B7: ='PANEL DE CONTROL DISTRITAL'!B7 -> DESCRIPCIÓN | E7: ='PANEL DE CONTROL DISTRITAL'!E7 -> MEDICIÓN | I7: ='PANEL DE CONTROL DISTRITAL'!A5 -> CAMPAÑA ANUAL INTENSA 2025
B9: ='PANEL DE CONTROL DISTRITAL'!B8 -> Proceso | C9: ='PANEL DE CONTROL DISTRITAL'!C8 -> Dueño de Proceso | D9: ='PANEL DE CONTROL DISTRITAL'!D8 -> Indicador | E9: ='PANEL DE CONTROL DISTRITAL'!E8 -> Cálculo | F9: ='PANEL DE CONTROL DISTRITAL'!F8 -> Periodo | G9: ='PANEL DE CONTROL DISTRITAL'!G8 -> Estimado | H9: ='PANEL DE CONTROL DISTRITAL'!H8 -> Nominativo | I9: ='150151'!I9 -> 2025-41 | J9: ='150151'!J9 -> 2025-42 | K9: ='150151'!K9 -> 2025-43 | L9: ='150151'!L9 -> 2025-44 | M9: ='150151'!M9 -> 2025-45 | N9: ='150151'!N9 -> 2025-46 | O9: ='150151'!O9 -> 2025-47 | P9: ='150151'!P9 -> 2025-48 | ... X9: ='150151'!X9 -> 2025-56 | Y9: 2024-57 | Z9: 2024-58 | AA9: 2024-59
A10: ='PANEL DE CONTROL DISTRITAL'!A9 -> 1 | B10: ='PANEL DE CONTROL DISTRITAL'!B9 -> ENTREVISTA | C10: ='PANEL DE CONTROL DISTRITAL'!C9 -> Auxiliar de Atención Ciudadana | D10: ='PANEL DE CONTROL DISTRITAL'!D9 -> Fichas requisitadas correctamente= | E10: ='PANEL DE CONTROL DISTRITAL'!E9 -> (Fichas requisitadas correctamente / Fichas revisadas en la muestra del 10%) x 100 | F10: ='PANEL DE CONTROL DISTRITAL'!F9 -> Semanal (remesa) | G10: ='PANEL DE CONTROL DISTRITAL'!G9 -> 0.9 | H10: ='PANEL DE CONTROL DISTRITAL'!H9 -> Fichas requistadas correctamente | I10: 15 | J10: 15 | K10: 17 | L10: 14 | M10: 14 | N10: 10 | O10: 13 | P10: 11 | Q10: 8 | AB10: =IFERROR(SUM(I10:AA10)/SUM(I11:AA11),0) -> 1
H11: ='PANEL DE CONTROL DISTRITAL'!H10 -> Fichas revisadas en la muestra del 10% | I11: 15 | J11: 15 | K11: 17 | L11: 14 | M11: 14 | N11: 10 | O11: 13 | P11: 11 | Q11: 8
A13: ='PANEL DE CONTROL DISTRITAL'!A12 -> 2 | B13: ='PANEL DE CONTROL DISTRITAL'!B12 -> TRÁMITE | C13: ='PANEL DE CONTROL DISTRITAL'!C12 -> Operador de Equipo Tecnológico | D13: ='PANEL DE CONTROL DISTRITAL'!D12 -> Trámites exitosos efectivos= | E13: ='PANEL DE CONTROL DISTRITAL'!E12 -> (Número de trámites exitosos / Número de trámites aplicados) x 100 | F13: ='PANEL DE CONTROL DISTRITAL'!F12 -> Semanal (remesa) | G13: ='PANEL DE CONTROL DISTRITAL'!G12 -> 0.9 | H13: ='PANEL DE CONTROL DISTRITAL'!H12 -> Número de trámites exitosos | I13: 156 | J13: 156 | K13: 171 | L13: 141 | M13: 142 | N13: 109 | O13: 133 | P13: 112 | Q13: 80 | AB13: =IFERROR(SUM(I13:AA13)/SUM(I14:AA14),0) -> 1
H14: ='PANEL DE CONTROL DISTRITAL'!H13 -> Número de trámites aplicados | I14: 156 | J14: 156 | K14: 171 | L14: 141 | M14: 142 | N14: 109 | O14: 133 | P14: 112 | Q14: 80
A16: ='PANEL DE CONTROL DISTRITAL'!A15 -> 3 | B16: ='PANEL DE CONTROL DISTRITAL'!B15 -> TRANSFERENCIA DE LA INFORMACIÓN | C16: ='PANEL DE CONTROL DISTRITAL'!C15 -> Responsable de Módulo | D16: ='PANEL DE CONTROL DISTRITAL'!D15 -> Reenvíos exitosos = | E16: ='PANEL DE CONTROL DISTRITAL'!E15 -> (Ejecución de los scripts de reenvío de notificaciones/Solicitud de reenvíos de scripts requeridos) x100 | F16: ='PANEL DE CONTROL DISTRITAL'!F15 -> Semanal (remesa) | G16: ='PANEL DE CONTROL DISTRITAL'!G15 -> 1 | H16: ='PANEL DE CONTROL DISTRITAL'!H15 -> Ejecución de los scripts de reenvío de notificaciones | I16: 0 | J16: 0 | K16: 68 | L16: 0 | M16: 0 | N16: 0 | O16: 0 | P16: 0 | Q16: 0 | AB16: =IFERROR(SUM(I16:AA16)/SUM(I17:AA17),1) -> 1
H17: ='PANEL DE CONTROL DISTRITAL'!H16 -> Solicitud de reevíos de scripts requeridos | I17: 0 | J17: 0 | K17: 68 | L17: 0 | M17: 0 | N17: 0 | O17: 0 | P17: 0 | Q17: 0
A19: ='PANEL DE CONTROL DISTRITAL'!A18 -> 4 | B19: ='PANEL DE CONTROL DISTRITAL'!B18 -> CONCILIACIÓN DE CREDENCIALES PARA VOTAR | C19: ='PANEL DE CONTROL DISTRITAL'!C18 -> Responsable de Módulo | D19: ='PANEL DE CONTROL DISTRITAL'!D18 -> Credenciales disponibles para entrega = | E19: ='PANEL DE CONTROL DISTRITAL'!E18 -> [(Credenciales recibidas - credenciales inconsistentes) / Credenciales recibidas] x 100 | F19: ='PANEL DE CONTROL DISTRITAL'!F18 -> Semanal (remesa) | G19: ='PANEL DE CONTROL DISTRITAL'!G18 -> 0.9 | H19: ='PANEL DE CONTROL DISTRITAL'!H18 -> Credenciales Recibidas - Credenciales inconsistentes | I19: 225 | J19: 154 | K19: 106 | L19: 172 | M19: 129 | N19: 179 | O19: 64 | P19: 99 | Q19: 112 | AB19: =IFERROR(SUM(I19:AA19)/SUM(I20:AA20),0) -> 1
H20: ='PANEL DE CONTROL DISTRITAL'!H19 -> Credenciales recibidas | I20: 225 | J20: 154 | K20: 106 | L20: 172 | M20: 129 | N20: 179 | O20: 64 | P20: 99 | Q20: 112
A22: ='PANEL DE CONTROL DISTRITAL'!A21 -> 5 | B22: ='PANEL DE CONTROL DISTRITAL'!B21 -> CONCILIACIÓN DE CREDENCIALES PARA VOTAR | C22: ='PANEL DE CONTROL DISTRITAL'!C21 -> Responsable de Módulo | D22: ='PANEL DE CONTROL DISTRITAL'!D21 -> Arqueo de Credenciales = | E22: ='PANEL DE CONTROL DISTRITAL'!E21 -> (Credenciales disponibles (físicas)/ Credenciales disponibles registradas en SIIRFE) x 100 | F22: ='PANEL DE CONTROL DISTRITAL'!F21 -> Semanal (remesa) | G22: ='PANEL DE CONTROL DISTRITAL'!G21 -> 1 | H22: ='PANEL DE CONTROL DISTRITAL'!H21 -> Credenciales disponibles (físicas) | I22: 501 | J22: 394 | K22: 329 | L22: 349 | M22: 327 | N22: 371 | O22: 323 | P22: 245 | Q22: 263 | AB22: =IFERROR(SUM(I22:AA22)/SUM(I23:AA23),0) -> 1
H23: ='PANEL DE CONTROL DISTRITAL'!H22 -> Credenciales disponibles registradas en SIIRFE | I23: 501 | J23: 394 | K23: 329 | L23: 349 | M23: 327 | N23: 371 | O23: 323 | P23: 245 | Q23: 263
A25: ='PANEL DE CONTROL DISTRITAL'!A24 -> 6 | B25: ='PANEL DE CONTROL DISTRITAL'!B24 -> ENTREGA DE LA CREDENCIAL PARA VOTAR | C25: ='PANEL DE CONTROL DISTRITAL'!C24 -> Operador de Equipo Tecnológico | D25: ='PANEL DE CONTROL DISTRITAL'!D24 -> Efectividad de entrega de CPV en MAC = | E25: ='PANEL DE CONTROL DISTRITAL'!E24 -> (Total de credenciales entregadas / Total de ciudadanas y ciudadanos que acuden al MAC a recoger su credencial) x 100 | F25: ='PANEL DE CONTROL DISTRITAL'!F24 -> Semanal (remesa) | G25: ='PANEL DE CONTROL DISTRITAL'!G24 -> 0.9 | H25: ='PANEL DE CONTROL DISTRITAL'!H24 -> Total de credenciales entregadas | I25: 232 | J25: 261 | K25: 171 | L25: 150 | M25: 151 | N25: 135 | O25: 112 | P25: 177 | Q25: 94 | AB25: =IFERROR(SUM(I25:AA25)/SUM(I26:AA26),0) -> 1
H26: ='PANEL DE CONTROL DISTRITAL'!H25 -> Total de ciudadanas y ciudadanos que acuden al MAC a recoger su credencial | I26: 232 | J26: 261 | K26: 171 | L26: 150 | M26: 151 | N26: 135 | O26: 112 | P26: 177 | Q26: 94
B27: *Registre el valor nominal solicitado en la celda, el resultado proporcional esta automatizado.
I29: Semaforización
J30: Valor que requiere atención y justificación en el apartado de observaciones
J31: Valor suficiente
J32: Valor esperado
B34: CUADRO DE OBSERVACIONES
B35: Descripción | H35: No conformidad

Sheet 150451
A1: ='PANEL DE CONTROL DISTRITAL'!A1:Q1 -> INSTITUTO NACIONAL ELECTORAL SISTEMA DE GESTIÓN DE LA CALIDAD ESTADO DE MÉXICO
D2: Distrito | E2: 4 | F2: Módulo | H2: 150451
A4: TABLERO DE CONTROL DE PROCESOS SUSTANTIVOS DEL SISTEMA DE GESTIÓN DE LA CALIDAD
A6: ='PANEL DE CONTROL DISTRITAL'!A6 -> Número | B6: ='PANEL DE CONTROL DISTRITAL'!B6 -> PROCESOS SUSTANTIVOS E INDICADORES | I6: SEMANA OPERATIVA | AB6: % AVANCE REGISTRADO
B7: ='PANEL DE CONTROL DISTRITAL'!B7 -> DESCRIPCIÓN | E7: ='PANEL DE CONTROL DISTRITAL'!E7 -> MEDICIÓN | I7: ='PANEL DE CONTROL DISTRITAL'!A5 -> CAMPAÑA ANUAL INTENSA 2025
B9: ='PANEL DE CONTROL DISTRITAL'!B8 -> Proceso | C9: ='PANEL DE CONTROL DISTRITAL'!C8 -> Dueño de Proceso | D9: ='PANEL DE CONTROL DISTRITAL'!D8 -> Indicador | E9: ='PANEL DE CONTROL DISTRITAL'!E8 -> Cálculo | F9: ='PANEL DE CONTROL DISTRITAL'!F8 -> Periodo | G9: ='PANEL DE CONTROL DISTRITAL'!G8 -> Estimado | H9: ='PANEL DE CONTROL DISTRITAL'!H8 -> Nominativo | I9: ='150151'!I9 -> 2025-41 | J9: ='150151'!J9 -> 2025-42 | K9: ='150151'!K9 -> 2025-43 | L9: ='150151'!L9 -> 2025-44 | M9: ='150151'!M9 -> 2025-45 | N9: ='150151'!N9 -> 2025-46 | O9: ='150151'!O9 -> 2025-47 | P9: ='150151'!P9 -> 2025-48 | ... Z9: ='150151'!Z9 -> 2025-56 | AA9: 2024-59
A10: ='PANEL DE CONTROL DISTRITAL'!A9 -> 1 | B10: ='PANEL DE CONTROL DISTRITAL'!B9 -> ENTREVISTA | C10: ='PANEL DE CONTROL DISTRITAL'!C9 -> Auxiliar de Atención Ciudadana | D10: ='PANEL DE CONTROL DISTRITAL'!D9 -> Fichas requisitadas correctamente= | E10: ='PANEL DE CONTROL DISTRITAL'!E9 -> (Fichas requisitadas correctamente / Fichas revisadas en la muestra del 10%) x 100 | F10: ='PANEL DE CONTROL DISTRITAL'!F9 -> Semanal (remesa) | G10: ='PANEL DE CONTROL DISTRITAL'!G9 -> 0.9 | H10: ='PANEL DE CONTROL DISTRITAL'!H9 -> Fichas requistadas correctamente | I10: 0 | J10: 107 | K10: 78 | L10: 101 | M10: 111 | N10: 99 | O10: 0 | P10: 105 | Q10: 99 | AB10: =IFERROR(SUM(I10:AA10)/SUM(I11:AA11),0) -> 0.96418733
H11: ='PANEL DE CONTROL DISTRITAL'!H10 -> Fichas revisadas en la muestra del 10% | I11: 0 | J11: 112 | K11: 79 | L11: 108 | M11: 114 | N11: 103 | O11: 0 | P11: 110 | Q11: 100
A13: ='PANEL DE CONTROL DISTRITAL'!A12 -> 2 | B13: ='PANEL DE CONTROL DISTRITAL'!B12 -> TRÁMITE | C13: ='PANEL DE CONTROL DISTRITAL'!C12 -> Operador de Equipo Tecnológico | D13: ='PANEL DE CONTROL DISTRITAL'!D12 -> Trámites exitosos efectivos= | E13: ='PANEL DE CONTROL DISTRITAL'!E12 -> (Número de trámites exitosos / Número de trámites aplicados) x 100 | F13: ='PANEL DE CONTROL DISTRITAL'!F12 -> Semanal (remesa) | G13: ='PANEL DE CONTROL DISTRITAL'!G12 -> 0.9 | H13: ='PANEL DE CONTROL DISTRITAL'!H12 -> Número de trámites exitosos | I13: 0 | J13: 1072 | K13: 771 | L13: 1038 | M13: 1078 | N13: 989 | O13: 0 | P13: 1065 | Q13: 949 | AB13: =IFERROR(SUM(I13:AA13)/SUM(I14:AA14),0) -> 0.99713549
H14: ='PANEL DE CONTROL DISTRITAL'!H13 -> Número de trámites aplicados | I14: 0 | J14: 1073 | K14: 773 | L14: 1045 | M14: 1081 | N14: 991 | O14: 0 | P14: 1068 | Q14: 951
A16: ='PANEL DE CONTROL DISTRITAL'!A15 -> 3 | B16: ='PANEL DE CONTROL DISTRITAL'!B15 -> TRANSFERENCIA DE LA INFORMACIÓN | C16: ='PANEL DE CONTROL DISTRITAL'!C15 -> Responsable de Módulo | D16: ='PANEL DE CONTROL DISTRITAL'!D15 -> Reenvíos exitosos = | E16: ='PANEL DE CONTROL DISTRITAL'!E15 -> (Ejecución de los scripts de reenvío de notificaciones/Solicitud de reenvíos de scripts requeridos) x100 | F16: ='PANEL DE CONTROL DISTRITAL'!F15 -> Semanal (remesa) | G16: ='PANEL DE CONTROL DISTRITAL'!G15 -> 1 | H16: ='PANEL DE CONTROL DISTRITAL'!H15 -> Ejecución de los scripts de reenvío de notificaciones | I16: 0 | J16: 0 | K16: 0 | L16: 0 | M16: 0 | N16: 0 | O16: 0 | P16: 0 | Q16: 0 | AB16: =IFERROR(SUM(I16:AA16)/SUM(I17:AA17),1) -> 1
H17: ='PANEL DE CONTROL DISTRITAL'!H16 -> Solicitud de reevíos de scripts requeridos | I17: 0 | J17: 0 | K17: 0 | L17: 0 | M17: 0 | N17: 0 | O17: 0 | P17: 0 | Q17: 0
A19: ='PANEL DE CONTROL DISTRITAL'!A18 -> 4 | B19: ='PANEL DE CONTROL DISTRITAL'!B18 -> CONCILIACIÓN DE CREDENCIALES PARA VOTAR | C19: ='PANEL DE CONTROL DISTRITAL'!C18 -> Responsable de Módulo | D19: ='PANEL DE CONTROL DISTRITAL'!D18 -> Credenciales disponibles para entrega = | E19: ='PANEL DE CONTROL DISTRITAL'!E18 -> [(Credenciales recibidas - credenciales inconsistentes) / Credenciales recibidas] x 100 | F19: ='PANEL DE CONTROL DISTRITAL'!F18 -> Semanal (remesa) | G19: ='PANEL DE CONTROL DISTRITAL'!G18 -> 0.9 | H19: ='PANEL DE CONTROL DISTRITAL'!H18 -> Credenciales Recibidas - Credenciales inconsistentes | I19: 0 | J19: 1071 | K19: 773 | L19: 1079 | M19: 1011 | N19: 1102 | O19: 0 | P19: 1050 | Q19: 1042 | AB19: =IFERROR(SUM(I19:AA19)/SUM(I20:AA20),0) -> 1
H20: ='PANEL DE CONTROL DISTRITAL'!H19 -> Credenciales recibidas | I20: 0 | J20: 1071 | K20: 773 | L20: 1079 | M20: 1011 | N20: 1102 | O20: 0 | P20: 1050 | Q20: 1042
A22: ='PANEL DE CONTROL DISTRITAL'!A21 -> 5 | B22: ='PANEL DE CONTROL DISTRITAL'!B21 -> CONCILIACIÓN DE CREDENCIALES PARA VOTAR | C22: ='PANEL DE CONTROL DISTRITAL'!C21 -> Responsable de Módulo | D22: ='PANEL DE CONTROL DISTRITAL'!D21 -> Arqueo de Credenciales = | E22: ='PANEL DE CONTROL DISTRITAL'!E21 -> (Credenciales disponibles (físicas)/ Credenciales disponibles registradas en SIIRFE) x 100 | F22: ='PANEL DE CONTROL DISTRITAL'!F21 -> Semanal (remesa) | G22: ='PANEL DE CONTROL DISTRITAL'!G21 -> 1 | H22: ='PANEL DE CONTROL DISTRITAL'!H21 -> Credenciales disponibles (físicas) | I22: 0 | J22: 1544 | K22: 1356 | L22: 1515 | M22: 1499 | N22: 1622 | O22: 0 | P22: 1564 | Q22: 1699 | AB22: =IFERROR(SUM(I22:AA22)/SUM(I23:AA23),0) -> 1.0084041
H23: ='PANEL DE CONTROL DISTRITAL'!H22 -> Credenciales disponibles registradas en SIIRFE | I23: 0 | J23: 1544 | K23: 1356 | L23: 1515 | M23: 1499 | N23: 1622 | O23: 0 | P23: 1564 | Q23: 1609
A25: ='PANEL DE CONTROL DISTRITAL'!A24 -> 6 | B25: ='PANEL DE CONTROL DISTRITAL'!B24 -> ENTREGA DE LA CREDENCIAL PARA VOTAR | C25: ='PANEL DE CONTROL DISTRITAL'!C24 -> Operador de Equipo Tecnológico | D25: ='PANEL DE CONTROL DISTRITAL'!D24 -> Efectividad de entrega de CPV en MAC = | E25: ='PANEL DE CONTROL DISTRITAL'!E24 -> (Total de credenciales entregadas / Total de ciudadanas y ciudadanos que acuden al MAC a recoger su credencial) x 100 | F25: ='PANEL DE CONTROL DISTRITAL'!F24 -> Semanal (remesa) | G25: ='PANEL DE CONTROL DISTRITAL'!G24 -> 0.9 | H25: ='PANEL DE CONTROL DISTRITAL'!H24 -> Total de credenciales entregadas | I25: 0 | J25: 1028 | K25: 961 | L25: 915 | M25: 1027 | N25: 978 | O25: 0 | P25: 983 | Q25: 907 | AB25: =IFERROR(SUM(I25:AA25)/SUM(I26:AA26),0) -> 1
H26: ='PANEL DE CONTROL DISTRITAL'!H25 -> Total de ciudadanas y ciudadanos que acuden al MAC a recoger su credencial | I26: 0 | J26: 1028 | K26: 961 | L26: 915 | M26: 1027 | N26: 978 | O26: 0 | P26: 983 | Q26: 907
B27: *Registre el valor nominal solicitado en la celda, el resultado proporcional esta automatizado.
I29: Semaforización
J30: Valor que requiere atención y justificación en el apartado de observaciones
J31: Valor suficiente
J32: Valor esperado
B34: CUADRO DE OBSERVACIONES
B35: Descripción | H35: No conformidad

Sheet 150551
A1: ='PANEL DE CONTROL DISTRITAL'!A1:Q1 -> INSTITUTO NACIONAL ELECTORAL SISTEMA DE GESTIÓN DE LA CALIDAD ESTADO DE MÉXICO
D2: Distrito | E2: 5 | F2: Módulo | H2: 150551
A4: TABLERO DE CONTROL DE PROCESOS SUSTANTIVOS DEL SISTEMA DE GESTIÓN DE LA CALIDAD
A6: ='PANEL DE CONTROL DISTRITAL'!A6 -> Número | B6: ='PANEL DE CONTROL DISTRITAL'!B6 -> PROCESOS SUSTANTIVOS E INDICADORES | I6: SEMANA OPERATIVA | AB6: % AVANCE REGISTRADO
B7: ='PANEL DE CONTROL DISTRITAL'!B7 -> DESCRIPCIÓN | E7: ='PANEL DE CONTROL DISTRITAL'!E7 -> MEDICIÓN | I7: ='PANEL DE CONTROL DISTRITAL'!A5 -> CAMPAÑA ANUAL INTENSA 2025
B9: ='PANEL DE CONTROL DISTRITAL'!B8 -> Proceso | C9: ='PANEL DE CONTROL DISTRITAL'!C8 -> Dueño de Proceso | D9: ='PANEL DE CONTROL DISTRITAL'!D8 -> Indicador | E9: ='PANEL DE CONTROL DISTRITAL'!E8 -> Cálculo | F9: ='PANEL DE CONTROL DISTRITAL'!F8 -> Periodo | G9: ='PANEL DE CONTROL DISTRITAL'!G8 -> Estimado | H9: ='PANEL DE CONTROL DISTRITAL'!H8 -> Nominativo | I9: ='150151'!I9 -> 2025-41 | J9: ='150151'!J9 -> 2025-42 | K9: ='150151'!K9 -> 2025-43 | L9: ='150151'!L9 -> 2025-44 | M9: ='150151'!M9 -> 2025-45 | N9: ='150151'!N9 -> 2025-46 | O9: ='150151'!O9 -> 2025-47 | P9: ='150151'!P9 -> 2025-48 | ... X9: ='150151'!X9 -> 2025-56 | Y9: 2024-57 | Z9: 2024-58 | AA9: 2024-59
A10: ='PANEL DE CONTROL DISTRITAL'!A9 -> 1 | B10: ='PANEL DE CONTROL DISTRITAL'!B9 -> ENTREVISTA | C10: ='PANEL DE CONTROL DISTRITAL'!C9 -> Auxiliar de Atención Ciudadana | D10: ='PANEL DE CONTROL DISTRITAL'!D9 -> Fichas requisitadas correctamente= | E10: ='PANEL DE CONTROL DISTRITAL'!E9 -> (Fichas requisitadas correctamente / Fichas revisadas en la muestra del 10%) x 100 | F10: ='PANEL DE CONTROL DISTRITAL'!F9 -> Semanal (remesa) | G10: ='PANEL DE CONTROL DISTRITAL'!G9 -> 0.9 | H10: ='PANEL DE CONTROL DISTRITAL'!H9 -> Fichas requistadas correctamente | I10: 53 | J10: 49 | K10: 36 | L10: 44 | M10: 48 | N10: 42 | O10: 43 | P10: 35 | Q10: 27 | AB10: =IFERROR(SUM(I10:AA10)/SUM(I11:AA11),0) -> 1
H11: ='PANEL DE CONTROL DISTRITAL'!H10 -> Fichas revisadas en la muestra del 10% | I11: 53 | J11: 49 | K11: 36 | L11: 44 | M11: 48 | N11: 42 | O11: 43 | P11: 35 | Q11: 27
A13: ='PANEL DE CONTROL DISTRITAL'!A12 -> 2 | B13: ='PANEL DE CONTROL DISTRITAL'!B12 -> TRÁMITE | C13: ='PANEL DE CONTROL DISTRITAL'!C12 -> Operador de Equipo Tecnológico | D13: ='PANEL DE CONTROL DISTRITAL'!D12 -> Trámites exitosos efectivos= | E13: ='PANEL DE CONTROL DISTRITAL'!E12 -> (Número de trámites exitosos / Número de trámites aplicados) x 100 | F13: ='PANEL DE CONTROL DISTRITAL'!F12 -> Semanal (remesa) | G13: ='PANEL DE CONTROL DISTRITAL'!G12 -> 0.9 | H13: ='PANEL DE CONTROL DISTRITAL'!H12 -> Número de trámites exitosos | I13: 534 | J13: 490 | K13: 365 | L13: 446 | M13: 481 | N13: 422 | O13: 427 | P13: 347 | Q13: 275 | AB13: =IFERROR(SUM(I13:AA13)/SUM(I14:AA14),0) -> 0.99684127
H14: ='PANEL DE CONTROL DISTRITAL'!H13 -> Número de trámites aplicados | I14: 539 | J14: 491 | K14: 366 | L14: 448 | M14: 483 | N14: 422 | O14: 421 | P14: 350 | Q14: 279
A16: ='PANEL DE CONTROL DISTRITAL'!A15 -> 3 | B16: ='PANEL DE CONTROL DISTRITAL'!B15 -> TRANSFERENCIA DE LA INFORMACIÓN | C16: ='PANEL DE CONTROL DISTRITAL'!C15 -> Responsable de Módulo | D16: ='PANEL DE CONTROL DISTRITAL'!D15 -> Reenvíos exitosos = | E16: ='PANEL DE CONTROL DISTRITAL'!E15 -> (Ejecución de los scripts de reenvío de notificaciones/Solicitud de reenvíos de scripts requeridos) x100 | F16: ='PANEL DE CONTROL DISTRITAL'!F15 -> Semanal (remesa) | G16: ='PANEL DE CONTROL DISTRITAL'!G15 -> 1 | H16: ='PANEL DE CONTROL DISTRITAL'!H15 -> Ejecución de los scripts de reenvío de notificaciones | I16: 0 | J16: 0 | K16: 0 | L16: 0 | M16: 0 | N16: 0 | O16: 0 | P16: 0 | Q16: 0 | AB16: =IFERROR(SUM(I16:AA16)/SUM(I17:AA17),1) -> 1
H17: ='PANEL DE CONTROL DISTRITAL'!H16 -> Solicitud de reevíos de scripts requeridos | I17: 0 | J17: 0 | K17: 0 | L17: 0 | M17: 0 | N17: 0 | O17: 0 | P17: 0 | Q17: 0
A19: ='PANEL DE CONTROL DISTRITAL'!A18 -> 4 | B19: ='PANEL DE CONTROL DISTRITAL'!B18 -> CONCILIACIÓN DE CREDENCIALES PARA VOTAR | C19: ='PANEL DE CONTROL DISTRITAL'!C18 -> Responsable de Módulo | D19: ='PANEL DE CONTROL DISTRITAL'!D18 -> Credenciales disponibles para entrega = | E19: ='PANEL DE CONTROL DISTRITAL'!E18 -> [(Credenciales recibidas - credenciales inconsistentes) / Credenciales recibidas] x 100 | F19: ='PANEL DE CONTROL DISTRITAL'!F18 -> Semanal (remesa) | G19: ='PANEL DE CONTROL DISTRITAL'!G18 -> 0.9 | H19: ='PANEL DE CONTROL DISTRITAL'!H18 -> Credenciales Recibidas - Credenciales inconsistentes | I19: 539 | J19: 508 | K19: 382 | L19: 473 | M19: 526 | N19: 397 | O19: 405 | P19: 393 | Q19: 336 | AB19: =IFERROR(SUM(I19:AA19)/SUM(I20:AA20),0) -> 1
H20: ='PANEL DE CONTROL DISTRITAL'!H19 -> Credenciales recibidas | I20: 539 | J20: 508 | K20: 382 | L20: 473 | M20: 526 | N20: 397 | O20: 405 | P20: 393 | Q20: 336
A22: ='PANEL DE CONTROL DISTRITAL'!A21 -> 5 | B22: ='PANEL DE CONTROL DISTRITAL'!B21 -> CONCILIACIÓN DE CREDENCIALES PARA VOTAR | C22: ='PANEL DE CONTROL DISTRITAL'!C21 -> Responsable de Módulo | D22: ='PANEL DE CONTROL DISTRITAL'!D21 -> Arqueo de Credenciales = | E22: ='PANEL DE CONTROL DISTRITAL'!E21 -> (Credenciales disponibles (físicas)/ Credenciales disponibles registradas en SIIRFE) x 100 | F22: ='PANEL DE CONTROL DISTRITAL'!F21 -> Semanal (remesa) | G22: ='PANEL DE CONTROL DISTRITAL'!G21 -> 1 | H22: ='PANEL DE CONTROL DISTRITAL'!H21 -> Credenciales disponibles (físicas) | I22: 862 | J22: 836 | K22: 782 | L22: 778 | M22: 863 | N22: 783 | O22: 728 | P22: 697 | Q22: 684 | AB22: =IFERROR(SUM(I22:AA22)/SUM(I23:AA23),0) -> 1
H23: ='PANEL DE CONTROL DISTRITAL'!H22 -> Credenciales disponibles registradas en SIIRFE | I23: 862 | J23: 836 | K23: 782 | L23: 778 | M23: 863 | N23: 783 | O23: 728 | P23: 697 | Q23: 684
A25: ='PANEL DE CONTROL DISTRITAL'!A24 -> 6 | B25: ='PANEL DE CONTROL DISTRITAL'!B24 -> ENTREGA DE LA CREDENCIAL PARA VOTAR | C25: ='PANEL DE CONTROL DISTRITAL'!C24 -> Operador de Equipo Tecnológico | D25: ='PANEL DE CONTROL DISTRITAL'!D24 -> Efectividad de entrega de CPV en MAC = | E25: ='PANEL DE CONTROL DISTRITAL'!E24 -> (Total de credenciales entregadas / Total de ciudadanas y ciudadanos que acuden al MAC a recoger su credencial) x 100 | F25: ='PANEL DE CONTROL DISTRITAL'!F24 -> Semanal (remesa) | G25: ='PANEL DE CONTROL DISTRITAL'!G24 -> 0.9 | H25: ='PANEL DE CONTROL DISTRITAL'!H24 -> Total de credenciales entregadas | I25: 561 | J25: 534 | K25: 436 | L25: 473 | M25: 441 | N25: 477 | O25: 460 | P25: 424 | Q25: 349 | AB25: =IFERROR(SUM(I25:AA25)/SUM(I26:AA26),0) -> 0.99831812
H26: ='PANEL DE CONTROL DISTRITAL'!H25 -> Total de ciudadanas y ciudadanos que acuden al MAC a recoger su credencial | I26: 563 | J26: 538 | K26: 436 | L26: 473 | M26: 442 | N26: 477 | O26: 460 | P26: 424 | Q26: 349
B27: *Registre el valor nominal solicitado en la celda, el resultado proporcional esta automatizado.
I29: Semaforización
J30: Valor que requiere atención y justificación en el apartado de observaciones
J31: Valor suficiente
J32: Valor esperado
B34: CUADRO DE OBSERVACIONES
B35: Descripción | H35: No conformidad

Sheet 150651
A1: ='PANEL DE CONTROL DISTRITAL'!A1:Q1 -> INSTITUTO NACIONAL ELECTORAL SISTEMA DE GESTIÓN DE LA CALIDAD ESTADO DE MÉXICO
D2: Distrito | E2: 6 | F2: Módulo | H2: 150651
A4: TABLERO DE CONTROL DE PROCESOS SUSTANTIVOS DEL SISTEMA DE GESTIÓN DE LA CALIDAD
A6: ='PANEL DE CONTROL DISTRITAL'!A6 -> Número | B6: ='PANEL DE CONTROL DISTRITAL'!B6 -> PROCESOS SUSTANTIVOS E INDICADORES | I6: SEMANA OPERATIVA | AB6: % AVANCE REGISTRADO
B7: ='PANEL DE CONTROL DISTRITAL'!B7 -> DESCRIPCIÓN | E7: ='PANEL DE CONTROL DISTRITAL'!E7 -> MEDICIÓN | I7: ='PANEL DE CONTROL DISTRITAL'!A5 -> CAMPAÑA ANUAL INTENSA 2025
B9: ='PANEL DE CONTROL DISTRITAL'!B8 -> Proceso | C9: ='PANEL DE CONTROL DISTRITAL'!C8 -> Dueño de Proceso | D9: ='PANEL DE CONTROL DISTRITAL'!D8 -> Indicador | E9: ='PANEL DE CONTROL DISTRITAL'!E8 -> Cálculo | F9: ='PANEL DE CONTROL DISTRITAL'!F8 -> Periodo | G9: ='PANEL DE CONTROL DISTRITAL'!G8 -> Estimado | H9: ='PANEL DE CONTROL DISTRITAL'!H8 -> Nominativo | I9: ='150151'!I9 -> 2025-41 | J9: ='150151'!J9 -> 2025-42 | K9: ='150151'!K9 -> 2025-43 | L9: ='150151'!L9 -> 2025-44 | M9: ='150151'!M9 -> 2025-45 | N9: ='150151'!N9 -> 2025-46 | O9: ='150151'!O9 -> 2025-47 | P9: ='150151'!P9 -> 2025-48 | ... X9: ='150151'!X9 -> 2025-56 | Y9: 2024-57 | Z9: 2024-58 | AA9: 2024-59
A10: ='PANEL DE CONTROL DISTRITAL'!A9 -> 1 | B10: ='PANEL DE CONTROL DISTRITAL'!B9 -> ENTREVISTA | C10: ='PANEL DE CONTROL DISTRITAL'!C9 -> Auxiliar de Atención Ciudadana | D10: ='PANEL DE CONTROL DISTRITAL'!D9 -> Fichas requisitadas correctamente= | E10: ='PANEL DE CONTROL DISTRITAL'!E9 -> (Fichas requisitadas correctamente / Fichas revisadas en la muestra del 10%) x 100 | F10: ='PANEL DE CONTROL DISTRITAL'!F9 -> Semanal (remesa) | G10: ='PANEL DE CONTROL DISTRITAL'!G9 -> 0.9 | H10: ='PANEL DE CONTROL DISTRITAL'!H9 -> Fichas requistadas correctamente | I10: 0 | J10: 97 | K10: 94 | L10: 53 | M10: 90 | N10: 91 | O10: 91 | P10: 92 | Q10: 68 | AB10: =IFERROR(SUM(I10:AA10)/SUM(I11:AA11),0) -> 0.97971014
H11: ='PANEL DE CONTROL DISTRITAL'!H10 -> Fichas revisadas en la muestra del 10% | I11: 0 | J11: 97 | K11: 94 | L11: 53 | M11: 100 | N11: 91 | O11: 91 | P11: 92 | Q11: 72
A13: ='PANEL DE CONTROL DISTRITAL'!A12 -> 2 | B13: ='PANEL DE CONTROL DISTRITAL'!B12 -> TRÁMITE | C13: ='PANEL DE CONTROL DISTRITAL'!C12 -> Operador de Equipo Tecnológico | D13: ='PANEL DE CONTROL DISTRITAL'!D12 -> Trámites exitosos efectivos= | E13: ='PANEL DE CONTROL DISTRITAL'!E12 -> (Número de trámites exitosos / Número de trámites aplicados) x 100 | F13: ='PANEL DE CONTROL DISTRITAL'!F12 -> Semanal (remesa) | G13: ='PANEL DE CONTROL DISTRITAL'!G12 -> 0.9 | H13: ='PANEL DE CONTROL DISTRITAL'!H12 -> Número de trámites exitosos | I13: 0 | J13: 520 | K13: 942 | L13: 530 | M13: 1005 | N13: 913 | O13: 916 | P13: 929 | Q13: 727 | AB13: =IFERROR(SUM(I13:AA13)/SUM(I14:AA14),0) -> 0.93306463
H14: ='PANEL DE CONTROL DISTRITAL'!H13 -> Número de trámites aplicados | I14: 0 | J14: 977 | K14: 942 | L14: 532 | M14: 1005 | N14: 915 | O14: 919 | P14: 929 | Q14: 728
A16: ='PANEL DE CONTROL DISTRITAL'!A15 -> 3 | B16: ='PANEL DE CONTROL DISTRITAL'!B15 -> TRANSFERENCIA DE LA INFORMACIÓN | C16: ='PANEL DE CONTROL DISTRITAL'!C15 -> Responsable de Módulo | D16: ='PANEL DE CONTROL DISTRITAL'!D15 -> Reenvíos exitosos = | E16: ='PANEL DE CONTROL DISTRITAL'!E15 -> (Ejecución de los scripts de reenvío de notificaciones/Solicitud de reenvíos de scripts requeridos) x100 | F16: ='PANEL DE CONTROL DISTRITAL'!F15 -> Semanal (remesa) | G16: ='PANEL DE CONTROL DISTRITAL'!G15 -> 1 | H16: ='PANEL DE CONTROL DISTRITAL'!H15 -> Ejecución de los scripts de reenvío de notificaciones | I16: 0 | J16: 0 | K16: 0 | L16: 0 | M16: 0 | N16: 0 | O16: 0 | P16: 0 | Q16: 0 | AB16: =IFERROR(SUM(I16:AA16)/SUM(I17:AA17),1) -> 1
H17: ='PANEL DE CONTROL DISTRITAL'!H16 -> Solicitud de reevíos de scripts requeridos | I17: 0 | J17: 0 | K17: 0 | L17: 0 | M17: 0 | N17: 0 | O17: 0 | P17: 0 | Q17: 0
A19: ='PANEL DE CONTROL DISTRITAL'!A18 -> 4 | B19: ='PANEL DE CONTROL DISTRITAL'!B18 -> CONCILIACIÓN DE CREDENCIALES PARA VOTAR | C19: ='PANEL DE CONTROL DISTRITAL'!C18 -> Responsable de Módulo | D19: ='PANEL DE CONTROL DISTRITAL'!D18 -> Credenciales disponibles para entrega = | E19: ='PANEL DE CONTROL DISTRITAL'!E18 -> [(Credenciales recibidas - credenciales inconsistentes) / Credenciales recibidas] x 100 | F19: ='PANEL DE CONTROL DISTRITAL'!F18 -> Semanal (remesa) | G19: ='PANEL DE CONTROL DISTRITAL'!G18 -> 0.9 | H19: ='PANEL DE CONTROL DISTRITAL'!H18 -> Credenciales Recibidas - Credenciales inconsistentes | I19: 0 | J19: 1013 | K19: 1139 | L19: 439 | M19: 910 | N19: 1109 | O19: 746 | P19: 973 | Q19: 781 | AB19: =IFERROR(SUM(I19:AA19)/SUM(I20:AA20),0) -> 1
H20: ='PANEL DE CONTROL DISTRITAL'!H19 -> Credenciales recibidas | I20: 0 | J20: 1013 | K20: 1139 | L20: 439 | M20: 910 | N20: 1109 | O20: 746 | P20: 973 | Q20: 781
A22: ='PANEL DE CONTROL DISTRITAL'!A21 -> 5 | B22: ='PANEL DE CONTROL DISTRITAL'!B21 -> CONCILIACIÓN DE CREDENCIALES PARA VOTAR | C22: ='PANEL DE CONTROL DISTRITAL'!C21 -> Responsable de Módulo | D22: ='PANEL DE CONTROL DISTRITAL'!D21 -> Arqueo de Credenciales = | E22: ='PANEL DE CONTROL DISTRITAL'!E21 -> (Credenciales disponibles (físicas)/ Credenciales disponibles registradas en SIIRFE) x 100 | F22: ='PANEL DE CONTROL DISTRITAL'!F21 -> Semanal (remesa) | G22: ='PANEL DE CONTROL DISTRITAL'!G21 -> 1 | H22: ='PANEL DE CONTROL DISTRITAL'!H21 -> Credenciales disponibles (físicas) | I22: 0 | J22: 1766 | K22: 1897 | L22: 1339 | M22: 1575 | N22: 1817 | O22: 1651 | P22: 1690 | Q22: 1516 | AB22: =IFERROR(SUM(I22:AA22)/SUM(I23:AA23),0) -> 1
H23: ='PANEL DE CONTROL DISTRITAL'!H22 -> Credenciales disponibles registradas en SIIRFE | I23: 0 | J23: 1766 | K23: 1897 | L23: 1339 | M23: 1575 | N23: 1817 | O23: 1651 | P23: 1690 | Q23: 1516
A25: ='PANEL DE CONTROL DISTRITAL'!A24 -> 6 | B25: ='PANEL DE CONTROL DISTRITAL'!B24 -> ENTREGA DE LA CREDENCIAL PARA VOTAR | C25: ='PANEL DE CONTROL DISTRITAL'!C24 -> Operador de Equipo Tecnológico | D25: ='PANEL DE CONTROL DISTRITAL'!D24 -> Efectividad de entrega de CPV en MAC = | E25: ='PANEL DE CONTROL DISTRITAL'!E24 -> (Total de credenciales entregadas / Total de ciudadanas y ciudadanos que acuden al MAC a recoger su credencial) x 100 | F25: ='PANEL DE CONTROL DISTRITAL'!F24 -> Semanal (remesa) | G25: ='PANEL DE CONTROL DISTRITAL'!G24 -> 0.9 | H25: ='PANEL DE CONTROL DISTRITAL'!H24 -> Total de credenciales entregadas | I25: 0 | J25: 1011 | K25: 1008 | L25: 937 | M25: 725 | N25: 867 | O25: 912 | P25: 934 | Q25: 955 | AB25: =IFERROR(SUM(I25:AA25)/SUM(I26:AA26),0) -> 0.999456
H26: ='PANEL DE CONTROL DISTRITAL'!H25 -> Total de ciudadanas y ciudadanos que acuden al MAC a recoger su credencial | I26: 0 | J26: 1011 | K26: 1008 | L26: 937 | M26: 727 | N26: 867 | O26: 912 | P26: 934 | Q26: 957
B27: *Registre el valor nominal solicitado en la celda, el resultado proporcional esta automatizado.
I29: Semaforización
J30: Valor que requiere atención y justificación en el apartado de observaciones
J31: Valor suficiente
J32: Valor esperado
B34: CUADRO DE OBSERVACIONES
B35: Descripción | H35: No conformidad

Sheet 150652
A1: ='PANEL DE CONTROL DISTRITAL'!A1:Q1 -> INSTITUTO NACIONAL ELECTORAL SISTEMA DE GESTIÓN DE LA CALIDAD ESTADO DE MÉXICO
D2: Distrito | E2: 6 | F2: Módulo | H2: 150652
A4: TABLERO DE CONTROL DE PROCESOS SUSTANTIVOS DEL SISTEMA DE GESTIÓN DE LA CALIDAD
A6: ='PANEL DE CONTROL DISTRITAL'!A6 -> Número | B6: ='PANEL DE CONTROL DISTRITAL'!B6 -> PROCESOS SUSTANTIVOS E INDICADORES | I6: SEMANA OPERATIVA | AB6: % AVANCE REGISTRADO
B7: ='PANEL DE CONTROL DISTRITAL'!B7 -> DESCRIPCIÓN | E7: ='PANEL DE CONTROL DISTRITAL'!E7 -> MEDICIÓN | I7: ='PANEL DE CONTROL DISTRITAL'!A5 -> CAMPAÑA ANUAL INTENSA 2025
B9: ='PANEL DE CONTROL DISTRITAL'!B8 -> Proceso | C9: ='PANEL DE CONTROL DISTRITAL'!C8 -> Dueño de Proceso | D9: ='PANEL DE CONTROL DISTRITAL'!D8 -> Indicador | E9: ='PANEL DE CONTROL DISTRITAL'!E8 -> Cálculo | F9: ='PANEL DE CONTROL DISTRITAL'!F8 -> Periodo | G9: ='PANEL DE CONTROL DISTRITAL'!G8 -> Estimado | H9: ='PANEL DE CONTROL DISTRITAL'!H8 -> Nominativo | I9: ='150151'!I9 -> 2025-41 | J9: ='150151'!J9 -> 2025-42 | K9: ='150151'!K9 -> 2025-43 | L9: ='150151'!L9 -> 2025-44 | M9: ='150151'!M9 -> 2025-45 | N9: ='150151'!N9 -> 2025-46 | O9: ='150151'!O9 -> 2025-47 | P9: ='150151'!P9 -> 2025-48 | ... X9: ='150151'!X9 -> 2025-56 | Y9: 2024-57 | Z9: 2024-58 | AA9: 2024-59
A10: ='PANEL DE CONTROL DISTRITAL'!A9 -> 1 | B10: ='PANEL DE CONTROL DISTRITAL'!B9 -> ENTREVISTA | C10: ='PANEL DE CONTROL DISTRITAL'!C9 -> Auxiliar de Atención Ciudadana | D10: ='PANEL DE CONTROL DISTRITAL'!D9 -> Fichas requisitadas correctamente= | E10: ='PANEL DE CONTROL DISTRITAL'!E9 -> (Fichas requisitadas correctamente / Fichas revisadas en la muestra del 10%) x 100 | F10: ='PANEL DE CONTROL DISTRITAL'!F9 -> Semanal (remesa) | G10: ='PANEL DE CONTROL DISTRITAL'!G9 -> 0.9 | H10: ='PANEL DE CONTROL DISTRITAL'!H9 -> Fichas requistadas correctamente | I10: 0 | J10: 42 | K10: 44 | L10: 30 | M10: 44 | N10: 50 | O10: 45 | P10: 47 | Q10: 36 | AB10: =IFERROR(SUM(I10:AA10)/SUM(I11:AA11),0) -> 1
H11: ='PANEL DE CONTROL DISTRITAL'!H10 -> Fichas revisadas en la muestra del 10% | I11: 0 | J11: 42 | K11: 44 | L11: 30 | M11: 44 | N11: 50 | O11: 45 | P11: 47 | Q11: 36
A13: ='PANEL DE CONTROL DISTRITAL'!A12 -> 2 | B13: ='PANEL DE CONTROL DISTRITAL'!B12 -> TRÁMITE | C13: ='PANEL DE CONTROL DISTRITAL'!C12 -> Operador de Equipo Tecnológico | D13: ='PANEL DE CONTROL DISTRITAL'!D12 -> Trámites exitosos efectivos= | E13: ='PANEL DE CONTROL DISTRITAL'!E12 -> (Número de trámites exitosos / Número de trámites aplicados) x 100 | F13: ='PANEL DE CONTROL DISTRITAL'!F12 -> Semanal (remesa) | G13: ='PANEL DE CONTROL DISTRITAL'!G12 -> 0.9 | H13: ='PANEL DE CONTROL DISTRITAL'!H12 -> Número de trámites exitosos | I13: 0 | J13: 234 | K13: 439 | L13: 338 | M13: 447 | N13: 501 | O13: 455 | P13: 476 | Q13: 364 | AB13: =IFERROR(SUM(I13:AA13)/SUM(I14:AA14),0) -> 0.93398393
H14: ='PANEL DE CONTROL DISTRITAL'!H13 -> Número de trámites aplicados | I14: 0 | J14: 462 | K14: 440 | L14: 338 | M14: 447 | N14: 501 | O14: 456 | P14: 476 | Q14: 364
A16: ='PANEL DE CONTROL DISTRITAL'!A15 -> 3 | B16: ='PANEL DE CONTROL DISTRITAL'!B15 -> TRANSFERENCIA DE LA INFORMACIÓN | C16: ='PANEL DE CONTROL DISTRITAL'!C15 -> Responsable de Módulo | D16: ='PANEL DE CONTROL DISTRITAL'!D15 -> Reenvíos exitosos = | E16: ='PANEL DE CONTROL DISTRITAL'!E15 -> (Ejecución de los scripts de reenvío de notificaciones/Solicitud de reenvíos de scripts requeridos) x100 | F16: ='PANEL DE CONTROL DISTRITAL'!F15 -> Semanal (remesa) | G16: ='PANEL DE CONTROL DISTRITAL'!G15 -> 1 | H16: ='PANEL DE CONTROL DISTRITAL'!H15 -> Ejecución de los scripts de reenvío de notificaciones | I16: 0 | J16: 0 | K16: 0 | L16: 0 | M16: 0 | N16: 0 | O16: 0 | P16: 0 | Q16: 0 | AB16: =IFERROR(SUM(I16:AA16)/SUM(I17:AA17),1) -> 1
H17: ='PANEL DE CONTROL DISTRITAL'!H16 -> Solicitud de reevíos de scripts requeridos | I17: 0 | J17: 0 | K17: 0 | L17: 0 | M17: 0 | N17: 0 | O17: 0 | P17: 0 | Q17: 0
A19: ='PANEL DE CONTROL DISTRITAL'!A18 -> 4 | B19: ='PANEL DE CONTROL DISTRITAL'!B18 -> CONCILIACIÓN DE CREDENCIALES PARA VOTAR | C19: ='PANEL DE CONTROL DISTRITAL'!C18 -> Responsable de Módulo | D19: ='PANEL DE CONTROL DISTRITAL'!D18 -> Credenciales disponibles para entrega = | E19: ='PANEL DE CONTROL DISTRITAL'!E18 -> [(Credenciales recibidas - credenciales inconsistentes) / Credenciales recibidas] x 100 | F19: ='PANEL DE CONTROL DISTRITAL'!F18 -> Semanal (remesa) | G19: ='PANEL DE CONTROL DISTRITAL'!G18 -> 0.9 | H19: ='PANEL DE CONTROL DISTRITAL'!H18 -> Credenciales Recibidas - Credenciales inconsistentes | I19: 0 | J19: 484 | K19: 459 | L19: 318 | M19: 476 | N19: 456 | O19: 476 | P19: 474 | Q19: 425 | AB19: =IFERROR(SUM(I19:AA19)/SUM(I20:AA20),0) -> 1
H20: ='PANEL DE CONTROL DISTRITAL'!H19 -> Credenciales recibidas | I20: 0 | J20: 484 | K20: 459 | L20: 318 | M20: 476 | N20: 456 | O20: 476 | P20: 474 | Q20: 425
A22: ='PANEL DE CONTROL DISTRITAL'!A21 -> 5 | B22: ='PANEL DE CONTROL DISTRITAL'!B21 -> CONCILIACIÓN DE CREDENCIALES PARA VOTAR | C22: ='PANEL DE CONTROL DISTRITAL'!C21 -> Responsable de Módulo | D22: ='PANEL DE CONTROL DISTRITAL'!D21 -> Arqueo de Credenciales = | E22: ='PANEL DE CONTROL DISTRITAL'!E21 -> (Credenciales disponibles (físicas)/ Credenciales disponibles registradas en SIIRFE) x 100 | F22: ='PANEL DE CONTROL DISTRITAL'!F21 -> Semanal (remesa) | G22: ='PANEL DE CONTROL DISTRITAL'!G21 -> 1 | H22: ='PANEL DE CONTROL DISTRITAL'!H21 -> Credenciales disponibles (físicas) | I22: 0 | J22: 799 | K22: 781 | L22: 658 | M22: 741 | N22: 742 | O22: 791 | P22: 763 | Q22: 733 | AB22: =IFERROR(SUM(I22:AA22)/SUM(I23:AA23),0) -> 1
H23: ='PANEL DE CONTROL DISTRITAL'!H22 -> Credenciales disponibles registradas en SIIRFE | I23: 0 | J23: 799 | K23: 781 | L23: 658 | M23: 741 | N23: 742 | O23: 791 | P23: 763 | Q23: 733
A25: ='PANEL DE CONTROL DISTRITAL'!A24 -> 6 | B25: ='PANEL DE CONTROL DISTRITAL'!B24 -> ENTREGA DE LA CREDENCIAL PARA VOTAR | C25: ='PANEL DE CONTROL DISTRITAL'!C24 -> Operador de Equipo Tecnológico | D25: ='PANEL DE CONTROL DISTRITAL'!D24 -> Efectividad de entrega de CPV en MAC = | E25: ='PANEL DE CONTROL DISTRITAL'!E24 -> (Total de credenciales entregadas / Total de ciudadanas y ciudadanos que acuden al MAC a recoger su credencial) x 100 | F25: ='PANEL DE CONTROL DISTRITAL'!F24 -> Semanal (remesa) | G25: ='PANEL DE CONTROL DISTRITAL'!G24 -> 0.9 | H25: ='PANEL DE CONTROL DISTRITAL'!H24 -> Total de credenciales entregadas | I25: 0 | J25: 536 | K25: 477 | L25: 441 | M25: 389 | N25: 455 | O25: 427 | P25: 502 | Q25: 455 | AB25: =IFERROR(SUM(I25:AA25)/SUM(I26:AA26),0) -> 1
H26: ='PANEL DE CONTROL DISTRITAL'!H25 -> Total de ciudadanas y ciudadanos que acuden al MAC a recoger su credencial | I26: 0 | J26: 536 | K26: 477 | L26: 441 | M26: 389 | N26: 455 | O26: 427 | P26: 502 | Q26: 455
B27: *Registre el valor nominal solicitado en la celda, el resultado proporcional esta automatizado.
I29: Semaforización
J30: Valor que requiere atención y justificación en el apartado de observaciones
J31: Valor suficiente
J32: Valor esperado
B34: CUADRO DE OBSERVACIONES
B35: Descripción | H35: No conformidad

Sheet 150751
A1: ='PANEL DE CONTROL DISTRITAL'!A1:Q1 -> INSTITUTO NACIONAL ELECTORAL SISTEMA DE GESTIÓN DE LA CALIDAD ESTADO DE MÉXICO
D2: Distrito | E2: 7 | F2: Módulo | H2: 150751
A4: TABLERO DE CONTROL DE PROCESOS SUSTANTIVOS DEL SISTEMA DE GESTIÓN DE LA CALIDAD
A6: ='PANEL DE CONTROL DISTRITAL'!A6 -> Número | B6: ='PANEL DE CONTROL DISTRITAL'!B6 -> PROCESOS SUSTANTIVOS E INDICADORES | I6: SEMANA OPERATIVA | AB6: % AVANCE REGISTRADO
B7: ='PANEL DE CONTROL DISTRITAL'!B7 -> DESCRIPCIÓN | E7: ='PANEL DE CONTROL DISTRITAL'!E7 -> MEDICIÓN | I7: ='PANEL DE CONTROL DISTRITAL'!A5 -> CAMPAÑA ANUAL INTENSA 2025
B9: ='PANEL DE CONTROL DISTRITAL'!B8 -> Proceso | C9: ='PANEL DE CONTROL DISTRITAL'!C8 -> Dueño de Proceso | D9: ='PANEL DE CONTROL DISTRITAL'!D8 -> Indicador | E9: ='PANEL DE CONTROL DISTRITAL'!E8 -> Cálculo | F9: ='PANEL DE CONTROL DISTRITAL'!F8 -> Periodo | G9: ='PANEL DE CONTROL DISTRITAL'!G8 -> Estimado | H9: ='PANEL DE CONTROL DISTRITAL'!H8 -> Nominativo | I9: ='150151'!I9 -> 2025-41 | J9: ='150151'!J9 -> 2025-42 | K9: ='150151'!K9 -> 2025-43 | L9: ='150151'!L9 -> 2025-44 | M9: ='150151'!M9 -> 2025-45 | N9: ='150151'!N9 -> 2025-46 | O9: ='150151'!O9 -> 2025-47 | P9: ='150151'!P9 -> 2025-48 | ... X9: ='150151'!X9 -> 2025-56 | Y9: 2024-57 | Z9: 2024-58 | AA9: 2024-59
A10: ='PANEL DE CONTROL DISTRITAL'!A9 -> 1 | B10: ='PANEL DE CONTROL DISTRITAL'!B9 -> ENTREVISTA | C10: ='PANEL DE CONTROL DISTRITAL'!C9 -> Auxiliar de Atención Ciudadana | D10: ='PANEL DE CONTROL DISTRITAL'!D9 -> Fichas requisitadas correctamente= | E10: ='PANEL DE CONTROL DISTRITAL'!E9 -> (Fichas requisitadas correctamente / Fichas revisadas en la muestra del 10%) x 100 | F10: ='PANEL DE CONTROL DISTRITAL'!F9 -> Semanal (remesa) | G10: ='PANEL DE CONTROL DISTRITAL'!G9 -> 0.9 | H10: ='PANEL DE CONTROL DISTRITAL'!H9 -> Fichas requistadas correctamente | I10: 129 | J10: 123 | K10: 102 | L10: 127 | M10: 117 | N10: 86 | O10: 91 | P10: 92 | Q10: 137 | AB10: =IFERROR(SUM(I10:AA10)/SUM(I11:AA11),0) -> 1
H11: ='PANEL DE CONTROL DISTRITAL'!H10 -> Fichas revisadas en la muestra del 10% | I11: 129 | J11: 123 | K11: 102 | L11: 127 | M11: 117 | N11: 86 | O11: 91 | P11: 92 | Q11: 137
A13: ='PANEL DE CONTROL DISTRITAL'!A12 -> 2 | B13: ='PANEL DE CONTROL DISTRITAL'!B12 -> TRÁMITE | C13: ='PANEL DE CONTROL DISTRITAL'!C12 -> Operador de Equipo Tecnológico | D13: ='PANEL DE CONTROL DISTRITAL'!D12 -> Trámites exitosos efectivos= | E13: ='PANEL DE CONTROL DISTRITAL'!E12 -> (Número de trámites exitosos / Número de trámites aplicados) x 100 | F13: ='PANEL DE CONTROL DISTRITAL'!F12 -> Semanal (remesa) | G13: ='PANEL DE CONTROL DISTRITAL'!G12 -> 0.9 | H13: ='PANEL DE CONTROL DISTRITAL'!H12 -> Número de trámites exitosos | I13: 1255 | J13: 1074 | K13: 1004 | L13: 1257 | M13: 1168 | N13: 849 | O13: 892 | P13: 1270 | Q13: 1339 | AB13: =IFERROR(SUM(I13:AA13)/SUM(I14:AA14),0) -> 0.98174048
H14: ='PANEL DE CONTROL DISTRITAL'!H13 -> Número de trámites aplicados | I14: 1260 | J14: 1224 | K14: 1008 | L14: 1267 | M14: 1172 | N14: 852 | O14: 895 | P14: 1274 | Q14: 1344
A16: ='PANEL DE CONTROL DISTRITAL'!A15 -> 3 | B16: ='PANEL DE CONTROL DISTRITAL'!B15 -> TRANSFERENCIA DE LA INFORMACIÓN | C16: ='PANEL DE CONTROL DISTRITAL'!C15 -> Responsable de Módulo | D16: ='PANEL DE CONTROL DISTRITAL'!D15 -> Reenvíos exitosos = | E16: ='PANEL DE CONTROL DISTRITAL'!E15 -> (Ejecución de los scripts de reenvío de notificaciones/Solicitud de reenvíos de scripts requeridos) x100 | F16: ='PANEL DE CONTROL DISTRITAL'!F15 -> Semanal (remesa) | G16: ='PANEL DE CONTROL DISTRITAL'!G15 -> 1 | H16: ='PANEL DE CONTROL DISTRITAL'!H15 -> Ejecución de los scripts de reenvío de notificaciones | I16: 0 | J16: 0 | K16: 0 | L16: 0 | M16: 0 | N16: 1 | O16: 1 | P16: 1 | Q16: 1 | AB16: =IFERROR(SUM(I16:AA16)/SUM(I17:AA17),1) -> 1
H17: ='PANEL DE CONTROL DISTRITAL'!H16 -> Solicitud de reevíos de scripts requeridos | I17: 0 | J17: 0 | K17: 0 | L17: 0 | M17: 0 | N17: 1 | O17: 1 | P17: 1 | Q17: 1
A19: ='PANEL DE CONTROL DISTRITAL'!A18 -> 4 | B19: ='PANEL DE CONTROL DISTRITAL'!B18 -> CONCILIACIÓN DE CREDENCIALES PARA VOTAR | C19: ='PANEL DE CONTROL DISTRITAL'!C18 -> Responsable de Módulo | D19: ='PANEL DE CONTROL DISTRITAL'!D18 -> Credenciales disponibles para entrega = | E19: ='PANEL DE CONTROL DISTRITAL'!E18 -> [(Credenciales recibidas - credenciales inconsistentes) / Credenciales recibidas] x 100 | F19: ='PANEL DE CONTROL DISTRITAL'!F18 -> Semanal (remesa) | G19: ='PANEL DE CONTROL DISTRITAL'!G18 -> 0.9 | H19: ='PANEL DE CONTROL DISTRITAL'!H18 -> Credenciales Recibidas - Credenciales inconsistentes | I19: 1071 | J19: 1464 | K19: 963 | L19: 1310 | M19: 1160 | N19: 892 | O19: 848 | P19: 1039 | Q19: 1524 | AB19: =IFERROR(SUM(I19:AA19)/SUM(I20:AA20),0) -> 1
H20: ='PANEL DE CONTROL DISTRITAL'!H19 -> Credenciales recibidas | I20: 1071 | J20: 1464 | K20: 963 | L20: 1310 | M20: 1160 | N20: 892 | O20: 848 | P20: 1039 | Q20: 1524
A22: ='PANEL DE CONTROL DISTRITAL'!A21 -> 5 | B22: ='PANEL DE CONTROL DISTRITAL'!B21 -> CONCILIACIÓN DE CREDENCIALES PARA VOTAR | C22: ='PANEL DE CONTROL DISTRITAL'!C21 -> Responsable de Módulo | D22: ='PANEL DE CONTROL DISTRITAL'!D21 -> Arqueo de Credenciales = | E22: ='PANEL DE CONTROL DISTRITAL'!E21 -> (Credenciales disponibles (físicas)/ Credenciales disponibles registradas en SIIRFE) x 100 | F22: ='PANEL DE CONTROL DISTRITAL'!F21 -> Semanal (remesa) | G22: ='PANEL DE CONTROL DISTRITAL'!G21 -> 1 | H22: ='PANEL DE CONTROL DISTRITAL'!H21 -> Credenciales disponibles (físicas) | I22: 2028 | J22: 2211 | K22: 1975 | L22: 2164 | M22: 2130 | N22: 1831 | O22: 1618 | P22: 1701 | Q22: 2216 | AB22: =IFERROR(SUM(I22:AA22)/SUM(I23:AA23),0) -> 1
H23: ='PANEL DE CONTROL DISTRITAL'!H22 -> Credenciales disponibles registradas en SIIRFE | I23: 2028 | J23: 2211 | K23: 1975 | L23: 2164 | M23: 2130 | N23: 1831 | O23: 1618 | P23: 1701 | Q23: 2216
A24: 3
A25: ='PANEL DE CONTROL DISTRITAL'!A24 -> 6 | B25: ='PANEL DE CONTROL DISTRITAL'!B24 -> ENTREGA DE LA CREDENCIAL PARA VOTAR | C25: ='PANEL DE CONTROL DISTRITAL'!C24 -> Operador de Equipo Tecnológico | D25: ='PANEL DE CONTROL DISTRITAL'!D24 -> Efectividad de entrega de CPV en MAC = | E25: ='PANEL DE CONTROL DISTRITAL'!E24 -> (Total de credenciales entregadas / Total de ciudadanas y ciudadanos que acuden al MAC a recoger su credencial) x 100 | F25: ='PANEL DE CONTROL DISTRITAL'!F24 -> Semanal (remesa) | G25: ='PANEL DE CONTROL DISTRITAL'!G24 -> 0.9 | H25: ='PANEL DE CONTROL DISTRITAL'!H24 -> Total de credenciales entregadas | I25: 1303 | J25: 1281 | K25: 1199 | L25: 1109 | M25: 1194 | N25: 1191 | O25: 1061 | P25: 956 | Q25: 1009 | AB25: =IFERROR(SUM(I25:AA25)/SUM(I26:AA26),0) -> 1
H26: ='PANEL DE CONTROL DISTRITAL'!H25 -> Total de ciudadanas y ciudadanos que acuden al MAC a recoger su credencial | I26: 1303 | J26: 1281 | K26: 1199 | L26: 1109 | M26: 1194 | N26: 1191 | O26: 1061 | P26: 956 | Q26: 1009
B27: *Registre el valor nominal solicitado en la celda, el resultado proporcional esta automatizado.
I29: Semaforización
J30: Valor que requiere atención y justificación en el apartado de observaciones
J31: Valor suficiente
J32: Valor esperado
B34: CUADRO DE OBSERVACIONES
B35: Descripción | H35: No conformidad

Sheet 150851
A1: ='PANEL DE CONTROL DISTRITAL'!A1:Q1 -> INSTITUTO NACIONAL ELECTORAL SISTEMA DE GESTIÓN DE LA CALIDAD ESTADO DE MÉXICO
D2: Distrito | E2: 8 | F2: Módulo | H2: 150851
A4: TABLERO DE CONTROL DE PROCESOS SUSTANTIVOS DEL SISTEMA DE GESTIÓN DE LA CALIDAD
A6: ='PANEL DE CONTROL DISTRITAL'!A6 -> Número | B6: ='PANEL DE CONTROL DISTRITAL'!B6 -> PROCESOS SUSTANTIVOS E INDICADORES | I6: SEMANA OPERATIVA | AB6: % AVANCE REGISTRADO
B7: ='PANEL DE CONTROL DISTRITAL'!B7 -> DESCRIPCIÓN | E7: ='PANEL DE CONTROL DISTRITAL'!E7 -> MEDICIÓN | I7: ='PANEL DE CONTROL DISTRITAL'!A5 -> CAMPAÑA ANUAL INTENSA 2025
B9: ='PANEL DE CONTROL DISTRITAL'!B8 -> Proceso | C9: ='PANEL DE CONTROL DISTRITAL'!C8 -> Dueño de Proceso | D9: ='PANEL DE CONTROL DISTRITAL'!D8 -> Indicador | E9: ='PANEL DE CONTROL DISTRITAL'!E8 -> Cálculo | F9: ='PANEL DE CONTROL DISTRITAL'!F8 -> Periodo | G9: ='PANEL DE CONTROL DISTRITAL'!G8 -> Estimado | H9: ='PANEL DE CONTROL DISTRITAL'!H8 -> Nominativo | I9: ='150151'!I9 -> 2025-41 | J9: ='150151'!J9 -> 2025-42 | K9: ='150151'!K9 -> 2025-43 | L9: ='150151'!L9 -> 2025-44 | M9: ='150151'!M9 -> 2025-45 | N9: ='150151'!N9 -> 2025-46 | O9: ='150151'!O9 -> 2025-47 | P9: ='150151'!P9 -> 2025-48 | ... X9: ='150151'!X9 -> 2025-56 | Y9: 2024-57 | Z9: 2024-58 | AA9: 2024-59
A10: ='PANEL DE CONTROL DISTRITAL'!A9 -> 1 | B10: ='PANEL DE CONTROL DISTRITAL'!B9 -> ENTREVISTA | C10: ='PANEL DE CONTROL DISTRITAL'!C9 -> Auxiliar de Atención Ciudadana | D10: ='PANEL DE CONTROL DISTRITAL'!D9 -> Fichas requisitadas correctamente= | E10: ='PANEL DE CONTROL DISTRITAL'!E9 -> (Fichas requisitadas correctamente / Fichas revisadas en la muestra del 10%) x 100 | F10: ='PANEL DE CONTROL DISTRITAL'!F9 -> Semanal (remesa) | G10: ='PANEL DE CONTROL DISTRITAL'!G9 -> 0.9 | H10: ='PANEL DE CONTROL DISTRITAL'!H9 -> Fichas requistadas correctamente | I10: 70 | J10: 0 | K10: 62 | L10: 78 | M10: 76 | N10: 76 | O10: 75 | P10: 64 | Q10: 50 | AB10: =IFERROR(SUM(I10:AA10)/SUM(I11:AA11),0) -> 1
H11: ='PANEL DE CONTROL DISTRITAL'!H10 -> Fichas revisadas en la muestra del 10% | I11: 70 | J11: 0 | K11: 62 | L11: 78 | M11: 76 | N11: 76 | O11: 75 | P11: 64 | Q11: 50
A13: ='PANEL DE CONTROL DISTRITAL'!A12 -> 2 | B13: ='PANEL DE CONTROL DISTRITAL'!B12 -> TRÁMITE | C13: ='PANEL DE CONTROL DISTRITAL'!C12 -> Operador de Equipo Tecnológico | D13: ='PANEL DE CONTROL DISTRITAL'!D12 -> Trámites exitosos efectivos= | E13: ='PANEL DE CONTROL DISTRITAL'!E12 -> (Número de trámites exitosos / Número de trámites aplicados) x 100 | F13: ='PANEL DE CONTROL DISTRITAL'!F12 -> Semanal (remesa) | G13: ='PANEL DE CONTROL DISTRITAL'!G12 -> 0.9 | H13: ='PANEL DE CONTROL DISTRITAL'!H12 -> Número de trámites exitosos | I13: 671 | J13: 0 | K13: 583 | L13: 738 | M13: 728 | N13: 704 | O13: 706 | P13: 618 | Q13: 478 | AB13: =IFERROR(SUM(I13:AA13)/SUM(I14:AA14),0) -> 0.99866234
H14: ='PANEL DE CONTROL DISTRITAL'!H13 -> Número de trámites aplicados | I14: 672 | J14: 0 | K14: 586 | L14: 740 | M14: 729 | N14: 704 | O14: 706 | P14: 618 | Q14: 478
A16: ='PANEL DE CONTROL DISTRITAL'!A15 -> 3 | B16: ='PANEL DE CONTROL DISTRITAL'!B15 -> TRANSFERENCIA DE LA INFORMACIÓN | C16: ='PANEL DE CONTROL DISTRITAL'!C15 -> Responsable de Módulo | D16: ='PANEL DE CONTROL DISTRITAL'!D15 -> Reenvíos exitosos = | E16: ='PANEL DE CONTROL DISTRITAL'!E15 -> (Ejecución de los scripts de reenvío de notificaciones/Solicitud de reenvíos de scripts requeridos) x100 | F16: ='PANEL DE CONTROL DISTRITAL'!F15 -> Semanal (remesa) | G16: ='PANEL DE CONTROL DISTRITAL'!G15 -> 1 | H16: ='PANEL DE CONTROL DISTRITAL'!H15 -> Ejecución de los scripts de reenvío de notificaciones | I16: 0 | J16: 0 | K16: 0 | L16: 0 | M16: 0 | N16: 0 | O16: 0 | P16: 0 | Q16: 0 | AB16: =IFERROR(SUM(I16:AA16)/SUM(I17:AA17),1) -> 1
H17: ='PANEL DE CONTROL DISTRITAL'!H16 -> Solicitud de reevíos de scripts requeridos | I17: 0 | J17: 0 | K17: 0 | L17: 0 | M17: 0 | N17: 0 | O17: 0 | P17: 0 | Q17: 0
A19: ='PANEL DE CONTROL DISTRITAL'!A18 -> 4 | B19: ='PANEL DE CONTROL DISTRITAL'!B18 -> CONCILIACIÓN DE CREDENCIALES PARA VOTAR | C19: ='PANEL DE CONTROL DISTRITAL'!C18 -> Responsable de Módulo | D19: ='PANEL DE CONTROL DISTRITAL'!D18 -> Credenciales disponibles para entrega = | E19: ='PANEL DE CONTROL DISTRITAL'!E18 -> [(Credenciales recibidas - credenciales inconsistentes) / Credenciales recibidas] x 100 | F19: ='PANEL DE CONTROL DISTRITAL'!F18 -> Semanal (remesa) | G19: ='PANEL DE CONTROL DISTRITAL'!G18 -> 0.9 | H19: ='PANEL DE CONTROL DISTRITAL'!H18 -> Credenciales Recibidas - Credenciales inconsistentes | I19: 782 | J19: 0 | K19: 430 | L19: 750 | M19: 752 | N19: 729 | O19: 694 | P19: 659 | Q19: 565 | AB19: =IFERROR(SUM(I19:AA19)/SUM(I20:AA20),0) -> 1
H20: ='PANEL DE CONTROL DISTRITAL'!H19 -> Credenciales recibidas | I20: 782 | J20: 0 | K20: 430 | L20: 750 | M20: 752 | N20: 729 | O20: 694 | P20: 659 | Q20: 565
A22: ='PANEL DE CONTROL DISTRITAL'!A21 -> 5 | B22: ='PANEL DE CONTROL DISTRITAL'!B21 -> CONCILIACIÓN DE CREDENCIALES PARA VOTAR | C22: ='PANEL DE CONTROL DISTRITAL'!C21 -> Responsable de Módulo | D22: ='PANEL DE CONTROL DISTRITAL'!D21 -> Arqueo de Credenciales = | E22: ='PANEL DE CONTROL DISTRITAL'!E21 -> (Credenciales disponibles (físicas)/ Credenciales disponibles registradas en SIIRFE) x 100 | F22: ='PANEL DE CONTROL DISTRITAL'!F21 -> Semanal (remesa) | G22: ='PANEL DE CONTROL DISTRITAL'!G21 -> 1 | H22: ='PANEL DE CONTROL DISTRITAL'!H21 -> Credenciales disponibles (físicas) | I22: 1360 | J22: 0 | K22: 1129 | L22: 1208 | M22: 1237 | N22: 1318 | O22: 1295 | P22: 1252 | Q22: 1195 | AB22: =IFERROR(SUM(I22:AA22)/SUM(I23:AA23),0) -> 1
H23: ='PANEL DE CONTROL DISTRITAL'!H22 -> Credenciales disponibles registradas en SIIRFE | I23: 1360 | J23: 0 | K23: 1129 | L23: 1208 | M23: 1237 | N23: 1318 | O23: 1295 | P23: 1252 | Q23: 1195
A25: ='PANEL DE CONTROL DISTRITAL'!A24 -> 6 | B25: ='PANEL DE CONTROL DISTRITAL'!B24 -> ENTREGA DE LA CREDENCIAL PARA VOTAR | C25: ='PANEL DE CONTROL DISTRITAL'!C24 -> Operador de Equipo Tecnológico | D25: ='PANEL DE CONTROL DISTRITAL'!D24 -> Efectividad de entrega de CPV en MAC = | E25: ='PANEL DE CONTROL DISTRITAL'!E24 -> (Total de credenciales entregadas / Total de ciudadanas y ciudadanos que acuden al MAC a recoger su credencial) x 100 | F25: ='PANEL DE CONTROL DISTRITAL'!F24 -> Semanal (remesa) | G25: ='PANEL DE CONTROL DISTRITAL'!G24 -> 0.9 | H25: ='PANEL DE CONTROL DISTRITAL'!H24 -> Total de credenciales entregadas | I25: 814 | J25: 0 | K25: 688 | L25: 663 | M25: 723 | N25: 648 | O25: 716 | P25: 702 | Q25: 622 | AB25: =IFERROR(SUM(I25:AA25)/SUM(I26:AA26),0) -> 1
H26: ='PANEL DE CONTROL DISTRITAL'!H25 -> Total de ciudadanas y ciudadanos que acuden al MAC a recoger su credencial | I26: 814 | J26: 0 | K26: 688 | L26: 663 | M26: 723 | N26: 648 | O26: 716 | P26: 702 | Q26: 622
B27: *Registre el valor nominal solicitado en la celda, el resultado proporcional esta automatizado.
I29: Semaforización
J30: Valor que requiere atención y justificación en el apartado de observaciones
J31: Valor suficiente
J32: Valor esperado
B34: CUADRO DE OBSERVACIONES
B35: Descripción | H35: No conformidad

Sheet 150951
A1: ='PANEL DE CONTROL DISTRITAL'!A1:Q1 -> INSTITUTO NACIONAL ELECTORAL SISTEMA DE GESTIÓN DE LA CALIDAD ESTADO DE MÉXICO
D2: Distrito | E2: 9 | F2: Módulo | H2: 150951
A4: TABLERO DE CONTROL DE PROCESOS SUSTANTIVOS DEL SISTEMA DE GESTIÓN DE LA CALIDAD
A6: ='PANEL DE CONTROL DISTRITAL'!A6 -> Número | B6: ='PANEL DE CONTROL DISTRITAL'!B6 -> PROCESOS SUSTANTIVOS E INDICADORES | I6: SEMANA OPERATIVA | AB6: % AVANCE REGISTRADO
B7: ='PANEL DE CONTROL DISTRITAL'!B7 -> DESCRIPCIÓN | E7: ='PANEL DE CONTROL DISTRITAL'!E7 -> MEDICIÓN | I7: ='PANEL DE CONTROL DISTRITAL'!A5 -> CAMPAÑA ANUAL INTENSA 2025
B9: ='PANEL DE CONTROL DISTRITAL'!B8 -> Proceso | C9: ='PANEL DE CONTROL DISTRITAL'!C8 -> Dueño de Proceso | D9: ='PANEL DE CONTROL DISTRITAL'!D8 -> Indicador | E9: ='PANEL DE CONTROL DISTRITAL'!E8 -> Cálculo | F9: ='PANEL DE CONTROL DISTRITAL'!F8 -> Periodo | G9: ='PANEL DE CONTROL DISTRITAL'!G8 -> Estimado | H9: ='PANEL DE CONTROL DISTRITAL'!H8 -> Nominativo | I9: ='150151'!I9 -> 2025-41 | J9: ='150151'!J9 -> 2025-42 | K9: ='150151'!K9 -> 2025-43 | L9: ='150151'!L9 -> 2025-44 | M9: ='150151'!M9 -> 2025-45 | N9: ='150151'!N9 -> 2025-46 | O9: ='150151'!O9 -> 2025-47 | P9: ='150151'!P9 -> 2025-48 | ... Z9: ='150151'!Z9 -> 2025-58 | AA9: ='150151'!#REF! -> #REF!
A10: ='PANEL DE CONTROL DISTRITAL'!A9 -> 1 | B10: ='PANEL DE CONTROL DISTRITAL'!B9 -> ENTREVISTA | C10: ='PANEL DE CONTROL DISTRITAL'!C9 -> Auxiliar de Atención Ciudadana | D10: ='PANEL DE CONTROL DISTRITAL'!D9 -> Fichas requisitadas correctamente= | E10: ='PANEL DE CONTROL DISTRITAL'!E9 -> (Fichas requisitadas correctamente / Fichas revisadas en la muestra del 10%) x 100 | F10: ='PANEL DE CONTROL DISTRITAL'!F9 -> Semanal (remesa) | G10: ='PANEL DE CONTROL DISTRITAL'!G9 -> 0.9 | H10: ='PANEL DE CONTROL DISTRITAL'!H9 -> Fichas requistadas correctamente | I10: 36 | J10: 32 | K10: 32 | L10: 34 | M10: 31 | N10: 30 | O10: 33 | P10: 26 | Q10: 22 | AB10: =IFERROR(SUM(I10:AA10)/SUM(I11:AA11),0) -> 1
H11: ='PANEL DE CONTROL DISTRITAL'!H10 -> Fichas revisadas en la muestra del 10% | I11: 36 | J11: 32 | K11: 32 | L11: 34 | M11: 31 | N11: 30 | O11: 33 | P11: 26 | Q11: 22
A13: ='PANEL DE CONTROL DISTRITAL'!A12 -> 2 | B13: ='PANEL DE CONTROL DISTRITAL'!B12 -> TRÁMITE | C13: ='PANEL DE CONTROL DISTRITAL'!C12 -> Operador de Equipo Tecnológico | D13: ='PANEL DE CONTROL DISTRITAL'!D12 -> Trámites exitosos efectivos= | E13: ='PANEL DE CONTROL DISTRITAL'!E12 -> (Número de trámites exitosos / Número de trámites aplicados) x 100 | F13: ='PANEL DE CONTROL DISTRITAL'!F12 -> Semanal (remesa) | G13: ='PANEL DE CONTROL DISTRITAL'!G12 -> 0.9 | H13: ='PANEL DE CONTROL DISTRITAL'!H12 -> Número de trámites exitosos | I13: 358 | J13: 254 | K13: 318 | L13: 336 | M13: 309 | N13: 294 | O13: 326 | P13: 258 | Q13: 215 | AB13: =IFERROR(SUM(I13:AA13)/SUM(I14:AA14),0) -> 0.97478992
H14: ='PANEL DE CONTROL DISTRITAL'!H13 -> Número de trámites aplicados | I14: 359 | J14: 319 | K14: 318 | L14: 336 | M14: 309 | N14: 294 | O14: 328 | P14: 259 | Q14: 215
A16: ='PANEL DE CONTROL DISTRITAL'!A15 -> 3 | B16: ='PANEL DE CONTROL DISTRITAL'!B15 -> TRANSFERENCIA DE LA INFORMACIÓN | C16: ='PANEL DE CONTROL DISTRITAL'!C15 -> Responsable de Módulo | D16: ='PANEL DE CONTROL DISTRITAL'!D15 -> Reenvíos exitosos = | E16: ='PANEL DE CONTROL DISTRITAL'!E15 -> (Ejecución de los scripts de reenvío de notificaciones/Solicitud de reenvíos de scripts requeridos) x100 | F16: ='PANEL DE CONTROL DISTRITAL'!F15 -> Semanal (remesa) | G16: ='PANEL DE CONTROL DISTRITAL'!G15 -> 1 | H16: ='PANEL DE CONTROL DISTRITAL'!H15 -> Ejecución de los scripts de reenvío de notificaciones | I16: 0 | J16: 0 | K16: 0 | L16: 1 | M16: 11 | N16: 0 | O16: 25 | P16: 0 | Q16: 0 | AB16: =IFERROR(SUM(I16:AA16)/SUM(I17:AA17),1) -> 1
H17: ='PANEL DE CONTROL DISTRITAL'!H16 -> Solicitud de reevíos de scripts requeridos | I17: 0 | J17: 0 | K17: 0 | L17: 1 | M17: 11 | N17: 0 | O17: 25 | P17: 0 | Q17: 0
A19: ='PANEL DE CONTROL DISTRITAL'!A18 -> 4 | B19: ='PANEL DE CONTROL DISTRITAL'!B18 -> CONCILIACIÓN DE CREDENCIALES PARA VOTAR | C19: ='PANEL DE CONTROL DISTRITAL'!C18 -> Responsable de Módulo | D19: ='PANEL DE CONTROL DISTRITAL'!D18 -> Credenciales disponibles para entrega = | E19: ='PANEL DE CONTROL DISTRITAL'!E18 -> [(Credenciales recibidas - credenciales inconsistentes) / Credenciales recibidas] x 100 | F19: ='PANEL DE CONTROL DISTRITAL'!F18 -> Semanal (remesa) | G19: ='PANEL DE CONTROL DISTRITAL'!G18 -> 0.9 | H19: ='PANEL DE CONTROL DISTRITAL'!H18 -> Credenciales Recibidas - Credenciales inconsistentes | I19: 403 | J19: 345 | K19: 289 | L19: 354 | M19: 325 | N19: 283 | O19: 338 | P19: 276 | Q19: 254 | AB19: =IFERROR(SUM(I19:AA19)/SUM(I20:AA20),0) -> 1
H20: ='PANEL DE CONTROL DISTRITAL'!H19 -> Credenciales recibidas | I20: 403 | J20: 345 | K20: 289 | L20: 354 | M20: 325 | N20: 283 | O20: 338 | P20: 276 | Q20: 254
A22: ='PANEL DE CONTROL DISTRITAL'!A21 -> 5 | B22: ='PANEL DE CONTROL DISTRITAL'!B21 -> CONCILIACIÓN DE CREDENCIALES PARA VOTAR | C22: ='PANEL DE CONTROL DISTRITAL'!C21 -> Responsable de Módulo | D22: ='PANEL DE CONTROL DISTRITAL'!D21 -> Arqueo de Credenciales = | E22: ='PANEL DE CONTROL DISTRITAL'!E21 -> (Credenciales disponibles (físicas)/ Credenciales disponibles registradas en SIIRFE) x 100 | F22: ='PANEL DE CONTROL DISTRITAL'!F21 -> Semanal (remesa) | G22: ='PANEL DE CONTROL DISTRITAL'!G21 -> 1 | H22: ='PANEL DE CONTROL DISTRITAL'!H21 -> Credenciales disponibles (físicas) | I22: 691 | J22: 603 | K22: 530 | L22: 557 | M22: 539 | N22: 521 | O22: 553 | P22: 513 | Q22: 502 | AB22: =IFERROR(SUM(I22:AA22)/SUM(I23:AA23),0) -> 1
H23: ='PANEL DE CONTROL DISTRITAL'!H22 -> Credenciales disponibles registradas en SIIRFE | I23: 691 | J23: 603 | K23: 530 | L23: 557 | M23: 539 | N23: 521 | O23: 553 | P23: 513 | Q23: 502
A25: ='PANEL DE CONTROL DISTRITAL'!A24 -> 6 | B25: ='PANEL DE CONTROL DISTRITAL'!B24 -> ENTREGA DE LA CREDENCIAL PARA VOTAR | C25: ='PANEL DE CONTROL DISTRITAL'!C24 -> Operador de Equipo Tecnológico | D25: ='PANEL DE CONTROL DISTRITAL'!D24 -> Efectividad de entrega de CPV en MAC = | E25: ='PANEL DE CONTROL DISTRITAL'!E24 -> (Total de credenciales entregadas / Total de ciudadanas y ciudadanos que acuden al MAC a recoger su credencial) x 100 | F25: ='PANEL DE CONTROL DISTRITAL'!F24 -> Semanal (remesa) | G25: ='PANEL DE CONTROL DISTRITAL'!G24 -> 0.9 | H25: ='PANEL DE CONTROL DISTRITAL'!H24 -> Total de credenciales entregadas | I25: 405 | J25: 433 | K25: 362 | L25: 325 | M25: 343 | N25: 301 | O25: 306 | P25: 316 | Q25: 265 | AB25: =IFERROR(SUM(I25:AA25)/SUM(I26:AA26),0) -> 0.99934598
H26: ='PANEL DE CONTROL DISTRITAL'!H25 -> Total de ciudadanas y ciudadanos que acuden al MAC a recoger su credencial | I26: 405 | J26: 433 | K26: 362 | L26: 325 | M26: 345 | N26: 301 | O26: 306 | P26: 316 | Q26: 265
B27: *Registre el valor nominal solicitado en la celda, el resultado proporcional esta automatizado.
I29: Semaforización
J30: Valor que requiere atención y justificación en el apartado de observaciones
J31: Valor suficiente
J32: Valor esperado
B34: CUADRO DE OBSERVACIONES
B35: Descripción | H35: No conformidad

Sheet 150952
A1: ='PANEL DE CONTROL DISTRITAL'!A1:Q1 -> INSTITUTO NACIONAL ELECTORAL SISTEMA DE GESTIÓN DE LA CALIDAD ESTADO DE MÉXICO
D2: Distrito | E2: 9 | F2: Módulo | H2: 150952
A4: TABLERO DE CONTROL DE PROCESOS SUSTANTIVOS DEL SISTEMA DE GESTIÓN DE LA CALIDAD
A6: ='PANEL DE CONTROL DISTRITAL'!A6 -> Número | B6: ='PANEL DE CONTROL DISTRITAL'!B6 -> PROCESOS SUSTANTIVOS E INDICADORES | I6: SEMANA OPERATIVA | AB6: % AVANCE REGISTRADO
B7: ='PANEL DE CONTROL DISTRITAL'!B7 -> DESCRIPCIÓN | E7: ='PANEL DE CONTROL DISTRITAL'!E7 -> MEDICIÓN | I7: ='PANEL DE CONTROL DISTRITAL'!A5 -> CAMPAÑA ANUAL INTENSA 2025
B9: ='PANEL DE CONTROL DISTRITAL'!B8 -> Proceso | C9: ='PANEL DE CONTROL DISTRITAL'!C8 -> Dueño de Proceso | D9: ='PANEL DE CONTROL DISTRITAL'!D8 -> Indicador | E9: ='PANEL DE CONTROL DISTRITAL'!E8 -> Cálculo | F9: ='PANEL DE CONTROL DISTRITAL'!F8 -> Periodo | G9: ='PANEL DE CONTROL DISTRITAL'!G8 -> Estimado | H9: ='PANEL DE CONTROL DISTRITAL'!H8 -> Nominativo | I9: ='150151'!I9 -> 2025-41 | J9: ='150151'!J9 -> 2025-42 | K9: ='150151'!K9 -> 2025-43 | L9: ='150151'!L9 -> 2025-44 | M9: ='150151'!M9 -> 2025-45 | N9: ='150151'!N9 -> 2025-46 | O9: ='150151'!O9 -> 2025-47 | P9: ='150151'!P9 -> 2025-48 | ... Z9: ='150151'!Z9 -> 2025-58 | AA9: ='150151'!#REF! -> #REF!
A10: ='PANEL DE CONTROL DISTRITAL'!A9 -> 1 | B10: ='PANEL DE CONTROL DISTRITAL'!B9 -> ENTREVISTA | C10: ='PANEL DE CONTROL DISTRITAL'!C9 -> Auxiliar de Atención Ciudadana | D10: ='PANEL DE CONTROL DISTRITAL'!D9 -> Fichas requisitadas correctamente= | E10: ='PANEL DE CONTROL DISTRITAL'!E9 -> (Fichas requisitadas correctamente / Fichas revisadas en la muestra del 10%) x 100 | F10: ='PANEL DE CONTROL DISTRITAL'!F9 -> Semanal (remesa) | G10: ='PANEL DE CONTROL DISTRITAL'!G9 -> 0.9 | H10: ='PANEL DE CONTROL DISTRITAL'!H9 -> Fichas requistadas correctamente | I10: 24 | J10: 23 | K10: 17 | L10: 21 | M10: 22 | N10: 22 | O10: 26 | P10: 24 | Q10: 18 | AB10: =IFERROR(SUM(I10:AA10)/SUM(I11:AA11),0) -> 1
H11: ='PANEL DE CONTROL DISTRITAL'!H10 -> Fichas revisadas en la muestra del 10% | I11: 24 | J11: 23 | K11: 17 | L11: 21 | M11: 22 | N11: 22 | O11: 26 | P11: 24 | Q11: 18
A13: ='PANEL DE CONTROL DISTRITAL'!A12 -> 2 | B13: ='PANEL DE CONTROL DISTRITAL'!B12 -> TRÁMITE | C13: ='PANEL DE CONTROL DISTRITAL'!C12 -> Operador de Equipo Tecnológico | D13: ='PANEL DE CONTROL DISTRITAL'!D12 -> Trámites exitosos efectivos= | E13: ='PANEL DE CONTROL DISTRITAL'!E12 -> (Número de trámites exitosos / Número de trámites aplicados) x 100 | F13: ='PANEL DE CONTROL DISTRITAL'!F12 -> Semanal (remesa) | G13: ='PANEL DE CONTROL DISTRITAL'!G12 -> 0.9 | H13: ='PANEL DE CONTROL DISTRITAL'!H12 -> Número de trámites exitosos | I13: 238 | J13: 169 | K13: 159 | L13: 207 | M13: 198 | N13: 217 | O13: 256 | P13: 232 | Q13: 175 | AB13: =IFERROR(SUM(I13:AA13)/SUM(I14:AA14),0) -> 0.96910995
H14: ='PANEL DE CONTROL DISTRITAL'!H13 -> Número de trámites aplicados | I14: 238 | J14: 221 | K14: 160 | L14: 209 | M14: 199 | N14: 219 | O14: 256 | P14: 232 | Q14: 176
A16: ='PANEL DE CONTROL DISTRITAL'!A15 -> 3 | B16: ='PANEL DE CONTROL DISTRITAL'!B15 -> TRANSFERENCIA DE LA INFORMACIÓN | C16: ='PANEL DE CONTROL DISTRITAL'!C15 -> Responsable de Módulo | D16: ='PANEL DE CONTROL DISTRITAL'!D15 -> Reenvíos exitosos = | E16: ='PANEL DE CONTROL DISTRITAL'!E15 -> (Ejecución de los scripts de reenvío de notificaciones/Solicitud de reenvíos de scripts requeridos) x100 | F16: ='PANEL DE CONTROL DISTRITAL'!F15 -> Semanal (remesa) | G16: ='PANEL DE CONTROL DISTRITAL'!G15 -> 1 | H16: ='PANEL DE CONTROL DISTRITAL'!H15 -> Ejecución de los scripts de reenvío de notificaciones | I16: 0 | J16: 0 | K16: 0 | L16: 0 | M16: 0 | N16: 0 | O16: 0 | P16: 0 | Q16: 0 | AB16: =IFERROR(SUM(I16:AA16)/SUM(I17:AA17),1) -> 1
H17: ='PANEL DE CONTROL DISTRITAL'!H16 -> Solicitud de reevíos de scripts requeridos | I17: 0 | J17: 0 | K17: 0 | L17: 0 | M17: 0 | N17: 0 | O17: 0 | P17: 0 | Q17: 0
A19: ='PANEL DE CONTROL DISTRITAL'!A18 -> 4 | B19: ='PANEL DE CONTROL DISTRITAL'!B18 -> CONCILIACIÓN DE CREDENCIALES PARA VOTAR | C19: ='PANEL DE CONTROL DISTRITAL'!C18 -> Responsable de Módulo | D19: ='PANEL DE CONTROL DISTRITAL'!D18 -> Credenciales disponibles para entrega = | E19: ='PANEL DE CONTROL DISTRITAL'!E18 -> [(Credenciales recibidas - credenciales inconsistentes) / Credenciales recibidas] x 100 | F19: ='PANEL DE CONTROL DISTRITAL'!F18 -> Semanal (remesa) | G19: ='PANEL DE CONTROL DISTRITAL'!G18 -> 0.9 | H19: ='PANEL DE CONTROL DISTRITAL'!H18 -> Credenciales Recibidas - Credenciales inconsistentes | I19: 210 | J19: 276 | K19: 100 | L19: 290 | M19: 220 | N19: 220 | O19: 233 | P19: 264 | Q19: 196 | AB19: =IFERROR(SUM(I19:AA19)/SUM(I20:AA20),0) -> 1
H20: ='PANEL DE CONTROL DISTRITAL'!H19 -> Credenciales recibidas | I20: 210 | J20: 276 | K20: 100 | L20: 290 | M20: 220 | N20: 220 | O20: 233 | P20: 264 | Q20: 196
A22: ='PANEL DE CONTROL DISTRITAL'!A21 -> 5 | B22: ='PANEL DE CONTROL DISTRITAL'!B21 -> CONCILIACIÓN DE CREDENCIALES PARA VOTAR | C22: ='PANEL DE CONTROL DISTRITAL'!C21 -> Responsable de Módulo | D22: ='PANEL DE CONTROL DISTRITAL'!D21 -> Arqueo de Credenciales = | E22: ='PANEL DE CONTROL DISTRITAL'!E21 -> (Credenciales disponibles (físicas)/ Credenciales disponibles registradas en SIIRFE) x 100 | F22: ='PANEL DE CONTROL DISTRITAL'!F21 -> Semanal (remesa) | G22: ='PANEL DE CONTROL DISTRITAL'!G21 -> 1 | H22: ='PANEL DE CONTROL DISTRITAL'!H21 -> Credenciales disponibles (físicas) | I22: 375 | J22: 401 | K22: 285 | L22: 376 | M22: 386 | N22: 386 | O22: 399 | P22: 435 | Q22: 427 | AB22: =IFERROR(SUM(I22:AA22)/SUM(I23:AA23),0) -> 1
H23: ='PANEL DE CONTROL DISTRITAL'!H22 -> Credenciales disponibles registradas en SIIRFE | I23: 375 | J23: 401 | K23: 285 | L23: 376 | M23: 386 | N23: 386 | O23: 399 | P23: 435 | Q23: 427
A25: ='PANEL DE CONTROL DISTRITAL'!A24 -> 6 | B25: ='PANEL DE CONTROL DISTRITAL'!B24 -> ENTREGA DE LA CREDENCIAL PARA VOTAR | C25: ='PANEL DE CONTROL DISTRITAL'!C24 -> Operador de Equipo Tecnológico | D25: ='PANEL DE CONTROL DISTRITAL'!D24 -> Efectividad de entrega de CPV en MAC = | E25: ='PANEL DE CONTROL DISTRITAL'!E24 -> (Total de credenciales entregadas / Total de ciudadanas y ciudadanos que acuden al MAC a recoger su credencial) x 100 | F25: ='PANEL DE CONTROL DISTRITAL'!F24 -> Semanal (remesa) | G25: ='PANEL DE CONTROL DISTRITAL'!G24 -> 0.9 | H25: ='PANEL DE CONTROL DISTRITAL'!H24 -> Total de credenciales entregadas | I25: 217 | J25: 250 | K25: 216 | L25: 198 | M25: 201 | N25: 201 | O25: 220 | P25: 228 | Q25: 204 | AB25: =IFERROR(SUM(I25:AA25)/SUM(I26:AA26),0) -> 0.99896748
H26: ='PANEL DE CONTROL DISTRITAL'!H25 -> Total de ciudadanas y ciudadanos que acuden al MAC a recoger su credencial | I26: 217 | J26: 250 | K26: 218 | L26: 198 | M26: 201 | N26: 201 | O26: 220 | P26: 228 | Q26: 204
B27: *Registre el valor nominal solicitado en la celda, el resultado proporcional esta automatizado.
I29: Semaforización
J30: Valor que requiere atención y justificación en el apartado de observaciones
J31: Valor suficiente
J32: Valor esperado
B34: CUADRO DE OBSERVACIONES
B35: Descripción | H35: No conformidad

Sheet 150953
A1: ='PANEL DE CONTROL DISTRITAL'!A1:Q1 -> INSTITUTO NACIONAL ELECTORAL SISTEMA DE GESTIÓN DE LA CALIDAD ESTADO DE MÉXICO
D2: Distrito | E2: 9 | F2: Módulo | H2: 150953
A4: TABLERO DE CONTROL DE PROCESOS SUSTANTIVOS DEL SISTEMA DE GESTIÓN DE LA CALIDAD
A6: ='PANEL DE CONTROL DISTRITAL'!A6 -> Número | B6: ='PANEL DE CONTROL DISTRITAL'!B6 -> PROCESOS SUSTANTIVOS E INDICADORES | I6: SEMANA OPERATIVA | AB6: % AVANCE REGISTRADO
B7: ='PANEL DE CONTROL DISTRITAL'!B7 -> DESCRIPCIÓN | E7: ='PANEL DE CONTROL DISTRITAL'!E7 -> MEDICIÓN | I7: ='PANEL DE CONTROL DISTRITAL'!A5 -> CAMPAÑA ANUAL INTENSA 2025
B9: ='PANEL DE CONTROL DISTRITAL'!B8 -> Proceso | C9: ='PANEL DE CONTROL DISTRITAL'!C8 -> Dueño de Proceso | D9: ='PANEL DE CONTROL DISTRITAL'!D8 -> Indicador | E9: ='PANEL DE CONTROL DISTRITAL'!E8 -> Cálculo | F9: ='PANEL DE CONTROL DISTRITAL'!F8 -> Periodo | G9: ='PANEL DE CONTROL DISTRITAL'!G8 -> Estimado | H9: ='PANEL DE CONTROL DISTRITAL'!H8 -> Nominativo | I9: ='150151'!I9 -> 2025-41 | J9: ='150151'!J9 -> 2025-42 | K9: ='150151'!K9 -> 2025-43 | L9: ='150151'!L9 -> 2025-44 | M9: ='150151'!M9 -> 2025-45 | N9: ='150151'!N9 -> 2025-46 | O9: ='150151'!O9 -> 2025-47 | P9: ='150151'!P9 -> 2025-48 | ... Z9: ='150151'!Z9 -> 2025-58 | AA9: ='150151'!#REF! -> #REF!
A10: ='PANEL DE CONTROL DISTRITAL'!A9 -> 1 | B10: ='PANEL DE CONTROL DISTRITAL'!B9 -> ENTREVISTA | C10: ='PANEL DE CONTROL DISTRITAL'!C9 -> Auxiliar de Atención Ciudadana | D10: ='PANEL DE CONTROL DISTRITAL'!D9 -> Fichas requisitadas correctamente= | E10: ='PANEL DE CONTROL DISTRITAL'!E9 -> (Fichas requisitadas correctamente / Fichas revisadas en la muestra del 10%) x 100 | F10: ='PANEL DE CONTROL DISTRITAL'!F9 -> Semanal (remesa) | G10: ='PANEL DE CONTROL DISTRITAL'!G9 -> 0.9 | H10: ='PANEL DE CONTROL DISTRITAL'!H9 -> Fichas requistadas correctamente | I10: 33 | J10: 31 | K10: 28 | L10: 30 | M10: 29 | N10: 30 | O10: 33 | P10: 26 | Q10: 21 | AB10: =IFERROR(SUM(I10:AA10)/SUM(I11:AA11),0) -> 1
H11: ='PANEL DE CONTROL DISTRITAL'!H10 -> Fichas revisadas en la muestra del 10% | I11: 33 | J11: 31 | K11: 28 | L11: 30 | M11: 29 | N11: 30 | O11: 33 | P11: 26 | Q11: 21
A13: ='PANEL DE CONTROL DISTRITAL'!A12 -> 2 | B13: ='PANEL DE CONTROL DISTRITAL'!B12 -> TRÁMITE | C13: ='PANEL DE CONTROL DISTRITAL'!C12 -> Operador de Equipo Tecnológico | D13: ='PANEL DE CONTROL DISTRITAL'!D12 -> Trámites exitosos efectivos= | E13: ='PANEL DE CONTROL DISTRITAL'!E12 -> (Número de trámites exitosos / Número de trámites aplicados) x 100 | F13: ='PANEL DE CONTROL DISTRITAL'!F12 -> Semanal (remesa) | G13: ='PANEL DE CONTROL DISTRITAL'!G12 -> 0.9 | H13: ='PANEL DE CONTROL DISTRITAL'!H12 -> Número de trámites exitosos | I13: 325 | J13: 169 | K13: 271 | L13: 292 | M13: 282 | N13: 299 | O13: 325 | P13: 256 | Q13: 208 | AB13: =IFERROR(SUM(I13:AA13)/SUM(I14:AA14),0) -> 0.94399067
H14: ='PANEL DE CONTROL DISTRITAL'!H13 -> Número de trámites aplicados | I14: 325 | J14: 308 | K14: 273 | L14: 293 | M14: 283 | N14: 299 | O14: 325 | P14: 258 | Q14: 207
A16: ='PANEL DE CONTROL DISTRITAL'!A15 -> 3 | B16: ='PANEL DE CONTROL DISTRITAL'!B15 -> TRANSFERENCIA DE LA INFORMACIÓN | C16: ='PANEL DE CONTROL DISTRITAL'!C15 -> Responsable de Módulo | D16: ='PANEL DE CONTROL DISTRITAL'!D15 -> Reenvíos exitosos = | E16: ='PANEL DE CONTROL DISTRITAL'!E15 -> (Ejecución de los scripts de reenvío de notificaciones/Solicitud de reenvíos de scripts requeridos) x100 | F16: ='PANEL DE CONTROL DISTRITAL'!F15 -> Semanal (remesa) | G16: ='PANEL DE CONTROL DISTRITAL'!G15 -> 1 | H16: ='PANEL DE CONTROL DISTRITAL'!H15 -> Ejecución de los scripts de reenvío de notificaciones | I16: 0 | J16: 0 | K16: 0 | L16: 0 | M16: 0 | N16: 0 | O16: 0 | P16: 0 | Q16: 0 | AB16: =IFERROR(SUM(I16:AA16)/SUM(I17:AA17),1) -> 1
H17: ='PANEL DE CONTROL DISTRITAL'!H16 -> Solicitud de reevíos de scripts requeridos | I17: 0 | J17: 0 | K17: 0 | L17: 0 | M17: 0 | N17: 0 | O17: 0 | P17: 0 | Q17: 0
A19: ='PANEL DE CONTROL DISTRITAL'!A18 -> 4 | B19: ='PANEL DE CONTROL DISTRITAL'!B18 -> CONCILIACIÓN DE CREDENCIALES PARA VOTAR | C19: ='PANEL DE CONTROL DISTRITAL'!C18 -> Responsable de Módulo | D19: ='PANEL DE CONTROL DISTRITAL'!D18 -> Credenciales disponibles para entrega = | E19: ='PANEL DE CONTROL DISTRITAL'!E18 -> [(Credenciales recibidas - credenciales inconsistentes) / Credenciales recibidas] x 100 | F19: ='PANEL DE CONTROL DISTRITAL'!F18 -> Semanal (remesa) | G19: ='PANEL DE CONTROL DISTRITAL'!G18 -> 0.9 | H19: ='PANEL DE CONTROL DISTRITAL'!H18 -> Credenciales Recibidas - Credenciales inconsistentes | I19: 364 | J19: 251 | K19: 173 | L19: 300 | M19: 439 | N19: 307 | O19: 324 | P19: 265 | Q19: 225 | AB19: =IFERROR(SUM(I19:AA19)/SUM(I20:AA20),0) -> 1
H20: ='PANEL DE CONTROL DISTRITAL'!H19 -> Credenciales recibidas | I20: 364 | J20: 251 | K20: 173 | L20: 300 | M20: 439 | N20: 307 | O20: 324 | P20: 265 | Q20: 225
A22: ='PANEL DE CONTROL DISTRITAL'!A21 -> 5 | B22: ='PANEL DE CONTROL DISTRITAL'!B21 -> CONCILIACIÓN DE CREDENCIALES PARA VOTAR | C22: ='PANEL DE CONTROL DISTRITAL'!C21 -> Responsable de Módulo | D22: ='PANEL DE CONTROL DISTRITAL'!D21 -> Arqueo de Credenciales = | E22: ='PANEL DE CONTROL DISTRITAL'!E21 -> (Credenciales disponibles (físicas)/ Credenciales disponibles registradas en SIIRFE) x 100 | F22: ='PANEL DE CONTROL DISTRITAL'!F21 -> Semanal (remesa) | G22: ='PANEL DE CONTROL DISTRITAL'!G21 -> 1 | H22: ='PANEL DE CONTROL DISTRITAL'!H21 -> Credenciales disponibles (físicas) | I22: 667 | J22: 581 | K22: 413 | L22: 415 | M22: 562 | N22: 586 | O22: 591 | P22: 542 | Q22: 494 | AB22: =IFERROR(SUM(I22:AA22)/SUM(I23:AA23),0) -> 1
H23: ='PANEL DE CONTROL DISTRITAL'!H22 -> Credenciales disponibles registradas en SIIRFE | I23: 667 | J23: 581 | K23: 413 | L23: 415 | M23: 562 | N23: 586 | O23: 591 | P23: 542 | Q23: 494
A25: ='PANEL DE CONTROL DISTRITAL'!A24 -> 6 | B25: ='PANEL DE CONTROL DISTRITAL'!B24 -> ENTREGA DE LA CREDENCIAL PARA VOTAR | C25: ='PANEL DE CONTROL DISTRITAL'!C24 -> Operador de Equipo Tecnológico | D25: ='PANEL DE CONTROL DISTRITAL'!D24 -> Efectividad de entrega de CPV en MAC = | E25: ='PANEL DE CONTROL DISTRITAL'!E24 -> (Total de credenciales entregadas / Total de ciudadanas y ciudadanos que acuden al MAC a recoger su credencial) x 100 | F25: ='PANEL DE CONTROL DISTRITAL'!F24 -> Semanal (remesa) | G25: ='PANEL DE CONTROL DISTRITAL'!G24 -> 0.9 | H25: ='PANEL DE CONTROL DISTRITAL'!H24 -> Total de credenciales entregadas | I25: 423 | J25: 337 | K25: 341 | L25: 293 | M25: 292 | N25: 283 | O25: 319 | P25: 314 | Q25: 273 | AB25: =IFERROR(SUM(I25:AA25)/SUM(I26:AA26),0) -> 0.99687933
H26: ='PANEL DE CONTROL DISTRITAL'!H25 -> Total de ciudadanas y ciudadanos que acuden al MAC a recoger su credencial | I26: 423 | J26: 337 | K26: 342 | L26: 295 | M26: 297 | N26: 284 | O26: 319 | P26: 314 | Q26: 273
B27: *Registre el valor nominal solicitado en la celda, el resultado proporcional esta automatizado.
I29: Semaforización
J30: Valor que requiere atención y justificación en el apartado de observaciones
J31: Valor suficiente
J32: Valor esperado
B34: CUADRO DE OBSERVACIONES
B35: Descripción | H35: No conformidad

Sheet 150954
A1: ='PANEL DE CONTROL DISTRITAL'!A1:Q1 -> INSTITUTO NACIONAL ELECTORAL SISTEMA DE GESTIÓN DE LA CALIDAD ESTADO DE MÉXICO
D2: Distrito | E2: 9 | F2: Módulo | H2: 150954
A4: TABLERO DE CONTROL DE PROCESOS SUSTANTIVOS DEL SISTEMA DE GESTIÓN DE LA CALIDAD
A6: ='PANEL DE CONTROL DISTRITAL'!A6 -> Número | B6: ='PANEL DE CONTROL DISTRITAL'!B6 -> PROCESOS SUSTANTIVOS E INDICADORES | I6: SEMANA OPERATIVA | AB6: % AVANCE REGISTRADO
B7: ='PANEL DE CONTROL DISTRITAL'!B7 -> DESCRIPCIÓN | E7: ='PANEL DE CONTROL DISTRITAL'!E7 -> MEDICIÓN | I7: ='PANEL DE CONTROL DISTRITAL'!A5 -> CAMPAÑA ANUAL INTENSA 2025
B9: ='PANEL DE CONTROL DISTRITAL'!B8 -> Proceso | C9: ='PANEL DE CONTROL DISTRITAL'!C8 -> Dueño de Proceso | D9: ='PANEL DE CONTROL DISTRITAL'!D8 -> Indicador | E9: ='PANEL DE CONTROL DISTRITAL'!E8 -> Cálculo | F9: ='PANEL DE CONTROL DISTRITAL'!F8 -> Periodo | G9: ='PANEL DE CONTROL DISTRITAL'!G8 -> Estimado | H9: ='PANEL DE CONTROL DISTRITAL'!H8 -> Nominativo | I9: ='150151'!I9 -> 2025-41 | J9: ='150151'!J9 -> 2025-42 | K9: ='150151'!K9 -> 2025-43 | L9: ='150151'!L9 -> 2025-44 | M9: ='150151'!M9 -> 2025-45 | N9: ='150151'!N9 -> 2025-46 | O9: ='150151'!O9 -> 2025-47 | P9: ='150151'!P9 -> 2025-48 | ... Z9: ='150151'!Z9 -> 2025-58 | AA9: ='150151'!#REF! -> #REF!
A10: ='PANEL DE CONTROL DISTRITAL'!A9 -> 1 | B10: ='PANEL DE CONTROL DISTRITAL'!B9 -> ENTREVISTA | C10: ='PANEL DE CONTROL DISTRITAL'!C9 -> Auxiliar de Atención Ciudadana | D10: ='PANEL DE CONTROL DISTRITAL'!D9 -> Fichas requisitadas correctamente= | E10: ='PANEL DE CONTROL DISTRITAL'!E9 -> (Fichas requisitadas correctamente / Fichas revisadas en la muestra del 10%) x 100 | F10: ='PANEL DE CONTROL DISTRITAL'!F9 -> Semanal (remesa) | G10: ='PANEL DE CONTROL DISTRITAL'!G9 -> 0.9 | H10: ='PANEL DE CONTROL DISTRITAL'!H9 -> Fichas requistadas correctamente | I10: 10 | J10: 14 | K10: 9 | L10: 6 | M10: 14 | N10: 5 | O10: 11 | P10: 5 | Q10: 5 | AB10: =IFERROR(SUM(I10:AA10)/SUM(I11:AA11),0) -> 1
H11: ='PANEL DE CONTROL DISTRITAL'!H10 -> Fichas revisadas en la muestra del 10% | I11: 10 | J11: 14 | K11: 9 | L11: 6 | M11: 14 | N11: 5 | O11: 11 | P11: 5 | Q11: 5
A13: ='PANEL DE CONTROL DISTRITAL'!A12 -> 2 | B13: ='PANEL DE CONTROL DISTRITAL'!B12 -> TRÁMITE | C13: ='PANEL DE CONTROL DISTRITAL'!C12 -> Operador de Equipo Tecnológico | D13: ='PANEL DE CONTROL DISTRITAL'!D12 -> Trámites exitosos efectivos= | E13: ='PANEL DE CONTROL DISTRITAL'!E12 -> (Número de trámites exitosos / Número de trámites aplicados) x 100 | F13: ='PANEL DE CONTROL DISTRITAL'!F12 -> Semanal (remesa) | G13: ='PANEL DE CONTROL DISTRITAL'!G12 -> 0.9 | H13: ='PANEL DE CONTROL DISTRITAL'!H12 -> Número de trámites exitosos | I13: 93 | J13: 9 | K13: 82 | L13: 50 | M13: 131 | N13: 49 | O13: 109 | P13: 86 | Q13: 40 | AB13: =IFERROR(SUM(I13:AA13)/SUM(I14:AA14),0) -> 0.80621118
H14: ='PANEL DE CONTROL DISTRITAL'!H13 -> Número de trámites aplicados | I14: 93 | J14: 139 | K14: 82 | L14: 50 | M14: 131 | N14: 49 | O14: 109 | P14: 112 | Q14: 40
A16: ='PANEL DE CONTROL DISTRITAL'!A15 -> 3 | B16: ='PANEL DE CONTROL DISTRITAL'!B15 -> TRANSFERENCIA DE LA INFORMACIÓN | C16: ='PANEL DE CONTROL DISTRITAL'!C15 -> Responsable de Módulo | D16: ='PANEL DE CONTROL DISTRITAL'!D15 -> Reenvíos exitosos = | E16: ='PANEL DE CONTROL DISTRITAL'!E15 -> (Ejecución de los scripts de reenvío de notificaciones/Solicitud de reenvíos de scripts requeridos) x100 | F16: ='PANEL DE CONTROL DISTRITAL'!F15 -> Semanal (remesa) | G16: ='PANEL DE CONTROL DISTRITAL'!G15 -> 1 | H16: ='PANEL DE CONTROL DISTRITAL'!H15 -> Ejecución de los scripts de reenvío de notificaciones | I16: 0 | J16: 0 | K16: 0 | L16: 0 | M16: 0 | N16: 0 | O16: 0 | P16: 0 | Q16: 0 | AB16: =IFERROR(SUM(I16:AA16)/SUM(I17:AA17),1) -> 1
H17: ='PANEL DE CONTROL DISTRITAL'!H16 -> Solicitud de reevíos de scripts requeridos | I17: 0 | J17: 0 | K17: 0 | L17: 0 | M17: 0 | N17: 0 | O17: 0 | P17: 0 | Q17: 0
A19: ='PANEL DE CONTROL DISTRITAL'!A18 -> 4 | B19: ='PANEL DE CONTROL DISTRITAL'!B18 -> CONCILIACIÓN DE CREDENCIALES PARA VOTAR | C19: ='PANEL DE CONTROL DISTRITAL'!C18 -> Responsable de Módulo | D19: ='PANEL DE CONTROL DISTRITAL'!D18 -> Credenciales disponibles para entrega = | E19: ='PANEL DE CONTROL DISTRITAL'!E18 -> [(Credenciales recibidas - credenciales inconsistentes) / Credenciales recibidas] x 100 | F19: ='PANEL DE CONTROL DISTRITAL'!F18 -> Semanal (remesa) | G19: ='PANEL DE CONTROL DISTRITAL'!G18 -> 0.9 | H19: ='PANEL DE CONTROL DISTRITAL'!H18 -> Credenciales Recibidas - Credenciales inconsistentes | I19: 222 | J19: 90 | K19: 130 | L19: 82 | M19: 50 | N19: 136 | O19: 27 | P19: 162 | Q19: 50 | AB19: =IFERROR(SUM(I19:AA19)/SUM(I20:AA20),0) -> 1
H20: ='PANEL DE CONTROL DISTRITAL'!H19 -> Credenciales recibidas | I20: 222 | J20: 90 | K20: 130 | L20: 82 | M20: 50 | N20: 136 | O20: 27 | P20: 162 | Q20: 50
A22: ='PANEL DE CONTROL DISTRITAL'!A21 -> 5 | B22: ='PANEL DE CONTROL DISTRITAL'!B21 -> CONCILIACIÓN DE CREDENCIALES PARA VOTAR | C22: ='PANEL DE CONTROL DISTRITAL'!C21 -> Responsable de Módulo | D22: ='PANEL DE CONTROL DISTRITAL'!D21 -> Arqueo de Credenciales = | E22: ='PANEL DE CONTROL DISTRITAL'!E21 -> (Credenciales disponibles (físicas)/ Credenciales disponibles registradas en SIIRFE) x 100 | F22: ='PANEL DE CONTROL DISTRITAL'!F21 -> Semanal (remesa) | G22: ='PANEL DE CONTROL DISTRITAL'!G21 -> 1 | H22: ='PANEL DE CONTROL DISTRITAL'!H21 -> Credenciales disponibles (físicas) | I22: 402 | J22: 308 | K22: 271 | L22: 301 | M22: 184 | N22: 245 | O22: 150 | P22: 243 | Q22: 235 | AB22: =IFERROR(SUM(I22:AA22)/SUM(I23:AA23),0) -> 1
H23: ='PANEL DE CONTROL DISTRITAL'!H22 -> Credenciales disponibles registradas en SIIRFE | I23: 402 | J23: 308 | K23: 271 | L23: 301 | M23: 184 | N23: 245 | O23: 150 | P23: 243 | Q23: 235
A25: ='PANEL DE CONTROL DISTRITAL'!A24 -> 6 | B25: ='PANEL DE CONTROL DISTRITAL'!B24 -> ENTREGA DE LA CREDENCIAL PARA VOTAR | C25: ='PANEL DE CONTROL DISTRITAL'!C24 -> Operador de Equipo Tecnológico | D25: ='PANEL DE CONTROL DISTRITAL'!D24 -> Efectividad de entrega de CPV en MAC = | E25: ='PANEL DE CONTROL DISTRITAL'!E24 -> (Total de credenciales entregadas / Total de ciudadanas y ciudadanos que acuden al MAC a recoger su credencial) x 100 | F25: ='PANEL DE CONTROL DISTRITAL'!F24 -> Semanal (remesa) | G25: ='PANEL DE CONTROL DISTRITAL'!G24 -> 0.9 | H25: ='PANEL DE CONTROL DISTRITAL'!H24 -> Total de credenciales entregadas | I25: 75 | J25: 184 | K25: 167 | L25: 52 | M25: 167 | N25: 75 | O25: 122 | P25: 69 | Q25: 58 | AB25: =IFERROR(SUM(I25:AA25)/SUM(I26:AA26),0) -> 1
H26: ='PANEL DE CONTROL DISTRITAL'!H25 -> Total de ciudadanas y ciudadanos que acuden al MAC a recoger su credencial | I26: 75 | J26: 184 | K26: 167 | L26: 52 | M26: 167 | N26: 75 | O26: 122 | P26: 69 | Q26: 58
B27: *Registre el valor nominal solicitado en la celda, el resultado proporcional esta automatizado.
I29: Semaforización
J30: Valor que requiere atención y justificación en el apartado de observaciones
J31: Valor suficiente
J32: Valor esperado
B34: CUADRO DE OBSERVACIONES
B35: Descripción | H35: No conformidad

Sheet 151051
A1: ='PANEL DE CONTROL DISTRITAL'!A1:Q1 -> INSTITUTO NACIONAL ELECTORAL SISTEMA DE GESTIÓN DE LA CALIDAD ESTADO DE MÉXICO
D2: Distrito | E2: 10 | F2: Módulo | H2: 151051
A4: TABLERO DE CONTROL DE PROCESOS SUSTANTIVOS DEL SISTEMA DE GESTIÓN DE LA CALIDAD
A6: ='PANEL DE CONTROL DISTRITAL'!A6 -> Número | B6: ='PANEL DE CONTROL DISTRITAL'!B6 -> PROCESOS SUSTANTIVOS E INDICADORES | I6: SEMANA OPERATIVA | AB6: % AVANCE REGISTRADO
B7: ='PANEL DE CONTROL DISTRITAL'!B7 -> DESCRIPCIÓN | E7: ='PANEL DE CONTROL DISTRITAL'!E7 -> MEDICIÓN | I7: ='PANEL DE CONTROL DISTRITAL'!A5 -> CAMPAÑA ANUAL INTENSA 2025
B9: ='PANEL DE CONTROL DISTRITAL'!B8 -> Proceso | C9: ='PANEL DE CONTROL DISTRITAL'!C8 -> Dueño de Proceso | D9: ='PANEL DE CONTROL DISTRITAL'!D8 -> Indicador | E9: ='PANEL DE CONTROL DISTRITAL'!E8 -> Cálculo | F9: ='PANEL DE CONTROL DISTRITAL'!F8 -> Periodo | G9: ='PANEL DE CONTROL DISTRITAL'!G8 -> Estimado | H9: ='PANEL DE CONTROL DISTRITAL'!H8 -> Nominativo | I9: ='150151'!I9 -> 2025-41 | J9: ='150151'!J9 -> 2025-42 | K9: ='150151'!K9 -> 2025-43 | L9: ='150151'!L9 -> 2025-44 | M9: ='150151'!M9 -> 2025-45 | N9: ='150151'!N9 -> 2025-46 | O9: ='150151'!O9 -> 2025-47 | P9: ='150151'!P9 -> 2025-48 | ... Z9: ='150151'!Z9 -> 2025-58 | AA9: ='150151'!#REF! -> #REF!
A10: ='PANEL DE CONTROL DISTRITAL'!A9 -> 1 | B10: ='PANEL DE CONTROL DISTRITAL'!B9 -> ENTREVISTA | C10: ='PANEL DE CONTROL DISTRITAL'!C9 -> Auxiliar de Atención Ciudadana | D10: ='PANEL DE CONTROL DISTRITAL'!D9 -> Fichas requisitadas correctamente= | E10: ='PANEL DE CONTROL DISTRITAL'!E9 -> (Fichas requisitadas correctamente / Fichas revisadas en la muestra del 10%) x 100 | F10: ='PANEL DE CONTROL DISTRITAL'!F9 -> Semanal (remesa) | G10: ='PANEL DE CONTROL DISTRITAL'!G9 -> 0.9 | H10: ='PANEL DE CONTROL DISTRITAL'!H9 -> Fichas requistadas correctamente | I10: 82 | J10: 84 | K10: 63 | L10: 86 | M10: 80 | N10: 79 | O10: 85 | P10: 63 | Q10: 57 | AB10: =IFERROR(SUM(I10:AA10)/SUM(I11:AA11),0) -> 1
H11: ='PANEL DE CONTROL DISTRITAL'!H10 -> Fichas revisadas en la muestra del 10% | I11: 82 | J11: 84 | K11: 63 | L11: 86 | M11: 80 | N11: 79 | O11: 85 | P11: 63 | Q11: 57
A13: ='PANEL DE CONTROL DISTRITAL'!A12 -> 2 | B13: ='PANEL DE CONTROL DISTRITAL'!B12 -> TRÁMITE | C13: ='PANEL DE CONTROL DISTRITAL'!C12 -> Operador de Equipo Tecnológico | D13: ='PANEL DE CONTROL DISTRITAL'!D12 -> Trámites exitosos efectivos= | E13: ='PANEL DE CONTROL DISTRITAL'!E12 -> (Número de trámites exitosos / Número de trámites aplicados) x 100 | F13: ='PANEL DE CONTROL DISTRITAL'!F12 -> Semanal (remesa) | G13: ='PANEL DE CONTROL DISTRITAL'!G12 -> 0.9 | H13: ='PANEL DE CONTROL DISTRITAL'!H12 -> Número de trámites exitosos | I13: 819 | J13: 834 | K13: 629 | L13: 852 | M13: 796 | N13: 785 | O13: 843 | P13: 634 | Q13: 564 | AB13: =IFERROR(SUM(I13:AA13)/SUM(I14:AA14),0) -> 0.99763733
H14: ='PANEL DE CONTROL DISTRITAL'!H13 -> Número de trámites aplicados | I14: 820 | J14: 835 | K14: 629 | L14: 856 | M14: 797 | N14: 789 | O14: 847 | P14: 634 | Q14: 565
A16: ='PANEL DE CONTROL DISTRITAL'!A15 -> 3 | B16: ='PANEL DE CONTROL DISTRITAL'!B15 -> TRANSFERENCIA DE LA INFORMACIÓN | C16: ='PANEL DE CONTROL DISTRITAL'!C15 -> Responsable de Módulo | D16: ='PANEL DE CONTROL DISTRITAL'!D15 -> Reenvíos exitosos = | E16: ='PANEL DE CONTROL DISTRITAL'!E15 -> (Ejecución de los scripts de reenvío de notificaciones/Solicitud de reenvíos de scripts requeridos) x100 | F16: ='PANEL DE CONTROL DISTRITAL'!F15 -> Semanal (remesa) | G16: ='PANEL DE CONTROL DISTRITAL'!G15 -> 1 | H16: ='PANEL DE CONTROL DISTRITAL'!H15 -> Ejecución de los scripts de reenvío de notificaciones | I16: 0 | J16: 0 | K16: 0 | L16: 0 | M16: 0 | N16: 1 | O16: 0 | P16: 1 | Q16: 0 | AB16: =IFERROR(SUM(I16:AA16)/SUM(I17:AA17),1) -> 1
H17: ='PANEL DE CONTROL DISTRITAL'!H16 -> Solicitud de reevíos de scripts requeridos | I17: 0 | J17: 0 | K17: 0 | L17: 0 | M17: 0 | N17: 1 | O17: 0 | P17: 1 | Q17: 0
A19: ='PANEL DE CONTROL DISTRITAL'!A18 -> 4 | B19: ='PANEL DE CONTROL DISTRITAL'!B18 -> CONCILIACIÓN DE CREDENCIALES PARA VOTAR | C19: ='PANEL DE CONTROL DISTRITAL'!C18 -> Responsable de Módulo | D19: ='PANEL DE CONTROL DISTRITAL'!D18 -> Credenciales disponibles para entrega = | E19: ='PANEL DE CONTROL DISTRITAL'!E18 -> [(Credenciales recibidas - credenciales inconsistentes) / Credenciales recibidas] x 100 | F19: ='PANEL DE CONTROL DISTRITAL'!F18 -> Semanal (remesa) | G19: ='PANEL DE CONTROL DISTRITAL'!G18 -> 0.9 | H19: ='PANEL DE CONTROL DISTRITAL'!H18 -> Credenciales Recibidas - Credenciales inconsistentes | I19: 1170 | J19: 691 | K19: 627 | L19: 875 | M19: 799 | N19: 779 | O19: 835 | P19: 728 | Q19: 613 | AB19: =IFERROR(SUM(I19:AA19)/SUM(I20:AA20),0) -> 1
H20: ='PANEL DE CONTROL DISTRITAL'!H19 -> Credenciales recibidas | I20: 1170 | J20: 691 | K20: 627 | L20: 875 | M20: 799 | N20: 779 | O20: 835 | P20: 728 | Q20: 613
A22: ='PANEL DE CONTROL DISTRITAL'!A21 -> 5 | B22: ='PANEL DE CONTROL DISTRITAL'!B21 -> CONCILIACIÓN DE CREDENCIALES PARA VOTAR | C22: ='PANEL DE CONTROL DISTRITAL'!C21 -> Responsable de Módulo | D22: ='PANEL DE CONTROL DISTRITAL'!D21 -> Arqueo de Credenciales = | E22: ='PANEL DE CONTROL DISTRITAL'!E21 -> (Credenciales disponibles (físicas)/ Credenciales disponibles registradas en SIIRFE) x 100 | F22: ='PANEL DE CONTROL DISTRITAL'!F21 -> Semanal (remesa) | G22: ='PANEL DE CONTROL DISTRITAL'!G21 -> 1 | H22: ='PANEL DE CONTROL DISTRITAL'!H21 -> Credenciales disponibles (físicas) | I22: 1456 | J22: 1202 | K22: 1039 | L22: 1133 | M22: 1134 | N22: 1137 | O22: 1137 | P22: 1121 | Q22: 1029 | AB22: =IFERROR(SUM(I22:AA22)/SUM(I23:AA23),0) -> 1
H23: ='PANEL DE CONTROL DISTRITAL'!H22 -> Credenciales disponibles registradas en SIIRFE | I23: 1456 | J23: 1202 | K23: 1039 | L23: 1133 | M23: 1134 | N23: 1137 | O23: 1137 | P23: 1121 | Q23: 1029
A25: ='PANEL DE CONTROL DISTRITAL'!A24 -> 6 | B25: ='PANEL DE CONTROL DISTRITAL'!B24 -> ENTREGA DE LA CREDENCIAL PARA VOTAR | C25: ='PANEL DE CONTROL DISTRITAL'!C24 -> Operador de Equipo Tecnológico | D25: ='PANEL DE CONTROL DISTRITAL'!D24 -> Efectividad de entrega de CPV en MAC = | E25: ='PANEL DE CONTROL DISTRITAL'!E24 -> (Total de credenciales entregadas / Total de ciudadanas y ciudadanos que acuden al MAC a recoger su credencial) x 100 | F25: ='PANEL DE CONTROL DISTRITAL'!F24 -> Semanal (remesa) | G25: ='PANEL DE CONTROL DISTRITAL'!G24 -> 0.9 | H25: ='PANEL DE CONTROL DISTRITAL'!H24 -> Total de credenciales entregadas | I25: 902 | J25: 945 | K25: 790 | L25: 779 | M25: 798 | N25: 776 | O25: 805 | P25: 774 | Q25: 705 | AB25: =IFERROR(SUM(I25:AA25)/SUM(I26:AA26),0) -> 1
H26: ='PANEL DE CONTROL DISTRITAL'!H25 -> Total de ciudadanas y ciudadanos que acuden al MAC a recoger su credencial | I26: 902 | J26: 945 | K26: 790 | L26: 779 | M26: 798 | N26: 776 | O26: 805 | P26: 774 | Q26: 705
B27: *Registre el valor nominal solicitado en la celda, el resultado proporcional esta automatizado.
I29: Semaforización
J30: Valor que requiere atención y justificación en el apartado de observaciones
J31: Valor suficiente
J32: Valor esperado
B34: CUADRO DE OBSERVACIONES
B35: Descripción | H35: No conformidad

Sheet 151151
A1: ='PANEL DE CONTROL DISTRITAL'!A1:Q1 -> INSTITUTO NACIONAL ELECTORAL SISTEMA DE GESTIÓN DE LA CALIDAD ESTADO DE MÉXICO
D2: Distrito | E2: 11 | F2: Módulo | H2: 151151
A4: TABLERO DE CONTROL DE PROCESOS SUSTANTIVOS DEL SISTEMA DE GESTIÓN DE LA CALIDAD
A6: ='PANEL DE CONTROL DISTRITAL'!A6 -> Número | B6: ='PANEL DE CONTROL DISTRITAL'!B6 -> PROCESOS SUSTANTIVOS E INDICADORES | I6: SEMANA OPERATIVA | AB6: % AVANCE REGISTRADO
B7: ='PANEL DE CONTROL DISTRITAL'!B7 -> DESCRIPCIÓN | E7: ='PANEL DE CONTROL DISTRITAL'!E7 -> MEDICIÓN | I7: ='PANEL DE CONTROL DISTRITAL'!A5 -> CAMPAÑA ANUAL INTENSA 2025
B9: ='PANEL DE CONTROL DISTRITAL'!B8 -> Proceso | C9: ='PANEL DE CONTROL DISTRITAL'!C8 -> Dueño de Proceso | D9: ='PANEL DE CONTROL DISTRITAL'!D8 -> Indicador | E9: ='PANEL DE CONTROL DISTRITAL'!E8 -> Cálculo | F9: ='PANEL DE CONTROL DISTRITAL'!F8 -> Periodo | G9: ='PANEL DE CONTROL DISTRITAL'!G8 -> Estimado | H9: ='PANEL DE CONTROL DISTRITAL'!H8 -> Nominativo | I9: ='150151'!I9 -> 2025-41 | J9: ='150151'!J9 -> 2025-42 | K9: ='150151'!K9 -> 2025-43 | L9: ='150151'!L9 -> 2025-44 | M9: ='150151'!M9 -> 2025-45 | N9: ='150151'!N9 -> 2025-46 | O9: ='150151'!O9 -> 2025-47 | P9: ='150151'!P9 -> 2025-48 | ... Z9: ='150151'!Z9 -> 2025-58 | AA9: ='150151'!#REF! -> #REF!
A10: ='PANEL DE CONTROL DISTRITAL'!A9 -> 1 | B10: ='PANEL DE CONTROL DISTRITAL'!B9 -> ENTREVISTA | C10: ='PANEL DE CONTROL DISTRITAL'!C9 -> Auxiliar de Atención Ciudadana | D10: ='PANEL DE CONTROL DISTRITAL'!D9 -> Fichas requisitadas correctamente= | E10: ='PANEL DE CONTROL DISTRITAL'!E9 -> (Fichas requisitadas correctamente / Fichas revisadas en la muestra del 10%) x 100 | F10: ='PANEL DE CONTROL DISTRITAL'!F9 -> Semanal (remesa) | G10: ='PANEL DE CONTROL DISTRITAL'!G9 -> 0.9 | H10: ='PANEL DE CONTROL DISTRITAL'!H9 -> Fichas requistadas correctamente | I10: 102 | J10: 0 | K10: 75 | L10: 112 | M10: 100 | N10: 98 | O10: 97 | P10: 83 | Q10: 55 | AB10: =IFERROR(SUM(I10:AA10)/SUM(I11:AA11),0) -> 1
H11: ='PANEL DE CONTROL DISTRITAL'!H10 -> Fichas revisadas en la muestra del 10% | I11: 102 | J11: 0 | K11: 75 | L11: 112 | M11: 100 | N11: 98 | O11: 97 | P11: 83 | Q11: 55
A13: ='PANEL DE CONTROL DISTRITAL'!A12 -> 2 | B13: ='PANEL DE CONTROL DISTRITAL'!B12 -> TRÁMITE | C13: ='PANEL DE CONTROL DISTRITAL'!C12 -> Operador de Equipo Tecnológico | D13: ='PANEL DE CONTROL DISTRITAL'!D12 -> Trámites exitosos efectivos= | E13: ='PANEL DE CONTROL DISTRITAL'!E12 -> (Número de trámites exitosos / Número de trámites aplicados) x 100 | F13: ='PANEL DE CONTROL DISTRITAL'!F12 -> Semanal (remesa) | G13: ='PANEL DE CONTROL DISTRITAL'!G12 -> 0.9 | H13: ='PANEL DE CONTROL DISTRITAL'!H12 -> Número de trámites exitosos | I13: 1020 | J13: 0 | K13: 750 | L13: 1117 | M13: 1002 | N13: 981 | O13: 971 | P13: 834 | Q13: 549 | AB13: =IFERROR(SUM(I13:AA13)/SUM(I14:AA14),0) -> 0.99723909
H14: ='PANEL DE CONTROL DISTRITAL'!H13 -> Número de trámites aplicados | I14: 1020 | J14: 0 | K14: 753 | L14: 1120 | M14: 1007 | N14: 985 | O14: 973 | P14: 836 | Q14: 550
A16: ='PANEL DE CONTROL DISTRITAL'!A15 -> 3 | B16: ='PANEL DE CONTROL DISTRITAL'!B15 -> TRANSFERENCIA DE LA INFORMACIÓN | C16: ='PANEL DE CONTROL DISTRITAL'!C15 -> Responsable de Módulo | D16: ='PANEL DE CONTROL DISTRITAL'!D15 -> Reenvíos exitosos = | E16: ='PANEL DE CONTROL DISTRITAL'!E15 -> (Ejecución de los scripts de reenvío de notificaciones/Solicitud de reenvíos de scripts requeridos) x100 | F16: ='PANEL DE CONTROL DISTRITAL'!F15 -> Semanal (remesa) | G16: ='PANEL DE CONTROL DISTRITAL'!G15 -> 1 | H16: ='PANEL DE CONTROL DISTRITAL'!H15 -> Ejecución de los scripts de reenvío de notificaciones | I16: 0 | J16: 0 | K16: 0 | L16: 0 | M16: 0 | N16: 0 | O16: 1 | P16: 0 | Q16: 0 | AB16: =IFERROR(SUM(I16:AA16)/SUM(I17:AA17),1) -> 1
H17: ='PANEL DE CONTROL DISTRITAL'!H16 -> Solicitud de reevíos de scripts requeridos | I17: 0 | J17: 0 | K17: 0 | L17: 0 | M17: 0 | N17: 0 | O17: 1 | P17: 0 | Q17: 0
A19: ='PANEL DE CONTROL DISTRITAL'!A18 -> 4 | B19: ='PANEL DE CONTROL DISTRITAL'!B18 -> CONCILIACIÓN DE CREDENCIALES PARA VOTAR | C19: ='PANEL DE CONTROL DISTRITAL'!C18 -> Responsable de Módulo | D19: ='PANEL DE CONTROL DISTRITAL'!D18 -> Credenciales disponibles para entrega = | E19: ='PANEL DE CONTROL DISTRITAL'!E18 -> [(Credenciales recibidas - credenciales inconsistentes) / Credenciales recibidas] x 100 | F19: ='PANEL DE CONTROL DISTRITAL'!F18 -> Semanal (remesa) | G19: ='PANEL DE CONTROL DISTRITAL'!G18 -> 0.9 | H19: ='PANEL DE CONTROL DISTRITAL'!H18 -> Credenciales Recibidas - Credenciales inconsistentes | I19: 1200 | J19: 0 | K19: 704 | L19: 1126 | M19: 1034 | N19: 981 | O19: 995 | P19: 937 | Q19: 655 | AB19: =IFERROR(SUM(I19:AA19)/SUM(I20:AA20),0) -> 1
H20: ='PANEL DE CONTROL DISTRITAL'!H19 -> Credenciales recibidas | I20: 1200 | J20: 0 | K20: 704 | L20: 1126 | M20: 1034 | N20: 981 | O20: 995 | P20: 937 | Q20: 655
A22: ='PANEL DE CONTROL DISTRITAL'!A21 -> 5 | B22: ='PANEL DE CONTROL DISTRITAL'!B21 -> CONCILIACIÓN DE CREDENCIALES PARA VOTAR | C22: ='PANEL DE CONTROL DISTRITAL'!C21 -> Responsable de Módulo | D22: ='PANEL DE CONTROL DISTRITAL'!D21 -> Arqueo de Credenciales = | E22: ='PANEL DE CONTROL DISTRITAL'!E21 -> (Credenciales disponibles (físicas)/ Credenciales disponibles registradas en SIIRFE) x 100 | F22: ='PANEL DE CONTROL DISTRITAL'!F21 -> Semanal (remesa) | G22: ='PANEL DE CONTROL DISTRITAL'!G21 -> 1 | H22: ='PANEL DE CONTROL DISTRITAL'!H21 -> Credenciales disponibles (físicas) | I22: 1921 | J22: 0 | K22: 1469 | L22: 1756 | M22: 1726 | N22: 1723 | O22: 1715 | P22: 1620 | Q22: 1499 | AB22: =IFERROR(SUM(I22:AA22)/SUM(I23:AA23),0) -> 1
H23: ='PANEL DE CONTROL DISTRITAL'!H22 -> Credenciales disponibles registradas en SIIRFE | I23: 1921 | J23: 0 | K23: 1469 | L23: 1756 | M23: 1726 | N23: 1723 | O23: 1715 | P23: 1620 | Q23: 1499
A25: ='PANEL DE CONTROL DISTRITAL'!A24 -> 6 | B25: ='PANEL DE CONTROL DISTRITAL'!B24 -> ENTREGA DE LA CREDENCIAL PARA VOTAR | C25: ='PANEL DE CONTROL DISTRITAL'!C24 -> Operador de Equipo Tecnológico | D25: ='PANEL DE CONTROL DISTRITAL'!D24 -> Efectividad de entrega de CPV en MAC = | E25: ='PANEL DE CONTROL DISTRITAL'!E24 -> (Total de credenciales entregadas / Total de ciudadanas y ciudadanos que acuden al MAC a recoger su credencial) x 100 | F25: ='PANEL DE CONTROL DISTRITAL'!F24 -> Semanal (remesa) | G25: ='PANEL DE CONTROL DISTRITAL'!G24 -> 0.9 | H25: ='PANEL DE CONTROL DISTRITAL'!H24 -> Total de credenciales entregadas | I25: 1085 | J25: 0 | K25: 988 | L25: 842 | M25: 1054 | N25: 984 | O25: 1003 | P25: 1032 | Q25: 776 | AB25: =IFERROR(SUM(I25:AA25)/SUM(I26:AA26),0) -> 1
H26: ='PANEL DE CONTROL DISTRITAL'!H25 -> Total de ciudadanas y ciudadanos que acuden al MAC a recoger su credencial | I26: 1085 | J26: 0 | K26: 988 | L26: 842 | M26: 1054 | N26: 984 | O26: 1003 | P26: 1032 | Q26: 776
B27: *Registre el valor nominal solicitado en la celda, el resultado proporcional esta automatizado.
I29: Semaforización
J30: Valor que requiere atención y justificación en el apartado de observaciones
J31: Valor suficiente
J32: Valor esperado
B34: CUADRO DE OBSERVACIONES
B35: Descripción | H35: No conformidad

Sheet 151251
A1: ='PANEL DE CONTROL DISTRITAL'!A1:Q1 -> INSTITUTO NACIONAL ELECTORAL SISTEMA DE GESTIÓN DE LA CALIDAD ESTADO DE MÉXICO
D2: Distrito | E2: 12 | F2: Módulo | H2: 151251
A4: TABLERO DE CONTROL DE PROCESOS SUSTANTIVOS DEL SISTEMA DE GESTIÓN DE LA CALIDAD
A6: ='PANEL DE CONTROL DISTRITAL'!A6 -> Número | B6: ='PANEL DE CONTROL DISTRITAL'!B6 -> PROCESOS SUSTANTIVOS E INDICADORES | I6: SEMANA OPERATIVA | AB6: % AVANCE REGISTRADO
B7: ='PANEL DE CONTROL DISTRITAL'!B7 -> DESCRIPCIÓN | E7: ='PANEL DE CONTROL DISTRITAL'!E7 -> MEDICIÓN | I7: ='PANEL DE CONTROL DISTRITAL'!A5 -> CAMPAÑA ANUAL INTENSA 2025
B9: ='PANEL DE CONTROL DISTRITAL'!B8 -> Proceso | C9: ='PANEL DE CONTROL DISTRITAL'!C8 -> Dueño de Proceso | D9: ='PANEL DE CONTROL DISTRITAL'!D8 -> Indicador | E9: ='PANEL DE CONTROL DISTRITAL'!E8 -> Cálculo | F9: ='PANEL DE CONTROL DISTRITAL'!F8 -> Periodo | G9: ='PANEL DE CONTROL DISTRITAL'!G8 -> Estimado | H9: ='PANEL DE CONTROL DISTRITAL'!H8 -> Nominativo | I9: ='150151'!I9 -> 2025-41 | J9: ='150151'!J9 -> 2025-42 | K9: ='150151'!K9 -> 2025-43 | L9: ='150151'!L9 -> 2025-44 | M9: ='150151'!M9 -> 2025-45 | N9: ='150151'!N9 -> 2025-46 | O9: ='150151'!O9 -> 2025-47 | P9: ='150151'!P9 -> 2025-48 | ... Z9: ='150151'!Z9 -> 2025-58 | AA9: ='150151'!#REF! -> #REF!
A10: ='PANEL DE CONTROL DISTRITAL'!A9 -> 1 | B10: ='PANEL DE CONTROL DISTRITAL'!B9 -> ENTREVISTA | C10: ='PANEL DE CONTROL DISTRITAL'!C9 -> Auxiliar de Atención Ciudadana | D10: ='PANEL DE CONTROL DISTRITAL'!D9 -> Fichas requisitadas correctamente= | E10: ='PANEL DE CONTROL DISTRITAL'!E9 -> (Fichas requisitadas correctamente / Fichas revisadas en la muestra del 10%) x 100 | F10: ='PANEL DE CONTROL DISTRITAL'!F9 -> Semanal (remesa) | G10: ='PANEL DE CONTROL DISTRITAL'!G9 -> 0.9 | H10: ='PANEL DE CONTROL DISTRITAL'!H9 -> Fichas requistadas correctamente | I10: 109 | J10: 112 | K10: 70 | L10: 108 | M10: 104 | N10: 106 | O10: 108 | P10: 116 | Q10: 100 | AB10: =IFERROR(SUM(I10:AA10)/SUM(I11:AA11),0) -> 1
H11: ='PANEL DE CONTROL DISTRITAL'!H10 -> Fichas revisadas en la muestra del 10% | I11: 109 | J11: 112 | K11: 70 | L11: 108 | M11: 104 | N11: 106 | O11: 108 | P11: 116 | Q11: 100
A13: ='PANEL DE CONTROL DISTRITAL'!A12 -> 2 | B13: ='PANEL DE CONTROL DISTRITAL'!B12 -> TRÁMITE | C13: ='PANEL DE CONTROL DISTRITAL'!C12 -> Operador de Equipo Tecnológico | D13: ='PANEL DE CONTROL DISTRITAL'!D12 -> Trámites exitosos efectivos= | E13: ='PANEL DE CONTROL DISTRITAL'!E12 -> (Número de trámites exitosos / Número de trámites aplicados) x 100 | F13: ='PANEL DE CONTROL DISTRITAL'!F12 -> Semanal (remesa) | G13: ='PANEL DE CONTROL DISTRITAL'!G12 -> 0.9 | H13: ='PANEL DE CONTROL DISTRITAL'!H12 -> Número de trámites exitosos | I13: 1076 | J13: 1115 | K13: 699 | L13: 1076 | M13: 1032 | N13: 1056 | O13: 1079 | P13: 1160 | Q13: 994 | AB13: =IFERROR(SUM(I13:AA13)/SUM(I14:AA14),0) -> 0.99539121
H14: ='PANEL DE CONTROL DISTRITAL'!H13 -> Número de trámites aplicados | I14: 1083 | J14: 1121 | K14: 703 | L14: 1079 | M14: 1039 | N14: 1061 | O14: 1083 | P14: 1162 | Q14: 999
A16: ='PANEL DE CONTROL DISTRITAL'!A15 -> 3 | B16: ='PANEL DE CONTROL DISTRITAL'!B15 -> TRANSFERENCIA DE LA INFORMACIÓN | C16: ='PANEL DE CONTROL DISTRITAL'!C15 -> Responsable de Módulo | D16: ='PANEL DE CONTROL DISTRITAL'!D15 -> Reenvíos exitosos = | E16: ='PANEL DE CONTROL DISTRITAL'!E15 -> (Ejecución de los scripts de reenvío de notificaciones/Solicitud de reenvíos de scripts requeridos) x100 | F16: ='PANEL DE CONTROL DISTRITAL'!F15 -> Semanal (remesa) | G16: ='PANEL DE CONTROL DISTRITAL'!G15 -> 1 | H16: ='PANEL DE CONTROL DISTRITAL'!H15 -> Ejecución de los scripts de reenvío de notificaciones | I16: 0 | J16: 0 | K16: 0 | L16: 0 | M16: 0 | N16: 0 | O16: 0 | P16: 0 | Q16: 0 | AB16: =IFERROR(SUM(I16:AA16)/SUM(I17:AA17),1) -> 1
H17: ='PANEL DE CONTROL DISTRITAL'!H16 -> Solicitud de reevíos de scripts requeridos | I17: 0 | J17: 0 | K17: 0 | L17: 0 | M17: 0 | N17: 0 | O17: 0 | P17: 0 | Q17: 0
A19: ='PANEL DE CONTROL DISTRITAL'!A18 -> 4 | B19: ='PANEL DE CONTROL DISTRITAL'!B18 -> CONCILIACIÓN DE CREDENCIALES PARA VOTAR | C19: ='PANEL DE CONTROL DISTRITAL'!C18 -> Responsable de Módulo | D19: ='PANEL DE CONTROL DISTRITAL'!D18 -> Credenciales disponibles para entrega = | E19: ='PANEL DE CONTROL DISTRITAL'!E18 -> [(Credenciales recibidas - credenciales inconsistentes) / Credenciales recibidas] x 100 | F19: ='PANEL DE CONTROL DISTRITAL'!F18 -> Semanal (remesa) | G19: ='PANEL DE CONTROL DISTRITAL'!G18 -> 0.9 | H19: ='PANEL DE CONTROL DISTRITAL'!H18 -> Credenciales Recibidas - Credenciales inconsistentes | I19: 1384 | J19: 1144 | K19: 725 | L19: 1062 | M19: 1060 | N19: 1017 | O19: 1073 | P19: 1136 | Q19: 1129 | AB19: =IFERROR(SUM(I19:AA19)/SUM(I20:AA20),0) -> 1
H20: ='PANEL DE CONTROL DISTRITAL'!H19 -> Credenciales recibidas | I20: 1384 | J20: 1144 | K20: 725 | L20: 1062 | M20: 1060 | N20: 1017 | O20: 1073 | P20: 1136 | Q20: 1129
A22: ='PANEL DE CONTROL DISTRITAL'!A21 -> 5 | B22: ='PANEL DE CONTROL DISTRITAL'!B21 -> CONCILIACIÓN DE CREDENCIALES PARA VOTAR | C22: ='PANEL DE CONTROL DISTRITAL'!C21 -> Responsable de Módulo | D22: ='PANEL DE CONTROL DISTRITAL'!D21 -> Arqueo de Credenciales = | E22: ='PANEL DE CONTROL DISTRITAL'!E21 -> (Credenciales disponibles (físicas)/ Credenciales disponibles registradas en SIIRFE) x 100 | F22: ='PANEL DE CONTROL DISTRITAL'!F21 -> Semanal (remesa) | G22: ='PANEL DE CONTROL DISTRITAL'!G21 -> 1 | H22: ='PANEL DE CONTROL DISTRITAL'!H21 -> Credenciales disponibles (físicas) | I22: 2071 | J22: 2059 | K22: 1719 | L22: 1872 | M22: 1909 | N22: 1935 | O22: 1982 | P22: 2022 | Q22: 2132 | AB22: =IFERROR(SUM(I22:AA22)/SUM(I23:AA23),0) -> 1
H23: ='PANEL DE CONTROL DISTRITAL'!H22 -> Credenciales disponibles registradas en SIIRFE | I23: 2071 | J23: 2059 | K23: 1719 | L23: 1872 | M23: 1909 | N23: 1935 | O23: 1982 | P23: 2022 | Q23: 2132
A25: ='PANEL DE CONTROL DISTRITAL'!A24 -> 6 | B25: ='PANEL DE CONTROL DISTRITAL'!B24 -> ENTREGA DE LA CREDENCIAL PARA VOTAR | C25: ='PANEL DE CONTROL DISTRITAL'!C24 -> Operador de Equipo Tecnológico | D25: ='PANEL DE CONTROL DISTRITAL'!D24 -> Efectividad de entrega de CPV en MAC = | E25: ='PANEL DE CONTROL DISTRITAL'!E24 -> (Total de credenciales entregadas / Total de ciudadanas y ciudadanos que acuden al MAC a recoger su credencial) x 100 | F25: ='PANEL DE CONTROL DISTRITAL'!F24 -> Semanal (remesa) | G25: ='PANEL DE CONTROL DISTRITAL'!G24 -> 0.9 | H25: ='PANEL DE CONTROL DISTRITAL'!H24 -> Total de credenciales entregadas | I25: 1174 | J25: 1156 | K25: 1065 | L25: 897 | M25: 1023 | N25: 991 | O25: 1026 | P25: 1096 | Q25: 1019 | AB25: =IFERROR(SUM(I25:AA25)/SUM(I26:AA26),0) -> 1
H26: ='PANEL DE CONTROL DISTRITAL'!H25 -> Total de ciudadanas y ciudadanos que acuden al MAC a recoger su credencial | I26: 1174 | J26: 1156 | K26: 1065 | L26: 897 | M26: 1023 | N26: 991 | O26: 1026 | P26: 1096 | Q26: 1019
B27: *Registre el valor nominal solicitado en la celda, el resultado proporcional esta automatizado.
I29: Semaforización
J30: Valor que requiere atención y justificación en el apartado de observaciones
J31: Valor suficiente
J32: Valor esperado
B34: CUADRO DE OBSERVACIONES
B35: Descripción | H35: No conformidad

Sheet 151253
A1: ='PANEL DE CONTROL DISTRITAL'!A1:Q1 -> INSTITUTO NACIONAL ELECTORAL SISTEMA DE GESTIÓN DE LA CALIDAD ESTADO DE MÉXICO
D2: Distrito | E2: 12 | F2: Módulo | H2: 151253
A4: TABLERO DE CONTROL DE PROCESOS SUSTANTIVOS DEL SISTEMA DE GESTIÓN DE LA CALIDAD
A6: ='PANEL DE CONTROL DISTRITAL'!A6 -> Número | B6: ='PANEL DE CONTROL DISTRITAL'!B6 -> PROCESOS SUSTANTIVOS E INDICADORES | I6: SEMANA OPERATIVA | AB6: % AVANCE REGISTRADO
B7: ='PANEL DE CONTROL DISTRITAL'!B7 -> DESCRIPCIÓN | E7: ='PANEL DE CONTROL DISTRITAL'!E7 -> MEDICIÓN | I7: ='PANEL DE CONTROL DISTRITAL'!A5 -> CAMPAÑA ANUAL INTENSA 2025
B9: ='PANEL DE CONTROL DISTRITAL'!B8 -> Proceso | C9: ='PANEL DE CONTROL DISTRITAL'!C8 -> Dueño de Proceso | D9: ='PANEL DE CONTROL DISTRITAL'!D8 -> Indicador | E9: ='PANEL DE CONTROL DISTRITAL'!E8 -> Cálculo | F9: ='PANEL DE CONTROL DISTRITAL'!F8 -> Periodo | G9: ='PANEL DE CONTROL DISTRITAL'!G8 -> Estimado | H9: ='PANEL DE CONTROL DISTRITAL'!H8 -> Nominativo | I9: ='150151'!I9 -> 2025-41 | J9: ='150151'!J9 -> 2025-42 | K9: ='150151'!K9 -> 2025-43 | L9: ='150151'!L9 -> 2025-44 | M9: ='150151'!M9 -> 2025-45 | N9: ='150151'!N9 -> 2025-46 | O9: ='150151'!O9 -> 2025-47 | P9: j6b | Q9: ='150151'!Q9 -> 2025-49 | R9: ='150151'!R9 -> 2025-50 | S9: ='150151'!S9 -> 2025-51 | T9: ='150151'!T9 -> 2025-52 | U9: ='150151'!U9 -> 2025-53 | V9: ='150151'!V9 -> 2025-54 | W9: ='150151'!W9 -> 2025-55 | X9: ='150151'!X9 -> 2025-56 | ... Z9: ='150151'!Z9 -> 2025-58 | AA9: ='150151'!#REF! -> #REF!
A10: ='PANEL DE CONTROL DISTRITAL'!A9 -> 1 | B10: ='PANEL DE CONTROL DISTRITAL'!B9 -> ENTREVISTA | C10: ='PANEL DE CONTROL DISTRITAL'!C9 -> Auxiliar de Atención Ciudadana | D10: ='PANEL DE CONTROL DISTRITAL'!D9 -> Fichas requisitadas correctamente= | E10: ='PANEL DE CONTROL DISTRITAL'!E9 -> (Fichas requisitadas correctamente / Fichas revisadas en la muestra del 10%) x 100 | F10: ='PANEL DE CONTROL DISTRITAL'!F9 -> Semanal (remesa) | G10: ='PANEL DE CONTROL DISTRITAL'!G9 -> 0.9 | H10: ='PANEL DE CONTROL DISTRITAL'!H9 -> Fichas requistadas correctamente | I10: 43 | J10: 44 | K10: 33 | L10: 49 | M10: 40 | N10: 41 | O10: 48 | P10: 36 | Q10: 25 | AB10: =IFERROR(SUM(I10:AA10)/SUM(I11:AA11),0) -> 1
H11: ='PANEL DE CONTROL DISTRITAL'!H10 -> Fichas revisadas en la muestra del 10% | I11: 43 | J11: 44 | K11: 33 | L11: 49 | M11: 40 | N11: 41 | O11: 48 | P11: 36 | Q11: 25
A13: ='PANEL DE CONTROL DISTRITAL'!A12 -> 2 | B13: ='PANEL DE CONTROL DISTRITAL'!B12 -> TRÁMITE | C13: ='PANEL DE CONTROL DISTRITAL'!C12 -> Operador de Equipo Tecnológico | D13: ='PANEL DE CONTROL DISTRITAL'!D12 -> Trámites exitosos efectivos= | E13: ='PANEL DE CONTROL DISTRITAL'!E12 -> (Número de trámites exitosos / Número de trámites aplicados) x 100 | F13: ='PANEL DE CONTROL DISTRITAL'!F12 -> Semanal (remesa) | G13: ='PANEL DE CONTROL DISTRITAL'!G12 -> 0.9 | H13: ='PANEL DE CONTROL DISTRITAL'!H12 -> Número de trámites exitosos | I13: 458 | J13: 440 | K13: 324 | L13: 488 | M13: 399 | N13: 448 | O13: 472 | P13: 356 | Q13: 252 | AB13: =IFERROR(SUM(I13:AA13)/SUM(I14:AA14),0) -> 0.99317313
H14: ='PANEL DE CONTROL DISTRITAL'!H13 -> Número de trámites aplicados | I14: 463 | J14: 443 | K14: 327 | L14: 490 | M14: 403 | N14: 450 | O14: 478 | P14: 356 | Q14: 252
A16: ='PANEL DE CONTROL DISTRITAL'!A15 -> 3 | B16: ='PANEL DE CONTROL DISTRITAL'!B15 -> TRANSFERENCIA DE LA INFORMACIÓN | C16: ='PANEL DE CONTROL DISTRITAL'!C15 -> Responsable de Módulo | D16: ='PANEL DE CONTROL DISTRITAL'!D15 -> Reenvíos exitosos = | E16: ='PANEL DE CONTROL DISTRITAL'!E15 -> (Ejecución de los scripts de reenvío de notificaciones/Solicitud de reenvíos de scripts requeridos) x100 | F16: ='PANEL DE CONTROL DISTRITAL'!F15 -> Semanal (remesa) | G16: ='PANEL DE CONTROL DISTRITAL'!G15 -> 1 | H16: ='PANEL DE CONTROL DISTRITAL'!H15 -> Ejecución de los scripts de reenvío de notificaciones | I16: 0 | J16: 0 | K16: 0 | L16: 0 | M16: 0 | N16: 0 | O16: 0 | P16: 0 | Q16: 0 | AB16: =IFERROR(SUM(I16:AA16)/SUM(I17:AA17),1) -> 1
H17: ='PANEL DE CONTROL DISTRITAL'!H16 -> Solicitud de reevíos de scripts requeridos | I17: 0 | J17: 0 | K17: 0 | L17: 0 | M17: 0 | N17: 0 | O17: 0 | P17: 0 | Q17: 0
A19: ='PANEL DE CONTROL DISTRITAL'!A18 -> 4 | B19: ='PANEL DE CONTROL DISTRITAL'!B18 -> CONCILIACIÓN DE CREDENCIALES PARA VOTAR | C19: ='PANEL DE CONTROL DISTRITAL'!C18 -> Responsable de Módulo | D19: ='PANEL DE CONTROL DISTRITAL'!D18 -> Credenciales disponibles para entrega = | E19: ='PANEL DE CONTROL DISTRITAL'!E18 -> [(Credenciales recibidas - credenciales inconsistentes) / Credenciales recibidas] x 100 | F19: ='PANEL DE CONTROL DISTRITAL'!F18 -> Semanal (remesa) | G19: ='PANEL DE CONTROL DISTRITAL'!G18 -> 0.9 | H19: ='PANEL DE CONTROL DISTRITAL'!H18 -> Credenciales Recibidas - Credenciales inconsistentes | I19: 582 | J19: 446 | K19: 318 | L19: 472 | M19: 461 | N19: 415 | O19: 462 | P19: 374 | Q19: 209 | AB19: =IFERROR(SUM(I19:AA19)/SUM(I20:AA20),0) -> 1
H20: ='PANEL DE CONTROL DISTRITAL'!H19 -> Credenciales recibidas | I20: 582 | J20: 446 | K20: 318 | L20: 472 | M20: 461 | N20: 415 | O20: 462 | P20: 374 | Q20: 209
A22: ='PANEL DE CONTROL DISTRITAL'!A21 -> 5 | B22: ='PANEL DE CONTROL DISTRITAL'!B21 -> CONCILIACIÓN DE CREDENCIALES PARA VOTAR | C22: ='PANEL DE CONTROL DISTRITAL'!C21 -> Responsable de Módulo | D22: ='PANEL DE CONTROL DISTRITAL'!D21 -> Arqueo de Credenciales = | E22: ='PANEL DE CONTROL DISTRITAL'!E21 -> (Credenciales disponibles (físicas)/ Credenciales disponibles registradas en SIIRFE) x 100 | F22: ='PANEL DE CONTROL DISTRITAL'!F21 -> Semanal (remesa) | G22: ='PANEL DE CONTROL DISTRITAL'!G21 -> 1 | H22: ='PANEL DE CONTROL DISTRITAL'!H21 -> Credenciales disponibles (físicas) | I22: 747 | J22: 732 | K22: 642 | L22: 740 | M22: 812 | N22: 777 | O22: 781 | P22: 725 | Q22: 501 | AB22: =IFERROR(SUM(I22:AA22)/SUM(I23:AA23),0) -> 1
H23: ='PANEL DE CONTROL DISTRITAL'!H22 -> Credenciales disponibles registradas en SIIRFE | I23: 747 | J23: 732 | K23: 642 | L23: 740 | M23: 812 | N23: 777 | O23: 781 | P23: 725 | Q23: 501
A25: ='PANEL DE CONTROL DISTRITAL'!A24 -> 6 | B25: ='PANEL DE CONTROL DISTRITAL'!B24 -> ENTREGA DE LA CREDENCIAL PARA VOTAR | C25: ='PANEL DE CONTROL DISTRITAL'!C24 -> Operador de Equipo Tecnológico | D25: ='PANEL DE CONTROL DISTRITAL'!D24 -> Efectividad de entrega de CPV en MAC = | E25: ='PANEL DE CONTROL DISTRITAL'!E24 -> (Total de credenciales entregadas / Total de ciudadanas y ciudadanos que acuden al MAC a recoger su credencial) x 100 | F25: ='PANEL DE CONTROL DISTRITAL'!F24 -> Semanal (remesa) | G25: ='PANEL DE CONTROL DISTRITAL'!G24 -> 0.9 | H25: ='PANEL DE CONTROL DISTRITAL'!H24 -> Total de credenciales entregadas | I25: 409 | J25: 461 | K25: 408 | L25: 369 | M25: 389 | N25: 450 | O25: 458 | P25: 430 | Q25: 359 | AB25: =IFERROR(SUM(I25:AA25)/SUM(I26:AA26),0) -> 1
H26: ='PANEL DE CONTROL DISTRITAL'!H25 -> Total de ciudadanas y ciudadanos que acuden al MAC a recoger su credencial | I26: 409 | J26: 461 | K26: 408 | L26: 369 | M26: 389 | N26: 450 | O26: 458 | P26: 430 | Q26: 359
B27: *Registre el valor nominal solicitado en la celda, el resultado proporcional esta automatizado.
I29: Semaforización
J30: Valor que requiere atención y justificación en el apartado de observaciones
J31: Valor suficiente
J32: Valor esperado
B34: CUADRO DE OBSERVACIONES
B35: Descripción | H35: No conformidad

Sheet 151351
A1: ='PANEL DE CONTROL DISTRITAL'!A1:Q1 -> INSTITUTO NACIONAL ELECTORAL SISTEMA DE GESTIÓN DE LA CALIDAD ESTADO DE MÉXICO
D2: Distrito | E2: 13 | F2: Módulo | H2: 151351
A4: TABLERO DE CONTROL DE PROCESOS SUSTANTIVOS DEL SISTEMA DE GESTIÓN DE LA CALIDAD
A6: ='PANEL DE CONTROL DISTRITAL'!A6 -> Número | B6: ='PANEL DE CONTROL DISTRITAL'!B6 -> PROCESOS SUSTANTIVOS E INDICADORES | I6: SEMANA OPERATIVA | AB6: % AVANCE REGISTRADO
B7: ='PANEL DE CONTROL DISTRITAL'!B7 -> DESCRIPCIÓN | E7: ='PANEL DE CONTROL DISTRITAL'!E7 -> MEDICIÓN | I7: ='PANEL DE CONTROL DISTRITAL'!A5 -> CAMPAÑA ANUAL INTENSA 2025
B9: ='PANEL DE CONTROL DISTRITAL'!B8 -> Proceso | C9: ='PANEL DE CONTROL DISTRITAL'!C8 -> Dueño de Proceso | D9: ='PANEL DE CONTROL DISTRITAL'!D8 -> Indicador | E9: ='PANEL DE CONTROL DISTRITAL'!E8 -> Cálculo | F9: ='PANEL DE CONTROL DISTRITAL'!F8 -> Periodo | G9: ='PANEL DE CONTROL DISTRITAL'!G8 -> Estimado | H9: ='PANEL DE CONTROL DISTRITAL'!H8 -> Nominativo | I9: ='150151'!I9 -> 2025-41 | J9: ='150151'!J9 -> 2025-42 | K9: ='150151'!K9 -> 2025-43 | L9: ='150151'!L9 -> 2025-44 | M9: ='150151'!M9 -> 2025-45 | N9: ='150151'!N9 -> 2025-46 | O9: ='150151'!O9 -> 2025-47 | P9: ='150151'!P9 -> 2025-48 | ... Z9: ='150151'!Z9 -> 2025-58 | AA9: ='150151'!#REF! -> #REF!
A10: ='PANEL DE CONTROL DISTRITAL'!A9 -> 1 | B10: ='PANEL DE CONTROL DISTRITAL'!B9 -> ENTREVISTA | C10: ='PANEL DE CONTROL DISTRITAL'!C9 -> Auxiliar de Atención Ciudadana | D10: ='PANEL DE CONTROL DISTRITAL'!D9 -> Fichas requisitadas correctamente= | E10: ='PANEL DE CONTROL DISTRITAL'!E9 -> (Fichas requisitadas correctamente / Fichas revisadas en la muestra del 10%) x 100 | F10: ='PANEL DE CONTROL DISTRITAL'!F9 -> Semanal (remesa) | G10: ='PANEL DE CONTROL DISTRITAL'!G9 -> 0.9 | H10: ='PANEL DE CONTROL DISTRITAL'!H9 -> Fichas requistadas correctamente | I10: 83 | J10: 90 | K10: 72 | L10: 90 | M10: 90 | N10: 95 | O10: 94 | P10: 84 | Q10: 51 | AB10: =IFERROR(SUM(I10:AA10)/SUM(I11:AA11),0) -> 1
H11: ='PANEL DE CONTROL DISTRITAL'!H10 -> Fichas revisadas en la muestra del 10% | I11: 83 | J11: 90 | K11: 72 | L11: 90 | M11: 90 | N11: 95 | O11: 94 | P11: 84 | Q11: 51
A13: ='PANEL DE CONTROL DISTRITAL'!A12 -> 2 | B13: ='PANEL DE CONTROL DISTRITAL'!B12 -> TRÁMITE | C13: ='PANEL DE CONTROL DISTRITAL'!C12 -> Operador de Equipo Tecnológico | D13: ='PANEL DE CONTROL DISTRITAL'!D12 -> Trámites exitosos efectivos= | E13: ='PANEL DE CONTROL DISTRITAL'!E12 -> (Número de trámites exitosos / Número de trámites aplicados) x 100 | F13: ='PANEL DE CONTROL DISTRITAL'!F12 -> Semanal (remesa) | G13: ='PANEL DE CONTROL DISTRITAL'!G12 -> 0.9 | H13: ='PANEL DE CONTROL DISTRITAL'!H12 -> Número de trámites exitosos | I13: 825 | J13: 894 | K13: 710 | L13: 884 | M13: 896 | N13: 944 | O13: 934 | P13: 833 | Q13: 506 | AB13: =IFERROR(SUM(I13:AA13)/SUM(I14:AA14),0) -> 0.99291349
H14: ='PANEL DE CONTROL DISTRITAL'!H13 -> Número de trámites aplicados | I14: 832 | J14: 897 | K14: 714 | L14: 901 | M14: 900 | N14: 952 | O14: 936 | P14: 836 | Q14: 511
A16: ='PANEL DE CONTROL DISTRITAL'!A15 -> 3 | B16: ='PANEL DE CONTROL DISTRITAL'!B15 -> TRANSFERENCIA DE LA INFORMACIÓN | C16: ='PANEL DE CONTROL DISTRITAL'!C15 -> Responsable de Módulo | D16: ='PANEL DE CONTROL DISTRITAL'!D15 -> Reenvíos exitosos = | E16: ='PANEL DE CONTROL DISTRITAL'!E15 -> (Ejecución de los scripts de reenvío de notificaciones/Solicitud de reenvíos de scripts requeridos) x100 | F16: ='PANEL DE CONTROL DISTRITAL'!F15 -> Semanal (remesa) | G16: ='PANEL DE CONTROL DISTRITAL'!G15 -> 1 | H16: ='PANEL DE CONTROL DISTRITAL'!H15 -> Ejecución de los scripts de reenvío de notificaciones | I16: 0 | J16: 0 | K16: 0 | L16: 0 | M16: 1 | N16: 0 | O16: 0 | P16: 0 | Q16: 0 | AB16: =IFERROR(SUM(I16:AA16)/SUM(I17:AA17),1) -> 1
H17: ='PANEL DE CONTROL DISTRITAL'!H16 -> Solicitud de reevíos de scripts requeridos | I17: 0 | J17: 0 | K17: 0 | L17: 0 | M17: 1 | N17: 0 | O17: 0 | P17: 0 | Q17: 0
A19: ='PANEL DE CONTROL DISTRITAL'!A18 -> 4 | B19: ='PANEL DE CONTROL DISTRITAL'!B18 -> CONCILIACIÓN DE CREDENCIALES PARA VOTAR | C19: ='PANEL DE CONTROL DISTRITAL'!C18 -> Responsable de Módulo | D19: ='PANEL DE CONTROL DISTRITAL'!D18 -> Credenciales disponibles para entrega = | E19: ='PANEL DE CONTROL DISTRITAL'!E18 -> [(Credenciales recibidas - credenciales inconsistentes) / Credenciales recibidas] x 100 | F19: ='PANEL DE CONTROL DISTRITAL'!F18 -> Semanal (remesa) | G19: ='PANEL DE CONTROL DISTRITAL'!G18 -> 0.9 | H19: ='PANEL DE CONTROL DISTRITAL'!H18 -> Credenciales Recibidas - Credenciales inconsistentes | I19: 889 | J19: 821 | K19: 717 | L19: 1101 | M19: 843 | N19: 825 | O19: 907 | P19: 1043 | Q19: 609 | AB19: =IFERROR(SUM(I19:AA19)/SUM(I20:AA20),0) -> 1
H20: ='PANEL DE CONTROL DISTRITAL'!H19 -> Credenciales recibidas | I20: 889 | J20: 821 | K20: 717 | L20: 1101 | M20: 843 | N20: 825 | O20: 907 | P20: 1043 | Q20: 609
A22: ='PANEL DE CONTROL DISTRITAL'!A21 -> 5 | B22: ='PANEL DE CONTROL DISTRITAL'!B21 -> CONCILIACIÓN DE CREDENCIALES PARA VOTAR | C22: ='PANEL DE CONTROL DISTRITAL'!C21 -> Responsable de Módulo | D22: ='PANEL DE CONTROL DISTRITAL'!D21 -> Arqueo de Credenciales = | E22: ='PANEL DE CONTROL DISTRITAL'!E21 -> (Credenciales disponibles (físicas)/ Credenciales disponibles registradas en SIIRFE) x 100 | F22: ='PANEL DE CONTROL DISTRITAL'!F21 -> Semanal (remesa) | G22: ='PANEL DE CONTROL DISTRITAL'!G21 -> 1 | H22: ='PANEL DE CONTROL DISTRITAL'!H21 -> Credenciales disponibles (físicas) | I22: 1596 | J22: 1509 | K22: 1424 | L22: 1736 | M22: 1706 | N22: 1672 | O22: 1648 | P22: 1758 | Q22: 1515 | AB22: =IFERROR(SUM(I22:AA22)/SUM(I23:AA23),0) -> 0.99972543
H23: ='PANEL DE CONTROL DISTRITAL'!H22 -> Credenciales disponibles registradas en SIIRFE | I23: 1598 | J23: 1511 | K23: 1424 | L23: 1736 | M23: 1706 | N23: 1672 | O23: 1648 | P23: 1758 | Q23: 1515
A25: ='PANEL DE CONTROL DISTRITAL'!A24 -> 6 | B25: ='PANEL DE CONTROL DISTRITAL'!B24 -> ENTREGA DE LA CREDENCIAL PARA VOTAR | C25: ='PANEL DE CONTROL DISTRITAL'!C24 -> Operador de Equipo Tecnológico | D25: ='PANEL DE CONTROL DISTRITAL'!D24 -> Efectividad de entrega de CPV en MAC = | E25: ='PANEL DE CONTROL DISTRITAL'!E24 -> (Total de credenciales entregadas / Total de ciudadanas y ciudadanos que acuden al MAC a recoger su credencial) x 100 | F25: ='PANEL DE CONTROL DISTRITAL'!F24 -> Semanal (remesa) | G25: ='PANEL DE CONTROL DISTRITAL'!G24 -> 0.9 | H25: ='PANEL DE CONTROL DISTRITAL'!H24 -> Total de credenciales entregadas | I25: 911 | J25: 908 | K25: 804 | L25: 776 | M25: 873 | N25: 859 | O25: 931 | P25: 933 | Q25: 852 | AB25: =IFERROR(SUM(I25:AA25)/SUM(I26:AA26),0) -> 0.99949051
H26: ='PANEL DE CONTROL DISTRITAL'!H25 -> Total de ciudadanas y ciudadanos que acuden al MAC a recoger su credencial | I26: 911 | J26: 908 | K26: 805 | L26: 776 | M26: 874 | N26: 859 | O26: 931 | P26: 934 | Q26: 853
B27: *Registre el valor nominal solicitado en la celda, el resultado proporcional esta automatizado.
I29: Semaforización
J30: Valor que requiere atención y justificación en el apartado de observaciones
J31: Valor suficiente
J32: Valor esperado
B34: CUADRO DE OBSERVACIONES
B35: Descripción | H35: No conformidad

Sheet 151452
A1: ='PANEL DE CONTROL DISTRITAL'!A1:Q1 -> INSTITUTO NACIONAL ELECTORAL SISTEMA DE GESTIÓN DE LA CALIDAD ESTADO DE MÉXICO
D2: Distrito | E2: 14 | F2: Módulo | H2: 151452
A4: TABLERO DE CONTROL DE PROCESOS SUSTANTIVOS DEL SISTEMA DE GESTIÓN DE LA CALIDAD
A6: ='PANEL DE CONTROL DISTRITAL'!A6 -> Número | B6: ='PANEL DE CONTROL DISTRITAL'!B6 -> PROCESOS SUSTANTIVOS E INDICADORES | I6: SEMANA OPERATIVA | AB6: % AVANCE REGISTRADO
B7: ='PANEL DE CONTROL DISTRITAL'!B7 -> DESCRIPCIÓN | E7: ='PANEL DE CONTROL DISTRITAL'!E7 -> MEDICIÓN | I7: ='PANEL DE CONTROL DISTRITAL'!A5 -> CAMPAÑA ANUAL INTENSA 2025
B9: ='PANEL DE CONTROL DISTRITAL'!B8 -> Proceso | C9: ='PANEL DE CONTROL DISTRITAL'!C8 -> Dueño de Proceso | D9: ='PANEL DE CONTROL DISTRITAL'!D8 -> Indicador | E9: ='PANEL DE CONTROL DISTRITAL'!E8 -> Cálculo | F9: ='PANEL DE CONTROL DISTRITAL'!F8 -> Periodo | G9: ='PANEL DE CONTROL DISTRITAL'!G8 -> Estimado | H9: ='PANEL DE CONTROL DISTRITAL'!H8 -> Nominativo | I9: ='150151'!I9 -> 2025-41 | J9: ='150151'!J9 -> 2025-42 | K9: ='150151'!K9 -> 2025-43 | L9: ='150151'!L9 -> 2025-44 | M9: ='150151'!M9 -> 2025-45 | N9: ='150151'!N9 -> 2025-46 | O9: ='150151'!O9 -> 2025-47 | P9: ='150151'!P9 -> 2025-48 | ... Z9: ='150151'!Z9 -> 2025-58 | AA9: ='150151'!#REF! -> #REF!
A10: ='PANEL DE CONTROL DISTRITAL'!A9 -> 1 | B10: ='PANEL DE CONTROL DISTRITAL'!B9 -> ENTREVISTA | C10: ='PANEL DE CONTROL DISTRITAL'!C9 -> Auxiliar de Atención Ciudadana | D10: ='PANEL DE CONTROL DISTRITAL'!D9 -> Fichas requisitadas correctamente= | E10: ='PANEL DE CONTROL DISTRITAL'!E9 -> (Fichas requisitadas correctamente / Fichas revisadas en la muestra del 10%) x 100 | F10: ='PANEL DE CONTROL DISTRITAL'!F9 -> Semanal (remesa) | G10: ='PANEL DE CONTROL DISTRITAL'!G9 -> 0.9 | H10: ='PANEL DE CONTROL DISTRITAL'!H9 -> Fichas requistadas correctamente | I10: 54 | J10: 47 | K10: 34 | L10: 45 | M10: 45 | N10: 38 | O10: 45 | P10: 37 | Q10: 26 | AB10: =IFERROR(SUM(I10:AA10)/SUM(I11:AA11),0) -> 1
H11: ='PANEL DE CONTROL DISTRITAL'!H10 -> Fichas revisadas en la muestra del 10% | I11: 54 | J11: 47 | K11: 34 | L11: 45 | M11: 45 | N11: 38 | O11: 45 | P11: 37 | Q11: 26
A13: ='PANEL DE CONTROL DISTRITAL'!A12 -> 2 | B13: ='PANEL DE CONTROL DISTRITAL'!B12 -> TRÁMITE | C13: ='PANEL DE CONTROL DISTRITAL'!C12 -> Operador de Equipo Tecnológico | D13: ='PANEL DE CONTROL DISTRITAL'!D12 -> Trámites exitosos efectivos= | E13: ='PANEL DE CONTROL DISTRITAL'!E12 -> (Número de trámites exitosos / Número de trámites aplicados) x 100 | F13: ='PANEL DE CONTROL DISTRITAL'!F12 -> Semanal (remesa) | G13: ='PANEL DE CONTROL DISTRITAL'!G12 -> 0.9 | H13: ='PANEL DE CONTROL DISTRITAL'!H12 -> Número de trámites exitosos | I13: 536 | J13: 473 | K13: 334 | L13: 456 | M13: 450 | N13: 387 | O13: 436 | P13: 372 | Q13: 252 | AB13: =IFERROR(SUM(I13:AA13)/SUM(I14:AA14),0) -> 0.99354839
H14: ='PANEL DE CONTROL DISTRITAL'!H13 -> Número de trámites aplicados | I14: 542 | J14: 476 | K14: 336 | L14: 458 | M14: 451 | N14: 389 | O14: 441 | P14: 374 | Q14: 253
A16: ='PANEL DE CONTROL DISTRITAL'!A15 -> 3 | B16: ='PANEL DE CONTROL DISTRITAL'!B15 -> TRANSFERENCIA DE LA INFORMACIÓN | C16: ='PANEL DE CONTROL DISTRITAL'!C15 -> Responsable de Módulo | D16: ='PANEL DE CONTROL DISTRITAL'!D15 -> Reenvíos exitosos = | E16: ='PANEL DE CONTROL DISTRITAL'!E15 -> (Ejecución de los scripts de reenvío de notificaciones/Solicitud de reenvíos de scripts requeridos) x100 | F16: ='PANEL DE CONTROL DISTRITAL'!F15 -> Semanal (remesa) | G16: ='PANEL DE CONTROL DISTRITAL'!G15 -> 1 | H16: ='PANEL DE CONTROL DISTRITAL'!H15 -> Ejecución de los scripts de reenvío de notificaciones | I16: 0 | J16: 0 | K16: 0 | L16: 1 | M16: 0 | N16: 0 | O16: 0 | P16: 0 | Q16: 1 | AB16: =IFERROR(SUM(I16:AA16)/SUM(I17:AA17),1) -> 1
H17: ='PANEL DE CONTROL DISTRITAL'!H16 -> Solicitud de reevíos de scripts requeridos | I17: 0 | J17: 0 | K17: 0 | L17: 1 | M17: 0 | N17: 0 | O17: 0 | P17: 0 | Q17: 1
A18: 0
A19: ='PANEL DE CONTROL DISTRITAL'!A18 -> 4 | B19: ='PANEL DE CONTROL DISTRITAL'!B18 -> CONCILIACIÓN DE CREDENCIALES PARA VOTAR | C19: ='PANEL DE CONTROL DISTRITAL'!C18 -> Responsable de Módulo | D19: ='PANEL DE CONTROL DISTRITAL'!D18 -> Credenciales disponibles para entrega = | E19: ='PANEL DE CONTROL DISTRITAL'!E18 -> [(Credenciales recibidas - credenciales inconsistentes) / Credenciales recibidas] x 100 | F19: ='PANEL DE CONTROL DISTRITAL'!F18 -> Semanal (remesa) | G19: ='PANEL DE CONTROL DISTRITAL'!G18 -> 0.9 | H19: ='PANEL DE CONTROL DISTRITAL'!H18 -> Credenciales Recibidas - Credenciales inconsistentes | I19: 515 | J19: 520 | K19: 339 | L19: 463 | M19: 460 | N19: 407 | O19: 423 | P19: 396 | Q19: 370 | AB19: =IFERROR(SUM(I19:AA19)/SUM(I20:AA20),0) -> 1
H20: ='PANEL DE CONTROL DISTRITAL'!H19 -> Credenciales recibidas | I20: 515 | J20: 520 | K20: 339 | L20: 463 | M20: 460 | N20: 407 | O20: 423 | P20: 396 | Q20: 370
A22: ='PANEL DE CONTROL DISTRITAL'!A21 -> 5 | B22: ='PANEL DE CONTROL DISTRITAL'!B21 -> CONCILIACIÓN DE CREDENCIALES PARA VOTAR | C22: ='PANEL DE CONTROL DISTRITAL'!C21 -> Responsable de Módulo | D22: ='PANEL DE CONTROL DISTRITAL'!D21 -> Arqueo de Credenciales = | E22: ='PANEL DE CONTROL DISTRITAL'!E21 -> (Credenciales disponibles (físicas)/ Credenciales disponibles registradas en SIIRFE) x 100 | F22: ='PANEL DE CONTROL DISTRITAL'!F21 -> Semanal (remesa) | G22: ='PANEL DE CONTROL DISTRITAL'!G21 -> 1 | H22: ='PANEL DE CONTROL DISTRITAL'!H21 -> Credenciales disponibles (físicas) | I22: 640 | J22: 653 | K22: 508 | L22: 576 | M22: 608 | N22: 590 | O22: 550 | P22: 520 | Q22: 553 | AB22: =IFERROR(SUM(I22:AA22)/SUM(I23:AA23),0) -> 1
H23: ='PANEL DE CONTROL DISTRITAL'!H22 -> Credenciales disponibles registradas en SIIRFE | I23: 640 | J23: 653 | K23: 508 | L23: 576 | M23: 608 | N23: 590 | O23: 550 | P23: 520 | Q23: 553
A25: ='PANEL DE CONTROL DISTRITAL'!A24 -> 6 | B25: ='PANEL DE CONTROL DISTRITAL'!B24 -> ENTREGA DE LA CREDENCIAL PARA VOTAR | C25: ='PANEL DE CONTROL DISTRITAL'!C24 -> Operador de Equipo Tecnológico | D25: ='PANEL DE CONTROL DISTRITAL'!D24 -> Efectividad de entrega de CPV en MAC = | E25: ='PANEL DE CONTROL DISTRITAL'!E24 -> (Total de credenciales entregadas / Total de ciudadanas y ciudadanos que acuden al MAC a recoger su credencial) x 100 | F25: ='PANEL DE CONTROL DISTRITAL'!F24 -> Semanal (remesa) | G25: ='PANEL DE CONTROL DISTRITAL'!G24 -> 0.9 | H25: ='PANEL DE CONTROL DISTRITAL'!H24 -> Total de credenciales entregadas | I25: 460 | J25: 507 | K25: 484 | L25: 392 | M25: 428 | N25: 425 | O25: 463 | P25: 426 | Q25: 337 | AB25: =IFERROR(SUM(I25:AA25)/SUM(I26:AA26),0) -> 1
H26: ='PANEL DE CONTROL DISTRITAL'!H25 -> Total de ciudadanas y ciudadanos que acuden al MAC a recoger su credencial | I26: 460 | J26: 507 | K26: 484 | L26: 392 | M26: 428 | N26: 425 | O26: 463 | P26: 426 | Q26: 337
B27: *Registre el valor nominal solicitado en la celda, el resultado proporcional esta automatizado.
I29: Semaforización
J30: Valor que requiere atención y justificación en el apartado de observaciones
J31: Valor suficiente
J32: Valor esperado
B34: CUADRO DE OBSERVACIONES
B35: Descripción | H35: No conformidad

Sheet 151453
A1: ='PANEL DE CONTROL DISTRITAL'!A1:Q1 -> INSTITUTO NACIONAL ELECTORAL SISTEMA DE GESTIÓN DE LA CALIDAD ESTADO DE MÉXICO
D2: Distrito | E2: 14 | F2: Módulo | H2: 151453
A4: TABLERO DE CONTROL DE PROCESOS SUSTANTIVOS DEL SISTEMA DE GESTIÓN DE LA CALIDAD
A6: ='PANEL DE CONTROL DISTRITAL'!A6 -> Número | B6: ='PANEL DE CONTROL DISTRITAL'!B6 -> PROCESOS SUSTANTIVOS E INDICADORES | I6: SEMANA OPERATIVA | AB6: % AVANCE REGISTRADO
B7: ='PANEL DE CONTROL DISTRITAL'!B7 -> DESCRIPCIÓN | E7: ='PANEL DE CONTROL DISTRITAL'!E7 -> MEDICIÓN | I7: ='PANEL DE CONTROL DISTRITAL'!A5 -> CAMPAÑA ANUAL INTENSA 2025
B9: ='PANEL DE CONTROL DISTRITAL'!B8 -> Proceso | C9: ='PANEL DE CONTROL DISTRITAL'!C8 -> Dueño de Proceso | D9: ='PANEL DE CONTROL DISTRITAL'!D8 -> Indicador | E9: ='PANEL DE CONTROL DISTRITAL'!E8 -> Cálculo | F9: ='PANEL DE CONTROL DISTRITAL'!F8 -> Periodo | G9: ='PANEL DE CONTROL DISTRITAL'!G8 -> Estimado | H9: ='PANEL DE CONTROL DISTRITAL'!H8 -> Nominativo | I9: ='150151'!I9 -> 2025-41 | J9: ='150151'!J9 -> 2025-42 | K9: ='150151'!K9 -> 2025-43 | L9: ='150151'!L9 -> 2025-44 | M9: ='150151'!M9 -> 2025-45 | N9: ='150151'!N9 -> 2025-46 | O9: ='150151'!O9 -> 2025-47 | P9: ='150151'!P9 -> 2025-48 | ... Z9: ='150151'!Z9 -> 2025-58 | AA9: ='150151'!#REF! -> #REF!
A10: ='PANEL DE CONTROL DISTRITAL'!A9 -> 1 | B10: ='PANEL DE CONTROL DISTRITAL'!B9 -> ENTREVISTA | C10: ='PANEL DE CONTROL DISTRITAL'!C9 -> Auxiliar de Atención Ciudadana | D10: ='PANEL DE CONTROL DISTRITAL'!D9 -> Fichas requisitadas correctamente= | E10: ='PANEL DE CONTROL DISTRITAL'!E9 -> (Fichas requisitadas correctamente / Fichas revisadas en la muestra del 10%) x 100 | F10: ='PANEL DE CONTROL DISTRITAL'!F9 -> Semanal (remesa) | G10: ='PANEL DE CONTROL DISTRITAL'!G9 -> 0.9 | H10: ='PANEL DE CONTROL DISTRITAL'!H9 -> Fichas requistadas correctamente | I10: 19 | J10: 20 | K10: 6 | L10: 15 | M10: 19 | N10: 12 | O10: 18 | P10: 11 | Q10: 6 | AB10: =IFERROR(SUM(I10:AA10)/SUM(I11:AA11),0) -> 1
H11: ='PANEL DE CONTROL DISTRITAL'!H10 -> Fichas revisadas en la muestra del 10% | I11: 19 | J11: 20 | K11: 6 | L11: 15 | M11: 19 | N11: 12 | O11: 18 | P11: 11 | Q11: 6
A13: ='PANEL DE CONTROL DISTRITAL'!A12 -> 2 | B13: ='PANEL DE CONTROL DISTRITAL'!B12 -> TRÁMITE | C13: ='PANEL DE CONTROL DISTRITAL'!C12 -> Operador de Equipo Tecnológico | D13: ='PANEL DE CONTROL DISTRITAL'!D12 -> Trámites exitosos efectivos= | E13: ='PANEL DE CONTROL DISTRITAL'!E12 -> (Número de trámites exitosos / Número de trámites aplicados) x 100 | F13: ='PANEL DE CONTROL DISTRITAL'!F12 -> Semanal (remesa) | G13: ='PANEL DE CONTROL DISTRITAL'!G12 -> 0.9 | H13: ='PANEL DE CONTROL DISTRITAL'!H12 -> Número de trámites exitosos | I13: 188 | J13: 200 | K13: 53 | L13: 143 | M13: 184 | N13: 116 | O13: 176 | P13: 106 | Q13: 58 | AB13: =IFERROR(SUM(I13:AA13)/SUM(I14:AA14),0) -> 0.99918367
H14: ='PANEL DE CONTROL DISTRITAL'!H13 -> Número de trámites aplicados | I14: 188 | J14: 200 | K14: 53 | L14: 143 | M14: 184 | N14: 117 | O14: 176 | P14: 106 | Q14: 58
A16: ='PANEL DE CONTROL DISTRITAL'!A15 -> 3 | B16: ='PANEL DE CONTROL DISTRITAL'!B15 -> TRANSFERENCIA DE LA INFORMACIÓN | C16: ='PANEL DE CONTROL DISTRITAL'!C15 -> Responsable de Módulo | D16: ='PANEL DE CONTROL DISTRITAL'!D15 -> Reenvíos exitosos = | E16: ='PANEL DE CONTROL DISTRITAL'!E15 -> (Ejecución de los scripts de reenvío de notificaciones/Solicitud de reenvíos de scripts requeridos) x100 | F16: ='PANEL DE CONTROL DISTRITAL'!F15 -> Semanal (remesa) | G16: ='PANEL DE CONTROL DISTRITAL'!G15 -> 1 | H16: ='PANEL DE CONTROL DISTRITAL'!H15 -> Ejecución de los scripts de reenvío de notificaciones | I16: 0 | J16: 0 | K16: 0 | L16: 0 | M16: 0 | N16: 0 | O16: 0 | P16: 0 | Q16: 0 | AB16: =IFERROR(SUM(I16:AA16)/SUM(I17:AA17),1) -> 1
H17: ='PANEL DE CONTROL DISTRITAL'!H16 -> Solicitud de reevíos de scripts requeridos | I17: 0 | J17: 0 | K17: 0 | L17: 0 | M17: 0 | N17: 0 | O17: 0 | P17: 0 | Q17: 0
A19: ='PANEL DE CONTROL DISTRITAL'!A18 -> 4 | B19: ='PANEL DE CONTROL DISTRITAL'!B18 -> CONCILIACIÓN DE CREDENCIALES PARA VOTAR | C19: ='PANEL DE CONTROL DISTRITAL'!C18 -> Responsable de Módulo | D19: ='PANEL DE CONTROL DISTRITAL'!D18 -> Credenciales disponibles para entrega = | E19: ='PANEL DE CONTROL DISTRITAL'!E18 -> [(Credenciales recibidas - credenciales inconsistentes) / Credenciales recibidas] x 100 | F19: ='PANEL DE CONTROL DISTRITAL'!F18 -> Semanal (remesa) | G19: ='PANEL DE CONTROL DISTRITAL'!G18 -> 0.9 | H19: ='PANEL DE CONTROL DISTRITAL'!H18 -> Credenciales Recibidas - Credenciales inconsistentes | I19: 180 | J19: 115 | K19: 190 | L19: 51 | M19: 293 | N19: 35 | O19: 144 | P19: 211 | Q19: 56 | AB19: =IFERROR(SUM(I19:AA19)/SUM(I20:AA20),0) -> 1
H20: ='PANEL DE CONTROL DISTRITAL'!H19 -> Credenciales recibidas | I20: 180 | J20: 115 | K20: 190 | L20: 51 | M20: 293 | N20: 35 | O20: 144 | P20: 211 | Q20: 56
A22: ='PANEL DE CONTROL DISTRITAL'!A21 -> 5 | B22: ='PANEL DE CONTROL DISTRITAL'!B21 -> CONCILIACIÓN DE CREDENCIALES PARA VOTAR | C22: ='PANEL DE CONTROL DISTRITAL'!C21 -> Responsable de Módulo | D22: ='PANEL DE CONTROL DISTRITAL'!D21 -> Arqueo de Credenciales = | E22: ='PANEL DE CONTROL DISTRITAL'!E21 -> (Credenciales disponibles (físicas)/ Credenciales disponibles registradas en SIIRFE) x 100 | F22: ='PANEL DE CONTROL DISTRITAL'!F21 -> Semanal (remesa) | G22: ='PANEL DE CONTROL DISTRITAL'!G21 -> 1 | H22: ='PANEL DE CONTROL DISTRITAL'!H21 -> Credenciales disponibles (físicas) | I22: 261 | J22: 224 | K22: 319 | L22: 259 | M22: 305 | N22: 121 | O22: 199 | P22: 287 | Q22: 182 | AB22: =IFERROR(SUM(I22:AA22)/SUM(I23:AA23),0) -> 1
H23: ='PANEL DE CONTROL DISTRITAL'!H22 -> Credenciales disponibles registradas en SIIRFE | I23: 261 | J23: 224 | K23: 319 | L23: 259 | M23: 305 | N23: 121 | O23: 199 | P23: 287 | Q23: 182
A25: ='PANEL DE CONTROL DISTRITAL'!A24 -> 6 | B25: ='PANEL DE CONTROL DISTRITAL'!B24 -> ENTREGA DE LA CREDENCIAL PARA VOTAR | C25: ='PANEL DE CONTROL DISTRITAL'!C24 -> Operador de Equipo Tecnológico | D25: ='PANEL DE CONTROL DISTRITAL'!D24 -> Efectividad de entrega de CPV en MAC = | E25: ='PANEL DE CONTROL DISTRITAL'!E24 -> (Total de credenciales entregadas / Total de ciudadanas y ciudadanos que acuden al MAC a recoger su credencial) x 100 | F25: ='PANEL DE CONTROL DISTRITAL'!F24 -> Semanal (remesa) | G25: ='PANEL DE CONTROL DISTRITAL'!G24 -> 0.9 | H25: ='PANEL DE CONTROL DISTRITAL'!H24 -> Total de credenciales entregadas | I25: 152 | J25: 152 | K25: 95 | L25: 110 | M25: 247 | N25: 219 | O25: 66 | P25: 123 | Q25: 161 | AB25: =IFERROR(SUM(I25:AA25)/SUM(I26:AA26),0) -> 1
H26: ='PANEL DE CONTROL DISTRITAL'!H25 -> Total de ciudadanas y ciudadanos que acuden al MAC a recoger su credencial | I26: 152 | J26: 152 | K26: 95 | L26: 110 | M26: 247 | N26: 219 | O26: 66 | P26: 123 | Q26: 161
B27: *Registre el valor nominal solicitado en la celda, el resultado proporcional esta automatizado.
I29: Semaforización
J30: Valor que requiere atención y justificación en el apartado de observaciones
J31: Valor suficiente
J32: Valor esperado
B34: CUADRO DE OBSERVACIONES
B35: Descripción | H35: No conformidad

Sheet 151551
A1: ='PANEL DE CONTROL DISTRITAL'!A1:Q1 -> INSTITUTO NACIONAL ELECTORAL SISTEMA DE GESTIÓN DE LA CALIDAD ESTADO DE MÉXICO
D2: Distrito | E2: 15 | F2: Módulo | H2: 151551
A4: TABLERO DE CONTROL DE PROCESOS SUSTANTIVOS DEL SISTEMA DE GESTIÓN DE LA CALIDAD
A6: ='PANEL DE CONTROL DISTRITAL'!A6 -> Número | B6: ='PANEL DE CONTROL DISTRITAL'!B6 -> PROCESOS SUSTANTIVOS E INDICADORES | I6: SEMANA OPERATIVA | AB6: % AVANCE REGISTRADO
B7: ='PANEL DE CONTROL DISTRITAL'!B7 -> DESCRIPCIÓN | E7: ='PANEL DE CONTROL DISTRITAL'!E7 -> MEDICIÓN | I7: ='PANEL DE CONTROL DISTRITAL'!A5 -> CAMPAÑA ANUAL INTENSA 2025
B9: ='PANEL DE CONTROL DISTRITAL'!B8 -> Proceso | C9: ='PANEL DE CONTROL DISTRITAL'!C8 -> Dueño de Proceso | D9: ='PANEL DE CONTROL DISTRITAL'!D8 -> Indicador | E9: ='PANEL DE CONTROL DISTRITAL'!E8 -> Cálculo | F9: ='PANEL DE CONTROL DISTRITAL'!F8 -> Periodo | G9: ='PANEL DE CONTROL DISTRITAL'!G8 -> Estimado | H9: ='PANEL DE CONTROL DISTRITAL'!H8 -> Nominativo | I9: ='150151'!I9 -> 2025-41 | J9: ='150151'!J9 -> 2025-42 | K9: ='150151'!K9 -> 2025-43 | L9: ='150151'!L9 -> 2025-44 | M9: ='150151'!M9 -> 2025-45 | N9: ='150151'!N9 -> 2025-46 | O9: ='150151'!O9 -> 2025-47 | P9: ='150151'!P9 -> 2025-48 | ... Z9: ='150151'!Z9 -> 2025-58 | AA9: ='150151'!#REF! -> #REF!
A10: ='PANEL DE CONTROL DISTRITAL'!A9 -> 1 | B10: ='PANEL DE CONTROL DISTRITAL'!B9 -> ENTREVISTA | C10: ='PANEL DE CONTROL DISTRITAL'!C9 -> Auxiliar de Atención Ciudadana | D10: ='PANEL DE CONTROL DISTRITAL'!D9 -> Fichas requisitadas correctamente= | E10: ='PANEL DE CONTROL DISTRITAL'!E9 -> (Fichas requisitadas correctamente / Fichas revisadas en la muestra del 10%) x 100 | F10: ='PANEL DE CONTROL DISTRITAL'!F9 -> Semanal (remesa) | G10: ='PANEL DE CONTROL DISTRITAL'!G9 -> 0.9 | H10: ='PANEL DE CONTROL DISTRITAL'!H9 -> Fichas requistadas correctamente | I10: 113 | J10: 104 | K10: 77 | L10: 112 | M10: 100 | N10: 95 | O10: 98 | P10: 116 | Q10: 110 | AB10: =IFERROR(SUM(I10:AA10)/SUM(I11:AA11),0) -> 1
